Workbook
Name adósság: 0
Name beruh: #REF!
Name beruh: #REF!
Name beruh: #REF!
Name beruh: #REF!
Name beruh: #REF!
Name beruh: #REF!
Name beruh: #REF!
Name beruh: #REF!
Name beruh: #REF!
Name beruh: #REF!
Name beruh: #REF!
Name beruh: #REF!
Name beruházás: #REF!
Name beruházás: #REF!
Name beruházás: #REF!
Name beruházás: #REF!
Name beruházás: #REF!
Name beruházás: #REF!
Name beruházás: #REF!
Name beruházás: #REF!
Name beruházás: #REF!
Name beruházás: #REF!
Name beruházás: #REF!
Name beruházás: #REF!
Name cs8_sz_melleklet_Dim01: "="
Name cs8_sz_melleklet_Dim02: "="
Name cs8_sz_melleklet_Dim03: "="
Name cs8_sz_melleklet_Dim04: "="
Name cs8_sz_melleklet_Dim05: "="
Name cs8_sz_melleklet_Dim06: "="
Name cs8_sz_melleklet_Dim07: "="
Name cs8_sz_melleklet_Dim08: "="
Name cs8_sz_melleklet_Dim09: "="
Name cs8_sz_melleklet_Dim10: "="
Name cs8_sz_melleklet_Dim11: "="
Name cs8_sz_melleklet_Dim12: "="
Name cs8_sz_mellekletAnchor: #REF!
Name cs9_sz_melleklet_Dim01: "="
Name cs9_sz_melleklet_Dim02: "="
Name cs9_sz_melleklet_Dim03: "="
Name cs9_sz_melleklet_Dim04: "="
Name cs9_sz_melleklet_Dim05: "="
Name cs9_sz_melleklet_Dim06: "="
Name cs9_sz_melleklet_Dim07: "="
Name cs9_sz_melleklet_Dim08: "="
Name cs9_sz_melleklet_Dim09: "="
Name cs9_sz_melleklet_Dim10: "="
Name cs9_sz_melleklet_Dim11: "="
Name cs9_sz_melleklet_Dim12: "="
Name cs9_sz_mellekletAnchor: #REF!
Name csAlapy_rendeleti_tabla_excel_Dim01: "="
Name csAlapy_rendeleti_tabla_excel_Dim02: "="
Name csAlapy_rendeleti_tabla_excel_Dim03: "="
Name csAlapy_rendeleti_tabla_excel_Dim04: "="
Name csAlapy_rendeleti_tabla_excel_Dim05: "="
Name csAlapy_rendeleti_tabla_excel_Dim06: "="
Name csAlapy_rendeleti_tabla_excel_Dim07: "="
Name csAlapy_rendeleti_tabla_excel_Dim08: "="
Name csAlapy_rendeleti_tabla_excel_Dim09: "="

Sheet 1a.mell 
A1: 1/A melléklet
A2: Működési-felhalmozási bevételek-kiadások mérlegszerű bemutatása
J3: eFt
A4: Bevétel | B4: 2024. évi előirányzat 3/2024. | C4: 2024. évi előirányzat 10/2024. | D4: 2024. évi előirányzat 14/2024. | E4: 2024. évi előirányzat /2024. | F4: Kiadások | G4: 2024. évi előirányzat 3/2024. | H4: 2024. évi előirányzat 10/2024. | I4: 2024. évi előirányzat 14/2024. | J4: 2024. évi előirányzat /2024.
F6: Személyi juttatások | G6: =SUM('1c.mell '!C130) -> 7338142 | H6: =SUM('1c.mell '!D130) -> 9366942 | I6: =SUM('1c.mell '!E130) -> 9481249 | J6: =SUM('1c.mell '!F130) -> 9657001
A7: Önkormányzatok működési támogatásai | B7: =SUM('1b.mell '!C208) -> 3544633 | C7: =SUM('1b.mell '!D208) -> 4270289 | D7: =SUM('1b.mell '!E208) -> 4379771 | E7: =SUM('1b.mell '!F208) -> 4424851 | F7: Munkaadókat terh. járulékok és szociális hozzájárulási adó | G7: =SUM('1c.mell '!C131) -> 1100140 | H7: =SUM('1c.mell '!D131) -> 1378426 | I7: =SUM('1c.mell '!E131) -> 1396438 | J7: =SUM('1c.mell '!F131) -> 1394187
A8: Elvonások és befizetések bevételei | B8: =SUM('1b.mell '!C17) -> 0 | C8: =SUM('1b.mell '!D17) -> 0 | D8: =SUM('1b.mell '!E17) -> 0 | E8: =SUM('1b.mell '!F17) -> 0 | F8: Dologi kiadások | G8: =SUM('1c.mell '!C132) -> 8366094 | H8: =SUM('1c.mell '!D132) -> 10034138 | I8: =SUM('1c.mell '!E132) -> 10362907 | J8: =SUM('1c.mell '!F132) -> 10568941
A9: Egyéb működési célú tám.bev. Áh-n belülről | B9: =SUM('1b.mell '!C211) -> 0 | C9: =SUM('1b.mell '!D211) -> 2041968 | D9: =SUM('1b.mell '!E211) -> 2045920 | E9: =SUM('1b.mell '!F211) -> 2058831 | F9: Ellátottak pénzbeli juttatásai | G9: =SUM('1c.mell '!C133) -> 184345 | H9: =SUM('1c.mell '!D133) -> 191858 | I9: =SUM('1c.mell '!E133) -> 183358 | J9: =SUM('1c.mell '!F133) -> 183358
A10: "Egészséges Budapest Program" Integr. Alapell. Járób. szakell. Központ megv. | B10: =SUM('1b.mell '!C210) -> 0 | C10: =SUM('1b.mell '!D210) -> 0 | D10: =SUM('1b.mell '!E210) -> 0 | E10: =SUM('1b.mell '!F210) -> 0
A11: Egyéb műk. célú támog.bevételei Áh-n belülről - EU-s pály. KEHOP-1.2.1-18-2018-00006 | B11: =SUM('1b.mell '!C212) -> 0 | C11: =SUM('1b.mell '!D212) -> 0 | D11: =SUM('1b.mell '!E212) -> 0 | E11: =SUM('1b.mell '!F212) -> 0 | F11: Egyéb működési célú kiadások | G11: =SUM('1c.mell '!C134) -> 3607711 | H11: =SUM('1c.mell '!D134) -> 4051779 | I11: =SUM('1c.mell '!E134) -> 4008999 | J11: =SUM('1c.mell '!F134) -> 4072329
A12: Egyéb műk. célú támog.bevételei Áh-n belülről - VEKOP-7 3 4-17-2017-00011 | B12: =SUM('1b.mell '!C213) -> 0 | C12: =SUM('1b.mell '!D213) -> 0 | D12: =SUM('1b.mell '!E213) -> 750 | E12: =SUM('1b.mell '!F213) -> 750 | F12: ebből: Általános tartalék | G12: ='6.mell. '!C12 -> 16404 | H12: ='6.mell. '!D12 -> 50000 | I12: ='6.mell. '!E12 -> 42020 | J12: ='6.mell. '!F12 -> 50000
F13: Céltartalék 6. sz. melléklet szerint | G13: ='6.mell. '!C14 -> 27583 | H13: ='6.mell. '!D20+'6.mell. '!D16 -> 76173 | I13: ='6.mell. '!E20+'6.mell. '!E16 -> 56173 | J13: ='6.mell. '!F20+'6.mell. '!F16 -> 56173
A14: Működési célú támogatások Államháztartáson belülről összesen | B14: =SUM(B7:B13) -> 3544633 | C14: =SUM(C7:C13) -> 6312257 | D14: =SUM(D7:D13) -> 6426441 | E14: =SUM(E7:E13) -> 6484432
A15: Vagyoni típusú adók (Helyi adó) | B15: =SUM('1b.mell '!C215) -> 5377421 | C15: =SUM('1b.mell '!D215) -> 5377421 | D15: =SUM('1b.mell '!E215) -> 5377421 | E15: =SUM('1b.mell '!F215) -> 5377421
A16: Termékek és szolgáltatások adói | B16: =SUM('1b.mell '!C216) -> 9857538 | C16: =SUM('1b.mell '!D216) -> 9857538 | D16: =SUM('1b.mell '!E216) -> 9857538 | E16: =SUM('1b.mell '!F216) -> 9933538
A17: Egyéb közhatalmi bevételek | B17: =SUM('1b.mell '!C217) -> 899172 | C17: =SUM('1b.mell '!D217) -> 899172 | D17: =SUM('1b.mell '!E217) -> 900952 | E17: =SUM('1b.mell '!F217) -> 900952
A18: Közhatalmi bevételek összesen | B18: =SUM(B15:B17) -> 16134131 | C18: =SUM(C15:C17) -> 16134131 | D18: =SUM(D15:D17) -> 16135911 | E18: =SUM(E15:E17) -> 16211911
A19: Készletértékesítés ellenértéke | B19: =SUM('1b.mell '!C219) -> 0 | C19: =SUM('1b.mell '!D219) -> 0 | D19: =SUM('1b.mell '!E219) -> 0 | E19: =SUM('1b.mell '!F219) -> 21
A20: Szolgáltatások ellenértéke | B20: =SUM('1b.mell '!C220) -> 2030915 | C20: =SUM('1b.mell '!D220) -> 2167183 | D20: =SUM('1b.mell '!E220) -> 2183409 | E20: =SUM('1b.mell '!F220) -> 2198627
A21: Közvetített szolgáltatások ellenértéke | B21: =SUM('1b.mell '!C221) -> 202736 | C21: =SUM('1b.mell '!D221) -> 225736 | D21: =SUM('1b.mell '!E221) -> 225736 | E21: =SUM('1b.mell '!F221) -> 231185
A22: Tulajdonosi bevétel | B22: =SUM('1b.mell '!C222) -> 0 | C22: =SUM('1b.mell '!D222) -> 0 | D22: =SUM('1b.mell '!E222) -> 0 | E22: =SUM('1b.mell '!F222) -> 0
A23: Ellátási díjak | B23: =SUM('1b.mell '!C223) -> 193454 | C23: =SUM('1b.mell '!D223) -> 193454 | D23: =SUM('1b.mell '!E223) -> 193454 | E23: =SUM('1b.mell '!F223) -> 195253
A24: Kiszámlázott általános forgalmi adó | B24: =SUM('1b.mell '!C224) -> 652457 | C24: =SUM('1b.mell '!D224) -> 665912 | D24: =SUM('1b.mell '!E224) -> 670293 | E24: =SUM('1b.mell '!F224) -> 674844
A25: Általános forgalmi adó visszatérítése | B25: =SUM('1b.mell '!C225) -> 14000 | C25: =SUM('1b.mell '!D225) -> 14000 | D25: =SUM('1b.mell '!E225) -> 14000 | E25: =SUM('1b.mell '!F225) -> 21944
A26: Kamatbevételek és más nyereségjellegű bevételek | B26: =SUM('1b.mell '!C226) -> 250000 | C26: =SUM('1b.mell '!D226) -> 271532 | D26: =SUM('1b.mell '!E226) -> 271532 | E26: =SUM('1b.mell '!F226) -> 271532
A27: Részesedések értékesítéséhez kapcsolódó realizált nyereség
A28: Egyéb működési bevételek | B28: =SUM('1b.mell '!C227) -> 55266 | C28: =SUM('1b.mell '!D227) -> 56266 | D28: =SUM('1b.mell '!E227) -> 58776 | E28: =SUM('1b.mell '!F227) -> 77077
A29: Működési bevételek összesen | B29: =SUM(B19:B28) -> 3398828 | C29: =SUM(C19:C28) -> 3594083 | D29: =SUM(D19:D28) -> 3617200 | E29: =SUM(E19:E28) -> 3670483
A30: Egyéb működési célú átvett pénzeszköz | B30: =SUM('1b.mell '!C229) -> 0 | C30: =SUM('1b.mell '!D229) -> 0 | D30: =SUM('1b.mell '!E229) -> 46745 | E30: =SUM('1b.mell '!F229) -> 46745
A31: Működési célú átvett pénzeszközök összesen | B31: =SUM(B30) -> 0 | C31: =SUM(C30) -> 0 | D31: =SUM(D30) -> 46745 | E31: =SUM(E30) -> 46745
A32: Működési költségvetési bevételek mindösszesen | B32: =SUM(B31,B29,B18,B14) -> 23077592 | C32: =SUM(C31,C29,C18,C14) -> 26040471 | D32: =SUM(D31,D29,D18,D14) -> 26226297 | E32: =SUM(E31,E29,E18,E14) -> 26413571 | F32: Működési költségvetési kiadások mindösszesen | G32: =SUM(G6:G11) -> 20596432 | H32: =SUM(H6:H11) -> 25023143 | I32: =SUM(I6:I11) -> 25432951 | J32: =SUM(J6:J11) -> 25875816
A33: Felhalmozási célú önkormányzati támogatások | B33: =SUM('1b.mell '!C232) -> 0 | C33: =SUM('1b.mell '!D232) -> 0 | D33: =SUM('1b.mell '!E232) -> 0 | E33: =SUM('1b.mell '!F232) -> 0
A34: "Egészséges Budapest Program" Integrélt Alapell. Járób. szakell. Közp. megv. | B34: =SUM('1b.mell '!C233) -> 0 | C34: =SUM('1b.mell '!D233) -> 0 | D34: =SUM('1b.mell '!E233) -> 0 | E34: =SUM('1b.mell '!F233) -> 0
A35: Ferencvárosi lakótömb rehabilitációjának I. üteme | B35: =SUM('1b.mell '!C234) -> 0 | C35: =SUM('1b.mell '!D234) -> 0 | D35: =SUM('1b.mell '!E234) -> 0 | E35: =SUM('1b.mell '!F234) -> 0 | F35: Beruházások | G35: =SUM('1c.mell '!C137) -> 3875676 | H35: =SUM('1c.mell '!D137) -> 4351206 | I35: =SUM('1c.mell '!E137) -> 4184467 | J35: =SUM('1c.mell '!F137) -> 4133787
A36: Egyéb felhalmozási célú támog.bevételei ÁH-n belülről - Fővárosi Önkormányzattól | B36: =SUM('1b.mell '!C235) -> 0 | C36: =SUM('1b.mell '!D235) -> 0 | D36: =SUM('1b.mell '!E235) -> 0 | E36: =SUM('1b.mell '!F235) -> 6638 | F36: Felújítások | G36: =SUM('1c.mell '!C138) -> 3203538 | H36: =SUM('1c.mell '!D138) -> 5380131 | I36: =SUM('1c.mell '!E138) -> 5285093 | J36: =SUM('1c.mell '!F138) -> 5253782
A37: Egyéb felhalmozási célú támog.bevételei ÁH-n belülről | B37: =SUM('1b.mell '!C236) -> 0 | C37: =SUM('1b.mell '!D236) -> 0 | D37: =SUM('1b.mell '!E236) -> 7987 | E37: =SUM('1b.mell '!F236) -> 7987 | F37: Egyéb felhalmozási célú kiadások | G37: =SUM('1c.mell '!C139) -> 1402392 | H37: =SUM('1c.mell '!D139) -> 3330632 | I37: =SUM('1c.mell '!E139) -> 3376414 | J37: =SUM('1c.mell '!F139) -> 3365202
A38: Felhalmozási célú támogatások Államháztartáson belülről összesen | B38: =SUM(B33:B37) -> 0 | C38: =SUM(C33:C37) -> 0 | D38: =SUM(D33:D37) -> 7987 | E38: =SUM(E33:E37) -> 14625
A39: Ingatlanok értékesítése | B39: =SUM('1b.mell '!C238) -> 180000 | C39: =SUM('1b.mell '!D238) -> 180000 | D39: =SUM('1b.mell '!E238) -> 180000 | E39: =SUM('1b.mell '!F238) -> 335000
A40: Egyéb tárgyi eszköz értékesítése | B40: =SUM('1b.mell '!C239) -> 0 | C40: =SUM('1b.mell '!D239) -> 0 | D40: =SUM('1b.mell '!E239) -> 0 | E40: =SUM('1b.mell '!F239) -> 750
A41: Részesedések értékesítése, részesedések megszűnéséhez kapcsolódó bevételek
A42: Felhalmozási bevételek összesen | B42: =SUM(B39:B40) -> 180000 | C42: =SUM(C39:C40) -> 180000 | D42: =SUM(D39:D40) -> 180000 | E42: =SUM(E39:E40) -> 335750
A43: Felhalmozási célú visszatérítendő tám. kölcsönök visszatérülései államháztartáson kívülről | B43: =SUM('1b.mell '!C241) -> 19000 | C43: =SUM('1b.mell '!D241) -> 19000 | D43: =SUM('1b.mell '!E241) -> 19000 | E43: =SUM('1b.mell '!F241) -> 19000
A44: Egyéb felhalmozási célú átvett pénzeszközök | B44: =SUM('1b.mell '!C242+'1b.mell '!C243) -> 400000 | C44: =SUM('1b.mell '!D242+'1b.mell '!D243) -> 500000 | D44: =SUM('1b.mell '!E242+'1b.mell '!E243) -> 500000 | E44: =SUM('1b.mell '!F242+'1b.mell '!F243) -> 500000
A45: Felhalmozási célú átvett pénzeszközök összesen | B45: =SUM(B43:B44) -> 419000 | C45: =SUM(C43:C44) -> 519000 | D45: =SUM(D43:D44) -> 519000 | E45: =SUM(E43:E44) -> 519000
A46: Felhalmozási költségvetési bevételek mindösszesen | B46: =SUM(B45,B42,B38) -> 599000 | C46: =SUM(C45,C42,C38) -> 699000 | D46: =SUM(D45,D42,D38) -> 706987 | E46: =SUM(E45,E42,E38) -> 869375 | F46: Felhalmozási költségvetési kiadások mindösszesen | G46: =SUM(G33:G37) -> 8481606 | H46: =SUM(H33:H37) -> 13061969 | I46: =SUM(I33:I37) -> 12845974 | J46: =SUM(J33:J37) -> 12752771
A47: Előző év költségvetési maradványának igénybevétele | B47: =SUM('1b.mell '!C246) -> 131554 | C47: =SUM('1b.mell '!D246) -> 4186004 | D47: =SUM('1b.mell '!E246) -> 4186004 | E47: =SUM('1b.mell '!F246) -> 4186004 | F47: Államháztartáson belüli megelőlegezések tárgyéven belül | G47: ='1c.mell '!C141 -> 0 | H47: ='1c.mell '!D141 -> 294647 | I47: ='1c.mell '!E141 -> 898064 | J47: ='1c.mell '!F141 -> 1053866
A48: Államháztartáson belüli megelőlegezések tárgyéven belül | B48: =SUM('1b.mell '!C248) -> 0 | C48: =SUM('1b.mell '!D248) -> 294647 | D48: =SUM('1b.mell '!E248) -> 898064 | E48: =SUM('1b.mell '!F248) -> 1053866 | F48: Államháztartáson belüli megelőlegezések visszafizetése | G48: =SUM('1c.mell '!C143) -> 131554 | H48: =SUM('1c.mell '!D143) -> 131554 | I48: =SUM('1c.mell '!E143) -> 131554 | J48: =SUM('1c.mell '!F143) -> 131554
A49: Irányító szervi támogatás | B49: =SUM('1b.mell '!C247) -> 11090999 | C49: =SUM('1b.mell '!D247) -> 12386484 | D49: =SUM('1b.mell '!E247) -> 12476121 | E49: =SUM('1b.mell '!F247) -> 12615766 | F49: Irányító szervi támogatások folyósítása | G49: =SUM('1c.mell '!C142) -> 11090999 | H49: =SUM('1c.mell '!D142) -> 12386484 | I49: =SUM('1c.mell '!E142) -> 12476121 | J49: =SUM('1c.mell '!F142) -> 12615766
A50: Áh-n nelüli megelőlegezések tárgyéven túl | F50: Lekötött betétek
A51: Vállalkozási maradvány | B51: ='1b.mell '!C249 -> 0 | C51: ='1b.mell '!D249 -> 0 | D51: ='1b.mell '!E249 -> 0 | E51: ='1b.mell '!F249 -> 0
A52: Lekötött betétek
A53: Működési finanszírozási bevételek | B53: =SUM(B47:B52) -> 11222553 | C53: =SUM(C47:C52) -> 16867135 | D53: =SUM(D47:D52) -> 17560189 | E53: =SUM(E47:E52) -> 17855636 | F53: Működési finanszírozási kiadások | G53: =SUM(G47:G50) -> 11222553 | H53: =SUM(H47:H50) -> 12812685 | I53: =SUM(I47:I50) -> 13505739 | J53: =SUM(J47:J50) -> 13801186
A54: Előző év költségvetési maradványának igénybevétele | B54: =SUM('1b.mell '!C251) -> 5413446 | C54: =SUM('1b.mell '!D251) -> 7303191 | D54: =SUM('1b.mell '!E251) -> 7303191 | E54: =SUM('1b.mell '!F251) -> 7303191 | F54: Hitel-, kölcsöntörlesztés államháztartáson kívülre | G54: =SUM('1c.mell '!C145) -> 12000 | H54: =SUM('1c.mell '!D145) -> 12000 | I54: =SUM('1c.mell '!E145) -> 12000 | J54: =SUM('1c.mell '!F145) -> 12000
A55: Felhalmozási finanszírozási bevételek összesen | B55: =SUM(B54:B54) -> 5413446 | C55: =SUM(C54:C54) -> 7303191 | D55: =SUM(D54:D54) -> 7303191 | E55: =SUM(E54:E54) -> 7303191 | F55: Felhalmozási finanszírozási kiadások mindösszesen | G55: =SUM(G54:G54) -> 12000 | H55: =SUM(H54:H54) -> 12000 | I55: =SUM(I54:I54) -> 12000 | J55: =SUM(J54:J54) -> 12000
A57: BEVÉTELEK MINDÖSSZ.:(Irányítószervi támogatás, lekötött betét nélkül) | B57: =SUM(B32+B46+B54+B47+B50+B52+B48+B51) -> 29221592 | C57: =SUM(C32+C46+C54+C47+C50+C52+C48+C51) -> 38523313 | D57: =SUM(D32+D46+D54+D47+D50+D52+D48+D51) -> 39320543 | E57: =SUM(E32+E46+E54+E47+E50+E52+E48+E51) -> 39826007 | F57: KIADÁSOK MINDÖSSZ.:(Irányítószervi tám., lekötött bet. nélkül) | G57: =SUM(G32+G46+G54+G48+G50)+G47 -> 29221592 | H57: =SUM(H32+H46+H54+H48+H50)+H47 -> 38523313 | I57: =SUM(I32+I46+I54+I48+I50)+I47 -> 39320543 | J57: =SUM(J32+J46+J54+J48+J50)+J47 -> 39826007

Sheet 1b.mell 
A1: 1/B. sz. melléklet
A2: Az önkormányzat 2024. évi bevételei
G4: (eFt-ban)
A5: Soszám | B5: Bevételek | C5: 2024. évi előirányzat 3/2024. | D5: 2024. évi előirányzat 10/2024. | E5: 2024. évi előirányzat 14/2024. | F5: 2024. évi előirányzat /2024. | G5: Index 6./5.
A7: 1. | B7: 2. | C7: 3. | D7: 4. | E7: 5. | F7: 6. | G7: 7.
B8: I. Helyi Önkormányzat bevételei
A10: 1010 | B10: Önkormányzatok működési támogatásai | C10: =SUM(C11:C16) -> 3544633 | D10: =SUM(D11:D16) -> 4270289 | E10: =SUM(E11:E16) -> 4379771 | F10: =SUM(F11:F16) -> 4424851 | G10: =SUM(F10/E10) -> 1.0102928
A11: 1011 | B11: - Helyi önkormányzatok működésének általános támogatása | C11: =837843+66853 -> 904696 | D11: =904696 -> 904696 | E11: =904696 -> 904696 | F11: =904696 -> 904696 | G11: =SUM(F11/E11) -> 1
A12: 1012 | B12: - Települési önkormányzatok egyes köznevelési feladatainak támogatása | C12: =1155855+102932 -> 1258787 | D12: =1258787+268412 -> 1527199 | E12: =1527199+17230 -> 1544429 | F12: =1544429+769 -> 1545198 | G12: =SUM(F12/E12) -> 1.0004979
A13: 1013 | B13: - Települési önkormányzatok szociális, gyermekjóléti és gyermekétkeztési feladatainak támogatása | C13: =1121894+228945 -> 1350839 | D13: =1350839+26911+60831 -> 1438581 | E13: =1438581+91817 -> 1530398 | F13: =1530398+44311 -> 1574709 | G13: =SUM(F13/E13) -> 1.0289539
A14: 1014 | B14: - Települési önkormányzatok kulturális feladatainak támogatása | C14: 30311 | D14: =30311+313826+30377 -> 374514 | E14: =374514+435 -> 374949 | F14: =374514+435 -> 374949 | G14: =SUM(F14/E14) -> 1
A15: 1015 | B15: - Működési célú költségvetési támogatások és kiegészítő támogatások
A16: 1016 | B16: - Elszámolásból származó bevételek | C16: 0 | D16: 25299 | E16: 25299 | F16: 25299 | G16: =SUM(F16/E16) -> 1
A17: 1020 | B17: Elvonások és befizetések bevételei
A18: 1029 | B18: "Egészséges Budapest Program" Integrélt Alapell. Járóbeteg szakell. Központ megv. | C18: 0 | D18: 0 | E18: 0 | F18: 0
A19: 1030 | B19: Egyéb működési célú támogatások bevételei államháztartáson belülről | C19: 0 | D19: 10483 | E19: =10483+2652 -> 13135 | F19: =10483+2652 -> 13135 | G19: =SUM(F19/E19) -> 1
A20: 1031 | B20: Egyéb műk. célú támog.bevételei Áh-n belülről - EU-s pályázat KEHOP-1.2.1-18-2018-00006
A21: 1032 | B21: VEKOP-7 3 4-17-2017-00011 József Attila | C21: 0 | D21: 0 | E21: 750 | F21: 750 | G21: =SUM(F21/E21) -> 1
B22: Működési célú támogatások államháztartáson belülről összesen | C22: =SUM(C10+C21+C20+C18+C19) -> 3544633 | D22: =SUM(D10+D21+D20+D18+D19) -> 4280772 | E22: =SUM(E10+E21+E20+E18+E19) -> 4393656 | F22: =SUM(F10+F21+F20+F18+F19) -> 4438736 | G22: =SUM(F22/E22) -> 1.0102602
A24: 1040 | B24: Vagyoni típusú adók (Helyi adó) | C24: =SUM(C25:C26) -> 5377421 | D24: =SUM(D25:D26) -> 5377421 | E24: =SUM(E25:E26) -> 5377421 | F24: =SUM(F25:F26) -> 5377421 | G24: =SUM(F24/E24) -> 1
A25: 1041 | B25: Építményadó | C25: 4638980 | D25: 4638980 | E25: 4638980 | F25: 4638980 | G25: =SUM(F25/E25) -> 1
A26: 1042 | B26: Telekadó | C26: 738441 | D26: 738441 | E26: 738441 | F26: 738441 | G26: =SUM(F26/E26) -> 1
A27: 1050 | B27: Termékek és szolgáltatások adói | C27: =SUM(C28:C30) -> 9857538 | D27: =SUM(D28:D30) -> 9857538 | E27: =SUM(E28:E30) -> 9857538 | F27: =SUM(F28:F30) -> 9933538 | G27: =SUM(F27/E27) -> 1.0077098
A28: 1051 | B28: Iparűzési adó | C28: =9340000+17538 -> 9357538 | D28: =9340000+17538 -> 9357538 | E28: =9340000+17538 -> 9357538 | F28: =9340000+17538 -> 9357538 | G28: =SUM(F28/E28) -> 1
A29: 1052 | B29: Belföldi gépjárművek adójának a helyi önkormányzatot megillető része
A30: 1053 | B30: Idegenforgalmi adó | C30: 500000 | D30: 500000 | E30: 500000 | F30: =500000+76000 -> 576000 | G30: =SUM(F30/E30) -> 1.152
A31: 1070 | B31: Egyéb közhatalmi bevételek | C31: =SUM(C32:C42) -> 859172 | D31: =SUM(D32:D42) -> 859172 | E31: =SUM(E32:E42) -> 860952 | F31: =SUM(F32:F42) -> 860952 | G31: =SUM(F31/E31) -> 1
A32: 1071 | B32: Igazgatásszolgáltatási díj | C32: 400 | D32: 400 | E32: 400 | F32: 400 | G32: =SUM(F32/E32) -> 1
A33: 1072 | B33: Talajterhelési díj | E33: 1780 | F33: 1780 | G33: =SUM(F33/E33) -> 1
A34: 1073 | B34: Környezetvédelmi bírság
A35: 1074 | B35: Szabálysértési bírság
A36: 1075 | B36: Helyi adó pótlék, bírság | C36: 22000 | D36: 22000 | E36: 22000 | F36: 22000 | G36: =SUM(F36/E36) -> 1
A37: 1076 | B37: Iparűzési adó pótlék, bírság | C37: =12116-460+972 -> 12628 | D37: =12116-460+972 -> 12628 | E37: =12116-460+972 -> 12628 | F37: =12116-460+972 -> 12628 | G37: =SUM(F37/E37) -> 1
A38: 1077 | B38: Parkolási bírság, pótdíj | C38: 557844 | D38: 557844 | E38: 557844 | F38: 557844 | G38: =SUM(F38/E38) -> 1
A39: 1078 | B39: Egyéb bírságból származó bevétel | C39: 1300 | D39: 1300 | E39: 1300 | F39: 1300 | G39: =SUM(F39/E39) -> 1
A40: 1079 | B40: Közigazgatási bírság | C40: 15000 | D40: 15000 | E40: 15000 | F40: 15000 | G40: =SUM(F40/E40) -> 1
A41: 1081 | B41: Közterületfoglalási díj | C41: 250000 | D41: 250000 | E41: 250000 | F41: 250000 | G41: =SUM(F41/E41) -> 1
A42: 1082 | B42: Kerékbilincs levétele
B43: Közhatalmi bevételek összesen | C43: =SUM(C24+C27+C31) -> 16094131 | D43: =SUM(D24+D27+D31) -> 16094131 | E43: =SUM(E24+E27+E31) -> 16095911 | F43: =SUM(F24+F27+F31) -> 16171911 | G43: =SUM(F43/E43) -> 1.0047217
A45: 1090 | B45: Szolgáltatások ellenértéke | C45: =SUM(C46:C54) -> 1920939 | D45: =SUM(D46:D54) -> 1920939 | E45: =SUM(E46:E54) -> 1920939 | F45: =SUM(F46:F54) -> 1920939 | G45: =SUM(F45/E45) -> 1
A46: 1091 | B46: - Közterületfoglalási díj
A47: 1092 | B47: - Parkolási díj, ügyviteli költség | C47: 1157439 | D47: 1157439 | E47: 1157439 | F47: 1157439 | G47: =SUM(F47/E47) -> 1
A48: 1093 | B48: - Egyéb szolgáltatás | C48: 8000 | D48: 8000 | E48: 8000 | F48: 8000 | G48: =SUM(F48/E48) -> 1
A49: 1094 | B49: - Bérleti díjak | C49: 30000 | D49: 30000 | E49: 30000 | F49: 30000 | G49: =SUM(F49/E49) -> 1
A50: 1095 | B50: - Lakbér bevételek | C50: 350000 | D50: 350000 | E50: 350000 | F50: 350000 | G50: =SUM(F50/E50) -> 1
A51: 1096 | B51: - Helyiség bérleti díj | C51: 350000 | D51: 350000 | E51: 350000 | F51: 350000 | G51: =SUM(F51/E51) -> 1
A52: 1097 | B52: - Helyiség megszerzési díj
A53: 1098 | B53: - Nyomvonal létesítés kártalanítás | C53: 500 | D53: 500 | E53: 500 | F53: 500 | G53: =SUM(F53/E53) -> 1
A54: 1099 | B54: - Munkásszálló bérleti díj | C54: 25000 | D54: 25000 | E54: 25000 | F54: 25000 | G54: =SUM(F54/E54) -> 1
A55: 1100 | B55: Közvetített szolgáltatások ellenértéke | C55: =SUM(C56:C58) -> 178900 | D55: =SUM(D56:D58) -> 178900 | E55: =SUM(E56:E58) -> 178900 | F55: =SUM(F56:F58) -> 178900 | G55: =SUM(F55/E55) -> 1
A56: 1101 | B56: - Önkormányzat közvetített szolgáltatások ellenértéke | C56: 10000 | D56: 10000 | E56: 10000 | F56: 10000 | G56: =SUM(F56/E56) -> 1
A57: 1102 | B57: - Vagyonkezeléssel kapcsolatos közvetített szolgáltatások ellenértéke | C57: 100000 | D57: 100000 | E57: 100000 | F57: 100000 | G57: =SUM(F57/E57) -> 1
A58: 1103 | B58: - Parkolással kapcsolatos közvetített szolgáltatások ellenértéke | C58: 68900 | D58: 68900 | E58: 68900 | F58: 68900 | G58: =SUM(F58/E58) -> 1
A59: 1105 | B59: Tulajdonosi bevételek
A60: 1110 | B60: Ellátási díjak
A61: 1120 | B61: Kiszámlázott általános forgalmi adó | C61: =SUM(C62:C64) -> 566956 | D61: =SUM(D62:D64) -> 566956 | E61: =SUM(E62:E64) -> 566956 | F61: =SUM(F62:F64) -> 566956 | G61: =SUM(F61/E61) -> 1
A62: 1121 | B62: - Önkormányzat ÁFA | C62: 19845 | D62: 19845 | E62: 19845 | F62: 19845 | G62: =SUM(F62/E62) -> 1
A63: 1122 | B63: - Vagyonkezelési és városfejlesztési feladatokkal kapcsolatos ÁFA | C63: 216000 | D63: 216000 | E63: 216000 | F63: 216000 | G63: =SUM(F63/E63) -> 1
A64: 1123 | B64: - Parkolási feladatokkal kapcsolatos ÁFA | C64: 331111 | D64: 331111 | E64: 331111 | F64: 331111 | G64: =SUM(F64/E64) -> 1
A65: 1130 | B65: Általános forgalmi adó visszatérítése
A66: 1140 | B66: Kamatbevételek és más nyereségjellegű bevételek | C66: 250000 | D66: =D67 -> 271332 | E66: =E67 -> 271332 | F66: =F67 -> 271332 | G66: =SUM(F66/E66) -> 1
A67: 1141 | B67: - Önkormányzat kamat | C67: 250000 | D67: =250000+21332 -> 271332 | E67: =250000+21332 -> 271332 | F67: =250000+21332 -> 271332 | G67: =SUM(F67/E67) -> 1
A68: 1150 | B68: Egyéb működési bevételek | C68: 10000 | D68: 10000 | E68: 10000 | F68: 10000 | G68: =SUM(F68/E68) -> 1
A69: 1151 | B69: Egyéb működési bevételek - Parkolási feladatokkal kapcsolatban | C69: 28816 | D69: 28816 | E69: 28816 | F69: 28816 | G69: =SUM(F69/E69) -> 1
B70: Működési bevételek összesen | C70: =SUM(C66+C68+C65+C61+C60+C55+C45+C59+C69) -> 2955611 | D70: =SUM(D66+D68+D65+D61+D60+D55+D45+D59+D69) -> 2976943 | E70: =SUM(E66+E68+E65+E61+E60+E55+E45+E59+E69) -> 2976943 | F70: =SUM(F66+F68+F65+F61+F60+F55+F45+F59+F69) -> 2976943 | G70: =SUM(F70/E70) -> 1
A72: 1160 | B72: Egyéb működési célú átvett pénzeszköz
A73: 1161 | B73: "Krízis Alap" bevétel
A74: 1162 | B74: NEXT LEVEL Parking pályázat | E74: 17820 | F74: 17820 | G74: =SUM(F74/E74) -> 1
A75: 1163 | B75: Ferencvárosi Humanitárius Alap
A76: 1164 | B76: INCLUDATE | C76: 0 | D76: 0 | E76: 0 | F76: 0
A77: 1165 | B77: HERO pályázat | C77: 0 | D77: 0 | E77: 0 | F77: 0
A78: 1169 | B78: EUCF pályázat | E78: 22306 | F78: 22306 | G78: =SUM(F78/E78) -> 1
B79: Működési célú átvett pénzeszközök összesen | C79: =SUM(C72:C78) -> 0 | D79: =SUM(D72:D78) -> 0 | E79: =SUM(E72:E78) -> 40126 | F79: =SUM(F72:F78) -> 40126 | G79: =SUM(F79/E79) -> 1
B81: Működési költségvetési bevételek mindösszesen | C81: =SUM(C70+C43+C22+C79) -> 22594375 | D81: =SUM(D70+D43+D22+D79) -> 23351846 | E81: =SUM(E70+E43+E22+E79) -> 23506636 | F81: =SUM(F70+F43+F22+F79) -> 23627716 | G81: =SUM(F81/E81) -> 1.0051509
A83: 1165 | B83: Felhalmozási célú önkormányzati támogatások
A84: 1166 | B84: "Egészséges Budapest Program" Integrélt Alapell. Járóbeteg szakell. Központ megv. | C84: 0 | D84: 0 | E84: 0 | F84: 0
A85: 1170 | B85: Egyéb felhalmozási célú támog.bevételei Áh-n belülről - EU-s pályázatok kapcsán
A86: 1180 | B86: Egyéb felhalmozási célú támog.bevételei Áh-n belülről - Fővárosi Önkormányzattól | C86: =SUM(C87:C88) -> 0 | D86: =SUM(D87:D88) -> 0 | E86: =SUM(E87:E88) -> 0 | F86: =SUM(F87:F89) -> 6638
A87: 1182 | B87: Bakáts projekt
A88: 1183 | B88: TÉR-KÖZ 2018
A89: 1186 | B89: Fedett, zárható kerékpártárolók társasházak, lakótelepek környékén | F89: 6638
A90: 1187 | B90: FESZ részesedés | E90: 7987 | F90: 7987 | G90: =SUM(F90/E90) -> 1
A91: 1185 | B91: Egyéb felhalmozási célú támogatás bevételei
B92: Felhalmozási célú támogatások államháztartáson belülről összesen | C92: =SUM(C85+C86+C83+C8+C737+C84) -> 0 | D92: =SUM(D85+D86+D83+D8+D737+D84) -> 0 | E92: =SUM(E85+E86+E83+E8+E737+E84)+E90+E91 -> 7987 | F92: =SUM(F85+F86+F83+F8+F737+F84)+F90+F91 -> 14625 | G92: =SUM(F92/E92) -> 1.8311005
A94: 1190 | B94: Ingatlanok értékesítése | C94: =SUM(C95+C96+C97) -> 180000 | D94: =SUM(D95+D96+D97) -> 180000 | E94: =SUM(E95+E96+E97) -> 180000 | F94: =SUM(F95+F96+F97) -> 335000 | G94: =SUM(F94/E94) -> 1.8611111
A95: 1191 | B95: Földterület, telek, ingatlan értékesítése
A96: 1194 | B96: Helyiség értékesítés
A97: 1195 | B97: Önkormányzati lakások értékesítése | C97: 180000 | D97: 180000 | E97: 180000 | F97: =180000+155000 -> 335000 | G97: =SUM(F97/E97) -> 1.8611111
B98: Felhalmozási bevételek összesen | C98: =SUM(C94) -> 180000 | D98: =SUM(D94) -> 180000 | E98: =SUM(E94) -> 180000 | F98: =SUM(F94) -> 335000 | G98: =SUM(F98/E98) -> 1.8611111
A99: 1200 | B99: Felhalmozási célú visszatérítendő tám., kölcsönök visszatérülései államháztartáson kívülről | C99: 15000 | D99: 15000 | E99: 15000 | F99: 15000 | G99: =SUM(F99/E99) -> 1
A100: 1201 | B100: Helyi támogatás, házmesterek visszafizetése
A101: 1202 | B101: Társasházak befizetései | C101: 15000 | D101: 15000 | E101: 15000 | F101: 15000 | G101: =SUM(F101/E101) -> 1
A102: 1209 | B102: FEV IX. Zrt. Alaptőke csökkentés befizetése | C102: 400000 | D102: 400000 | E102: 400000 | F102: 400000 | G102: =SUM(F102/E102) -> 1
A103: 1210 | B103: Egyéb felhalmozási célú átvett pénzeszközök | D103: 100000 | E103: 100000 | F103: 100000 | G103: =SUM(F103/E103) -> 1
A104: 1211 | B104: Parkolóhely megváltás
B105: Felhalmozási célú átvett pénzeszközök összesen | C105: =SUM(C99+C103+C104+C102) -> 415000 | D105: =SUM(D99+D103+D104+D102) -> 515000 | E105: =SUM(E99+E103+E104+E102) -> 515000 | F105: =SUM(F99+F103+F104+F102) -> 515000 | G105: =SUM(F105/E105) -> 1
B107: Felhalmozási költségvetési bevételek mindösszesen | C107: =SUM(C92+C98+C105) -> 595000 | D107: =SUM(D92+D98+D105) -> 695000 | E107: =SUM(E92+E98+E105) -> 702987 | F107: =SUM(F92+F98+F105) -> 864625 | G107: =SUM(F107/E107) -> 1.2299303
A109: 1215 | B109: Előző év költségvetési maradványának igénybevétele | C109: 131554 | D109: =131554+3720263 -> 3851817 | E109: =131554+3720263 -> 3851817 | F109: =131554+3720263 -> 3851817 | G109: =SUM(F109/E109) -> 1
A110: 1216 | B110: Belföldi értékpapírok bevételei
A111: 1218 | B111: Tárgyévi finanszírozási megelőlegezések | C111: 0 | D111: 294647 | E111: =294647+603417 -> 898064 | F111: =898064+155802 -> 1053866 | G111: =SUM(F111/E111) -> 1.1734865
...

Sheet 1c.mell 
A1: 1/C. sz. melléklet
A2: Az önkormányzat 2024. évi kiadásai
G4: (eFt-ban)
C5: 2024. évi előirányzat 3/2024. | D5: 2024. évi előirányzat 10/2024. | E5: 2024. évi előirányzat 14/2024. | F5: 2024. évi előirányzat /2024. | G5: Index 6./5.
A6: Soszám | B6: Megnevezés
A8: 1. | B8: 2. | C8: 3. | D8: 4. | E8: 5. | F8: 6. | G8: 7.
B9: I. Polgármesteri Hivatal kiadásai
A11: 1710 | B11: Polgármesteri Hivatal kiadása (3/A. sz. melléklet szerint) | C11: =SUM(C12:C19) -> 3549198 | D11: =SUM(D12:D19) -> 3979157 | E11: =SUM(E12:E19) -> 3979157 | F11: =SUM(F12:F19) -> 3988868 | G11: =SUM(F11/E11) -> 1.0024405
A12: 1711 | B12: Személyi juttatások | C12: =SUM('3a.m.'!C52) -> 2495119 | D12: =SUM('3a.m.'!D52) -> 2621827 | E12: =SUM('3a.m.'!E52) -> 2621827 | F12: =SUM('3a.m.'!F52) -> 2627779 | G12: =SUM(F12/E12) -> 1.0022702
A13: 1712 | B13: Munkaadókat terhelő járulékok és szociális hozzájárulási adó | C13: =SUM('3a.m.'!C53) -> 378079 | D13: =SUM('3a.m.'!D53) -> 412169 | E13: =SUM('3a.m.'!E53) -> 412169 | F13: =SUM('3a.m.'!F53) -> 413914 | G13: =SUM(F13/E13) -> 1.0042337
A14: 1713 | B14: Dologi kiadások | C14: =SUM('3a.m.'!C54) -> 637000 | D14: =SUM('3a.m.'!D54) -> 795523 | E14: =SUM('3a.m.'!E54) -> 795523 | F14: =SUM('3a.m.'!F54) -> 797537 | G14: =SUM(F14/E14) -> 1.0025317
A15: 1714 | B15: Ellátottak pénzbeli juttatásai | C15: =SUM('3a.m.'!C55) -> 0 | D15: =SUM('3a.m.'!D55) -> 0 | E15: =SUM('3a.m.'!E55) -> 0 | F15: =SUM('3a.m.'!F55) -> 0
A16: 1715 | B16: Egyéb működési célú kiadások | C16: ='3a.m.'!C56 -> 0 | D16: ='3a.m.'!D56 -> 0 | E16: ='3a.m.'!E56 -> 0 | F16: ='3a.m.'!F56 -> 0
A17: 1716 | B17: Beruházások | C17: =SUM('3a.m.'!C60) -> 35000 | D17: =SUM('3a.m.'!D60) -> 143733 | E17: =SUM('3a.m.'!E60) -> 143733 | F17: =SUM('3a.m.'!F60) -> 143733 | G17: =SUM(F17/E17) -> 1
A18: 1717 | B18: Felújítások | C18: =SUM('3a.m.'!C59) -> 0 | D18: =SUM('3a.m.'!D59) -> 1905 | E18: =SUM('3a.m.'!E59) -> 1905 | F18: =SUM('3a.m.'!F59) -> 1905 | G18: =SUM(F18/E18) -> 1
A19: 1718 | B19: Egyéb felhalmozási célú kiadások - Munkáltatói kölcsön | C19: =SUM('3a.m.'!C61) -> 4000 | D19: =SUM('3a.m.'!D61) -> 4000 | E19: =SUM('3a.m.'!E61) -> 4000 | F19: =SUM('3a.m.'!F61) -> 4000 | G19: =SUM(F19/E19) -> 1
B21: II. Önkormányzat kiadásai
A23: 1750 | B23: Önkormányzat költségvetésben szereplő kiadások (3/C. sz. melléklet szerint) | C23: =SUM(C24:C32) -> 6649808 | D23: =SUM(D24:D32) -> 8793464 | E23: =SUM(E24:E32) -> 8842137 | F23: =SUM(F24:F32) -> 8853557 | G23: =SUM(F23/E23) -> 1.0012915
A24: 1751 | B24: Személyi juttatások | C24: =SUM('3c.m.'!C867) -> 316609 | D24: =SUM('3c.m.'!D867) -> 343507 | E24: =SUM('3c.m.'!E867) -> 371313 | F24: =SUM('3c.m.'!F867) -> 355096 | G24: =SUM(F24/E24) -> 0.95632526
A25: 1752 | B25: Munkaadókat terhelő járulékok és szociális hozzájárulási adó | C25: =SUM('3c.m.'!C868) -> 40163 | D25: =SUM('3c.m.'!D868) -> 47035 | E25: =SUM('3c.m.'!E868) -> 53512 | F25: =SUM('3c.m.'!F868) -> 50371 | G25: =SUM(F25/E25) -> 0.94130289
A26: 1753 | B26: Dologi kiadások | C26: =SUM('3c.m.'!C869) -> 4871236 | D26: =SUM('3c.m.'!D869) -> 5173450 | E26: =SUM('3c.m.'!E869) -> 5212535 | F26: =SUM('3c.m.'!F869) -> 5222776 | G26: =SUM(F26/E26) -> 1.0019647
A27: 1754 | B27: Ellátottak pénzbeli juttatásai | C27: =SUM('3c.m.'!C870) -> 184000 | D27: =SUM('3c.m.'!D870) -> 191513 | E27: =SUM('3c.m.'!E870) -> 183013 | F27: =SUM('3c.m.'!F870) -> 183013 | G27: =SUM(F27/E27) -> 1
A28: 1755 | B28: Egyéb működési célú kiadások | C28: =SUM('3c.m.'!C871) -> 55700 | D28: =SUM('3c.m.'!D871) -> 94363 | E28: =SUM('3c.m.'!E871) -> 80013 | F28: =SUM('3c.m.'!F871) -> 104913 | G28: =SUM(F28/E28) -> 1.3111994
A29: 1756 | B29: Beruházások | C29: =SUM('3c.m.'!C874) -> 18000 | D29: =SUM('3c.m.'!D874) -> 55271 | E29: =SUM('3c.m.'!E874) -> 55371 | F29: =SUM('3c.m.'!F874) -> 64720 | G29: =SUM(F29/E29) -> 1.1688429
A30: 1757 | B30: Felújítások | C30: =SUM('3c.m.'!C875) -> 0 | D30: =SUM('3c.m.'!D875) -> 0 | E30: =SUM('3c.m.'!E875) -> 0 | F30: =SUM('3c.m.'!F875) -> 0
A31: 1758 | B31: Egyéb felhalmozási célú kiadások | C31: =SUM('3c.m.'!C876) -> 1164100 | D31: =SUM('3c.m.'!D876) -> 2888325 | E31: =SUM('3c.m.'!E876) -> 2886380 | F31: =SUM('3c.m.'!F876) -> 2872668 | G31: =SUM(F31/E31) -> 0.99524941
A33: 1760 | B33: Önkormányzat ktsv. szereplő Támogatások (3/D. sz. melléklet szerint) | C33: =SUM(C34:C40) -> 1470867 | D33: =SUM(D34:D40) -> 1992077 | E33: =SUM(E34:E40) -> 2009304 | F33: =SUM(F34:F40) -> 2041754 | G33: =SUM(F33/E33) -> 1.0161499
A34: 1761 | B34: Személyi juttatások | C34: =SUM('3d.m.'!C65) -> 4513 | D34: =SUM('3d.m.'!D65) -> 5189 | E34: =SUM('3d.m.'!E65) -> 5189 | F34: =SUM('3d.m.'!F65) -> 5186 | G34: =SUM(F34/E34) -> 0.99942185
A35: 1762 | B35: Munkaadókat terhelő járulékok és szociális hozzájárulási adó | C35: =SUM('3d.m.'!C66) -> 587 | D35: =SUM('3d.m.'!D66) -> 740 | E35: =SUM('3d.m.'!E66) -> 740 | F35: =SUM('3d.m.'!F66) -> 740 | G35: =SUM(F35/E35) -> 1
A36: 1763 | B36: Dologi kiadások | C36: =SUM('3d.m.'!C67) -> 12500 | D36: =SUM('3d.m.'!D67) -> 14565 | E36: =SUM('3d.m.'!E67) -> 14615 | F36: =SUM('3d.m.'!F67) -> 14618 | G36: =SUM(F36/E36) -> 1.0002053
A37: 1764 | B37: Egyéb működési célú kiadások | C37: =SUM('3d.m.'!C68) -> 1237474 | D37: =SUM('3d.m.'!D68) -> 1554775 | E37: =SUM('3d.m.'!E68) -> 1554225 | F37: =SUM('3d.m.'!F68) -> 1584675 | G37: =SUM(F37/E37) -> 1.0195918
A38: 1765 | B38: Beruházási kiadások | C38: =SUM('3d.m.'!C71) -> 8500 | D38: =SUM('3d.m.'!D71) -> 8500 | E38: =SUM('3d.m.'!E71) -> 8500 | F38: =SUM('3d.m.'!F71) -> 8000 | G38: =SUM(F38/E38) -> 0.94117647
A39: 1766 | B39: Egyéb felhalmozási célú kiadások | C39: =SUM('3d.m.'!C72) -> 207293 | D39: =SUM('3d.m.'!D72) -> 408308 | E39: =SUM('3d.m.'!E72) -> 426035 | F39: =SUM('3d.m.'!F72) -> 428535 | G39: =SUM(F39/E39) -> 1.0058681
A41: 1770 | B41: Önkormányzati Felújítási kiadások (4. sz. melléklet szerint) | C41: =SUM(C42:C48) -> 4692488 | D41: =SUM(D42:D48) -> 6867653 | E41: =SUM(E42:E48) -> 6705195 | F41: =SUM(F42:F48) -> 6611289 | G41: =SUM(F41/E41) -> 0.98599504
A42: 1771 | B42: Személyi juttatások | C42: ='4.mell.'!C95 -> 0 | D42: ='4.mell.'!D95 -> 0 | E42: ='4.mell.'!E95 -> 0 | F42: ='4.mell.'!F95 -> 1050
A43: 1772 | B43: Munkaadókat terhelő járulékok és szociális hozzájárulási adó | C43: ='4.mell.'!C96 -> 0 | D43: ='4.mell.'!D96 -> 0 | E43: ='4.mell.'!E96 -> 0 | F43: ='4.mell.'!F96 -> 140
A44: 1773 | B44: Dologi kiadások | C44: =SUM('4.mell.'!C97) -> 0 | D44: =SUM('4.mell.'!D97) -> 17040 | E44: =SUM('4.mell.'!E97) -> 76239 | F44: =SUM('4.mell.'!F97) -> 88139 | G44: =SUM(F44/E44) -> 1.1560881
A45: 1774 | B45: Egyéb működési célú kiadás | C45: =SUM('4.mell.'!I98) -> 0 | D45: =SUM('4.mell.'!J98) -> 0 | E45: =SUM('4.mell.'!K98) -> 0 | F45: =SUM('4.mell.'!L98) -> 0
A46: 1775 | B46: Beruházások | C46: =SUM('4.mell.'!C101) -> 1535518 | D46: =SUM('4.mell.'!D101) -> 1583036 | E46: =SUM('4.mell.'!E101) -> 1521570 | F46: =SUM('4.mell.'!F101) -> 1422114 | G46: =SUM(F46/E46) -> 0.93463594
A47: 1776 | B47: Felújítások | C47: =SUM('4.mell.'!C102) -> 3129971 | D47: =SUM('4.mell.'!D102) -> 5237578 | E47: =SUM('4.mell.'!E102) -> 5077387 | F47: =SUM('4.mell.'!F102) -> 5069847 | G47: =SUM(F47/E47) -> 0.99851498
A48: 1777 | B48: Egyéb felhalmozási célú kiadások | C48: =SUM('4.mell.'!C103) -> 26999 | D48: =SUM('4.mell.'!D103) -> 29999 | E48: =SUM('4.mell.'!E103) -> 29999 | F48: =SUM('4.mell.'!F103) -> 29999 | G48: =SUM(F48/E48) -> 1
A50: 1780 | B50: Önkormányzati Fejlesztési, beruházási kiadások (5. sz. melléklet szerint) | C50: =SUM(C51:C57) -> 2024108 | D50: =SUM(D51:D57) -> 2160633 | E50: =SUM(E51:E57) -> 2150781 | F50: =SUM(F51:F57) -> 2227504 | G50: =SUM(F50/E50) -> 1.0356722
A51: 1781 | B51: Személyi juttatások | C51: =SUM('5.mell. '!N63) -> 0 | D51: =SUM('5.mell. '!O63) -> 0 | E51: =SUM('5.mell. '!P63) -> 0 | F51: =SUM('5.mell. '!Q63) -> 0
A52: 1782 | B52: Munkaadókat terhelő járulékok és szociális hozzájárulási adó | C52: =SUM('5.mell. '!N64) -> 0 | D52: =SUM('5.mell. '!O64) -> 0 | E52: =SUM('5.mell. '!P64) -> 0 | F52: =SUM('5.mell. '!Q64) -> 0
A53: 1783 | B53: Dologi kiadások | C53: =SUM('5.mell. '!C65) -> 0 | D53: =SUM('5.mell. '!D65) -> 10707 | E53: =SUM('5.mell. '!E65) -> 29238 | F53: =SUM('5.mell. '!F65) -> 29538 | G53: =SUM(F53/E53) -> 1.0102606
A54: 1784 | B54: Egyéb működési célú kiadás | C54: =SUM('5.mell. '!N66) -> 0 | D54: =SUM('5.mell. '!O66) -> 0 | E54: =SUM('5.mell. '!P66) -> 0 | F54: =SUM('5.mell. '!Q66) -> 0
A55: 1785 | B55: Beruházások | C55: =SUM('5.mell. '!C70) -> 2024108 | D55: =SUM('5.mell. '!D70) -> 2149926 | E55: =SUM('5.mell. '!E70) -> 2111543 | F55: =SUM('5.mell. '!F70) -> 2167966 | G55: =SUM(F55/E55) -> 1.0267212
A56: 1786 | B56: Felújítások
A57: 1787 | B57: Egyéb felhalmozási célú kiadások | E57: ='5.mell. '!E71 -> 10000 | F57: ='5.mell. '!F71 -> 30000 | G57: =SUM(F57/E57) -> 3
A59: 1790 | B59: Felhalmozási célú visszatérítendő tám., kölcsönönök törlesztése államháztartáson belülre
A60: 1795 | B60: Márton 5./a
A62: 1801 | B62: Kamat kiadás, banki költségek, tranzakciós díjak - Dologi kiadások | C62: 25000 | D62: 25000 | E62: =25000+13000 -> 38000 | F62: =38000+25000 -> 63000 | G62: =SUM(F62/E62) -> 1.6578947
A64: 1802 | B64: Fővárosi IPA visszafizetése - Dologi kiadások | C64: =7865+3790+8918 -> 20573 | D64: =7865+3790+8918 -> 20573 | E64: =20573+101 -> 20674 | F64: =20573+101 -> 20674 | G64: =SUM(F64/E64) -> 1
A66: 1803 | B66: Szolidaritási hozzájárulási adó - Egyéb működési célú kiadások | C66: 2270550 | D66: 2270550 | E66: 2270550 | F66: 2270550 | G66: =SUM(F66/E66) -> 1
A68: 1804 | B68: Fizetendő általános forgalmi adó - Dologi kiadások | C68: 302441 | D68: 302441 | E68: =302441+174429 -> 476870 | F68: =476870+103406 -> 580276 | G68: =SUM(F68/E68) -> 1.2168432
A70: 1806 | B70: Elvonások és befizetések | C70: =C71 -> 0 | D70: =D71 -> 2614 | E70: =E71 -> 2614 | F70: =F71 -> 2614 | G70: =SUM(F70/E70) -> 1
B71: - Egyéb működési célú kiadások | D71: 2614 | E71: 2614 | F71: 2614 | G71: =SUM(F71/E71) -> 1
A72: 1807 | B72: Elvonások és befizetések | C72: =C73 -> 0 | D72: =D73 -> 0 | E72: =E73 -> 0 | F72: =F73 -> 0
B73: - Egyéb felhalmozási célú kiadások
A75: 1809 | B75: Parkolóhely megváltása | E75: =E76 -> 20000 | F75: =F76 -> 0 | G75: =SUM(F75/E75) -> 0
B76: - Egyéb felhalmozási célú kiadások | E76: 20000 | G76: =SUM(F76/E76) -> 0
A78: 1812 | B78: Általános tartalék - Egyéb működési célú kiadás | C78: =SUM('6.mell. '!C12) -> 16404 | D78: =SUM('6.mell. '!D12) -> 50000 | E78: =SUM('6.mell. '!E12) -> 42020 | F78: =SUM('6.mell. '!F12) -> 50000 | G78: =SUM(F78/E78) -> 1.1899096
A79: 1813 | B79: Céltartalék - Egyéb működési célú kiadás | C79: =SUM('6.mell. '!C14) -> 27583 | D79: =SUM('6.mell. '!D14) -> 76173 | E79: =SUM('6.mell. '!E14) -> 56173 | F79: =SUM('6.mell. '!F14) -> 56173 | G79: =SUM(F79/E79) -> 1
A80: 1816 | B80: Tartalék összesen | C80: =SUM('6.mell. '!C26) -> 43987 | D80: =SUM('6.mell. '!D26) -> 126173 | E80: =SUM('6.mell. '!E26) -> 98193 | F80: =SUM('6.mell. '!F26) -> 106173 | G80: =SUM(F80/E80) -> 1.0812685
B82: Működési költségvetési kiadások
A83: 1821 | B83: Személyi juttatások | C83: =SUM(C12+C24+C34+C42+C51) -> 2816241 | D83: =SUM(D12+D24+D34+D42+D51) -> 2970523 | E83: =SUM(E12+E24+E34+E42+E51) -> 2998329 | F83: =SUM(F12+F24+F34+F42+F51) -> 2989111 | G83: =SUM(F83/E83) -> 0.99692562
A84: 1822 | B84: Munkaadókat terhelő járulékok és szociális hozzájárulási adó | C84: =SUM(C13+C25+C35+C43+C52) -> 418829 | D84: =SUM(D13+D25+D35+D43+D52) -> 459944 | E84: =SUM(E13+E25+E35+E43+E52) -> 466421 | F84: =SUM(F13+F25+F35+F43+F52) -> 465165 | G84: =SUM(F84/E84) -> 0.99730715
A85: 1823 | B85: Dologi kiadások | C85: =SUM(C14+C26+C36+C44+C53+C62+C64+C68) -> 5868750 | D85: =SUM(D14+D26+D36+D44+D53+D62+D64+D68) -> 6359299 | E85: =SUM(E14+E26+E36+E44+E53+E62+E64+E68) -> 6663694 | F85: =SUM(F14+F26+F36+F44+F53+F62+F64+F68) -> 6816558 | G85: =SUM(F85/E85) -> 1.0229398
A86: 1824 | B86: Ellátottak pénzbeli juttatásai | C86: =SUM(C15+C27) -> 184000 | D86: =SUM(D15+D27) -> 191513 | E86: =SUM(E15+E27) -> 183013 | F86: =SUM(F15+F27) -> 183013 | G86: =SUM(F86/E86) -> 1
A87: 1825 | B87: Egyéb működési célú kiadások | C87: =SUM(C16+C28+C37+C45+C54+C66+C70+C78+C79) -> 3607711 | D87: =SUM(D16+D28+D37+D45+D54+D66+D70+D78+D79) -> 4048475 | E87: =SUM(E16+E28+E37+E45+E54+E66+E70+E78+E79) -> 4005595 | F87: =SUM(F16+F28+F37+F45+F54+F66+F70+F78+F79) -> 4068925 | G87: =SUM(F87/E87) -> 1.0158104
B88: ebből tartalék: | C88: =SUM(C80) -> 43987 | D88: =SUM(D80) -> 126173 | E88: =SUM(E80) -> 98193 | F88: =SUM(F80) -> 106173 | G88: =SUM(F88/E88) -> 1.0812685
A89: 1820 | B89: Működési költségvetési kiadások mindösszesen | C89: =SUM(C83:C88)-C88 -> 12895531 | D89: =SUM(D83:D88)-D88 -> 14029754 | E89: =SUM(E83:E88)-E88 -> 14317052 | F89: =SUM(F83:F88)-F88 -> 14522772 | G89: =SUM(F89/E89) -> 1.0143689
B91: Felhalmozási költségvetési kiadások
A92: 1831 | B92: Beruházások | C92: =SUM(C17+C29+C46+C55+C38) -> 3621126 | D92: =SUM(D17+D29+D46+D55+D38) -> 3940466 | E92: =SUM(E17+E29+E46+E55+E38) -> 3840717 | F92: =SUM(F17+F29+F46+F55+F38) -> 3806533 | G92: =SUM(F92/E92) -> 0.99109958
A93: 1832 | B93: Felújítások | C93: =SUM(C18+C30+C47+C56) -> 3129971 | D93: =SUM(D18+D30+D47+D56) -> 5239483 | E93: =SUM(E18+E30+E47+E56) -> 5079292 | F93: =SUM(F18+F30+F47+F56) -> 5071752 | G93: =SUM(F93/E93) -> 0.99851554
A94: 1833 | B94: Egyéb felhalmozási célú kiadások | C94: =SUM(C31+C48+C39+C57+C59+C19+C72) -> 1402392 | D94: =SUM(D31+D48+D39+D57+D59+D19+D72) -> 3330632 | E94: =SUM(E31+E48+E39+E57+E59+E19+E72+E75) -> 3376414 | F94: =SUM(F31+F48+F39+F57+F59+F19+F72+F75) -> 3365202 | G94: =SUM(F94/E94) -> 0.99667932
A95: 1830 | B95: Felhalmozási költségvetés kiadások mindösszesen | C95: =SUM(C92:C94) -> 8153489 | D95: =SUM(D92:D94) -> 12510581 | E95: =SUM(E92:E94) -> 12296423 | F95: =SUM(F92:F94) -> 12243487 | G95: =SUM(F95/E95) -> 0.99569501
A97: 1842 | B97: Tárgyévi finanszírozási megelőlegezések | D97: 294647 | E97: =294647+603417 -> 898064 | F97: =898064+155802 -> 1053866 | G97: =SUM(F97/E97) -> 1.1734865
A98: 1843 | B98: Államháztartáson belüli megelőlegezések visszafizetése | C98: 131554 | D98: 131554 | E98: 131554 | F98: 131554 | G98: =SUM(F98/E98) -> 1
A99: 1844 | B99: Belföldi értékpapírok kiadásai
A100: 1845 | B100: Irányító szervi támogatás folyosítása | C100: =SUM(C101:C103) -> 11090999 | D100: =SUM(D101:D103) -> 12386484 | E100: =SUM(E101:E103) -> 12476121 | F100: =SUM(F101:F103) -> 12615766 | G100: =SUM(F100/E100) -> 1.011193
A101: 1846 | B101: Költségvetési szervek támogatása | C101: =SUM('2.mell'!C717) -> 6920366 | D101: =SUM('2.mell'!D717) -> 8215851 | E101: =SUM('2.mell'!E717) -> 8305488 | F101: =SUM('2.mell'!F717) -> 8434180 | G101: =SUM(F101/E101) -> 1.0154948
A102: 1847 | B102: Költségvetési szervek étkezés támogatása | C102: =SUM('2.mell'!C718) -> 700175 | D102: =SUM('2.mell'!D718) -> 700175 | E102: =SUM('2.mell'!E718) -> 700175 | F102: =SUM('2.mell'!F718) -> 711128 | G102: =SUM(F102/E102) -> 1.0156432
A103: 1849 | B103: Polgármesteri Hivatal támogatása | C103: =SUM('1b.mell '!C156) -> 3470458 | D103: =SUM('1b.mell '!D156) -> 3470458 | E103: =SUM('1b.mell '!E156) -> 3470458 | F103: =SUM('1b.mell '!F156) -> 3470458 | G103: =SUM(F103/E103) -> 1
A104: 1840 | B104: Működési finanszírozási kiadások | C104: =SUM(C100+C98+C99)+C97 -> 11222553 | D104: =SUM(D100+D98+D99)+D97 -> 12812685 | E104: =SUM(E100+E98+E99)+E97 -> 13505739 | F104: =SUM(F100+F98+F99)+F97 -> 13801186 | G104: =SUM(F104/E104) -> 1.0218757
A106: 1851 | B106: Hitel-, kölcsön törlesztése államháztartáson kívülre | C106: 12000 | D106: 12000 | E106: 12000 | F106: 12000 | G106: =SUM(F106/E106) -> 1
A107: 1865 | B107: Felhalmozási finanszírozási kiadások | C107: =SUM(C106) -> 12000 | D107: =SUM(D106) -> 12000 | E107: =SUM(E106) -> 12000 | F107: =SUM(F106) -> 12000 | G107: =SUM(F107/E107) -> 1
A109: 1870 | B109: PH és Önkormányzat költségvetési kiadásai mindössz: | C109: =SUM(C107+C104+C95+C89) -> 32283573 | D109: =SUM(D107+D104+D95+D89) -> 39365020 | E109: =SUM(E107+E104+E95+E89) -> 40131214 | F109: =SUM(F107+F104+F95+F89) -> 40579445 | G109: =SUM(F109/E109) -> 1.0111691
B111: III. Költségvetési szervek kiadásai (2.sz.mell.sz.)
B113: Működési költségvetési kiadások
A114: 1911 | B114: Személyi juttatások | C114: =SUM('2.mell'!C723) -> 4521901 | D114: =SUM('2.mell'!D723) -> 6396419 | E114: =SUM('2.mell'!E723) -> 6482920 | F114: =SUM('2.mell'!F723) -> 6667890 | G114: =SUM(F114/E114) -> 1.0285319
A115: 1912 | B115: Munkaadókat terhelő járulékok és szociális hozzájárulási adó | C115: =SUM('2.mell'!C724) -> 681311 | D115: =SUM('2.mell'!D724) -> 918482 | E115: =SUM('2.mell'!E724) -> 930017 | F115: =SUM('2.mell'!F724) -> 929022 | G115: =SUM(F115/E115) -> 0.99893013
A116: 1913 | B116: Dologi kiadások | C116: =SUM('2.mell'!C725) -> 2497344 | D116: =SUM('2.mell'!D725) -> 3674839 | E116: =SUM('2.mell'!E725) -> 3699213 | F116: =SUM('2.mell'!F725) -> 3752383 | G116: =SUM(F116/E116) -> 1.0143733
A117: 1915 | B117: Ellátottak pénzbeli juttatási | C117: =SUM('2.mell'!C726) -> 345 | D117: =SUM('2.mell'!D726) -> 345 | E117: =SUM('2.mell'!E726) -> 345 | F117: =SUM('2.mell'!F726) -> 345 | G117: =SUM(F117/E117) -> 1
A118: 1916 | B118: Egyéb működési célú kiadások | C118: =SUM('2.mell'!C727) -> 0 | D118: =SUM('2.mell'!D727) -> 3304 | E118: =SUM('2.mell'!E727) -> 3404 | F118: =SUM('2.mell'!F727) -> 3404 | G118: =SUM(F118/E118) -> 1
A119: 1910 | B119: Működési költségvetési kiadások mindösszesen | C119: =SUM(C114:C118) -> 7700901 | D119: =SUM(D114:D118) -> 10993389 | E119: =SUM(E114:E118) -> 11115899 | F119: =SUM(F114:F118) -> 11353044 | G119: =SUM(F119/E119) -> 1.0213339
B120: Felhalmozási költségvetési kiadások
A121: 1921 | B121: Beruházások | C121: =SUM('2.mell'!C729) -> 254550 | D121: =SUM('2.mell'!D729) -> 410740 | E121: =SUM('2.mell'!E729) -> 343750 | F121: =SUM('2.mell'!F729) -> 327254 | G121: =SUM(F121/E121) -> 0.95201164
A122: 1922 | B122: Felújítások | C122: =SUM('2.mell'!C730) -> 73567 | D122: =SUM('2.mell'!D730) -> 140648 | E122: =SUM('2.mell'!E730) -> 205801 | F122: =SUM('2.mell'!F730) -> 182030 | G122: =SUM(F122/E122) -> 0.88449522
A123: 1923 | B123: Egyéb felhalmozási célú kiadások | C123: =SUM('2.mell'!C731) -> 0 | D123: =SUM('2.mell'!D731) -> 0 | E123: =SUM('2.mell'!E731) -> 0 | F123: =SUM('2.mell'!F731) -> 0
...

Sheet 2.mell
A1: 2. sz. melléklet
A2: Költségvetési szervek 2024. évi költségvetése
G4: (eFt-ban)
A5: Sorsz. | B5: Megnevezés | C5: 2024. évi előirányzat 3/2024. | D5: 2024. évi előirányzat 10/2024. | E5: 2024. évi előirányzat 14/2024. | F5: 2024. évi előirányzat /2024. | G5: Index 6./5.
A8: 1. | B8: 2. | C8: 3. | D8: 4. | E8: 5. | F8: 6. | G8: 7.
A9: 2305 | B9: Csicsergő Óvoda /Thaly K. u. 38./
B10: Elvonások és befizetések bevételei
B11: Egyéb működési célú támogatások bevételei Áh-n belülről
B12: Működési célú támogatások Áh-n belülről összesen
B13: Szolgáltatások ellenértéke
B14: Egyéb szolgáltatás
B15: Bérleti díjak
B16: Közvetített szolgáltatások ellenértéke
B17: Ellátási díjak
B18: Kiszámlázott általános forgalmi adó
B19: Kamatbevételek és más nyereségjelegű bevételek
B20: Egyéb működési bevételek
B21: Működési bevételek összesen
... B25: Felhalmozási költségvetési bevételek mindösszesen
B26: Előző év költségvetési maradványának igénybevétele | C26: 0 | D26: 1310 | E26: 1310 | F26: 1310 | G26: =F26/E26 -> 1
B27: Irányító szervi támogatás | C27: 248344 | D27: =248344+260+2059+735+949 -> 252347 | E27: =252347+1216 -> 253563 | F27: =253563+14381 -> 267944 | G27: =F27/E27 -> 1.0567157
B28: Működési finanszírozási bevételek | C28: =SUM(C26:C27) -> 248344 | D28: =SUM(D26:D27) -> 253657 | E28: =SUM(E26:E27) -> 254873 | F28: =SUM(F26:F27) -> 269254 | G28: =F28/E28 -> 1.0564242
B29: Előző év költségvetési maradványának igénybevétele
B30: Felhalmozási finanszírozási bevételek
B31: Bevételek mindösszesen | C31: =SUM(C23+C25+C28+C30) -> 248344 | D31: =SUM(D23+D25+D28+D30) -> 253657 | E31: =SUM(E23+E25+E28+E30) -> 254873 | F31: =SUM(F23+F25+F28+F30) -> 269254 | G31: =F31/E31 -> 1.0564242
B32: Személyi juttatások | C32: 211018 | D32: =211018+217+650+840 -> 212725 | E32: =212725+1076 -> 213801 | F32: =213801+14251 -> 228052 | G32: =F32/E32 -> 1.0666554
B33: Munkaadókat terhelő járulékok és szociális hozzájárulási adó | C33: 32268 | D33: =32268+28+85+109 -> 32490 | E33: =32490+140 -> 32630 | F33: =32630+130 -> 32760 | G33: =F33/E33 -> 1.0039841
B34: Dologi kiadások | C34: 4500 | D34: =4500+1065+260+343 -> 6168 | E34: =4500+1065+260+343 -> 6168 | F34: =4500+1065+260+343 -> 6168 | G34: =F34/E34 -> 1
B35: Ellátottak pénzbeli juttatásai
B36: Egyéb működési célú kiadások
B37: Működési költségvetési kiadások mindösszesen | C37: =SUM(C32:C36) -> 247786 | D37: =SUM(D32:D36) -> 251383 | E37: =SUM(E32:E36) -> 252599 | F37: =SUM(F32:F36) -> 266980 | G37: =F37/E37 -> 1.0569321
B38: Beruházások (bútorok, berendezési tárgyak) | C38: 558 | D38: =558+1716 -> 2274 | E38: =558+1716 -> 2274 | F38: =558+1716 -> 2274 | G38: =F38/E38 -> 1
B39: Felújítások
B40: Egyéb felhalmozási célú kiadások
B41: Felhalmozási költségvetési kiadások mindösszesen | C41: =SUM(C38:C40) -> 558 | D41: =SUM(D38:D40) -> 2274 | E41: =SUM(E38:E40) -> 2274 | F41: =SUM(F38:F40) -> 2274 | G41: =F41/E41 -> 1
B42: Kiadások mindösszesen | C42: =SUM(C37+C41) -> 248344 | D42: =SUM(D37+D41) -> 253657 | E42: =SUM(E37+E41) -> 254873 | F42: =SUM(F37+F41) -> 269254 | G42: =F42/E42 -> 1.0564242
A43: 2309 | B43: Csudafa Óvoda /Óbester u. 9./
B44: Elvonások és befizetések bevételei
B45: Egyéb működési célú támogatások bevételei Áh-n belülről
B46: Működési célú támogatások Áh-n belülről összesen
B47: Szolgáltatások ellenértéke
B48: Egyéb szolgáltatás
B49: Bérleti díjak
B50: Közvetített szolgáltatások ellenértéke
B51: Ellátási díjak
B52: Kiszámlázott általános forgalmi adó
B53: Általános forgalmi adó visszatérítése
B54: Kamatbevételek és más nyereségjelegű bevételek
B55: Egyéb működési bevételek
... B60: Felhalmozási költségvetési bevételek mindösszesen
B61: Előző év költségvetési maradványának igénybevétele | C61: 0 | D61: 830 | E61: 830 | F61: 830 | G61: =F61/E61 -> 1
B62: Irányító szervi támogatás | C62: 249260 | D62: =249260+107+1950+266+870 -> 252453 | E62: =249260+107+1950+266+870 -> 252453 | F62: =252453+11928 -> 264381 | G62: =F62/E62 -> 1.0472484
B63: Működési finanszírozási bevételek | C63: =SUM(C61:C62) -> 249260 | D63: =SUM(D61:D62) -> 253283 | E63: =SUM(E61:E62) -> 253283 | F63: =SUM(F61:F62) -> 265211 | G63: =F63/E63 -> 1.0470936
B64: Előző év költségvetési maradványának igénybevétele
B65: Felhalmozási finanszírozási bevételek
B66: Bevételek mindösszesen | C66: =SUM(C58+C60+C63+C65) -> 249260 | D66: =SUM(D58+D60+D63+D65) -> 253283 | E66: =SUM(E58+E60+E63+E65) -> 253283 | F66: =SUM(F58+F60+F63+F65) -> 265211 | G66: =F66/E66 -> 1.0470936
B67: Személyi juttatások | C67: 211839 | D67: =211839+60+235+770 -> 212904 | E67: =211839+60+235+770 -> 212904 | F67: =212904+11928+322 -> 225154 | G67: =F67/E67 -> 1.0575377
B68: Munkaadókat terhelő járulékok és szociális hozzájárulási adó | C68: 32320 | D68: =32320+32+31+100 -> 32483 | E68: =32320+32+31+100 -> 32483 | F68: =32483-322 -> 32161 | G68: =F68/E68 -> 0.99008712
B69: Dologi kiadások | C69: 4500 | D69: =4500+738+107 -> 5345 | E69: =4500+738+107 -> 5345 | F69: =4500+738+107 -> 5345 | G69: =F69/E69 -> 1
B70: Ellátottak pénzbeli juttatásai
B71: Egyéb működési célú kiadások
B72: Működési költségvetési kiadások mindösszesen | C72: =SUM(C67:C71) -> 248659 | D72: =SUM(D67:D71) -> 250732 | E72: =SUM(E67:E71) -> 250732 | F72: =SUM(F67:F71) -> 262660 | G72: =F72/E72 -> 1.0475727
B73: Beruházások (bútorok, berendezési tárgyak) | C73: 601 | D73: =601+1950 -> 2551 | E73: =601+1950 -> 2551 | F73: =601+1950 -> 2551 | G73: =F73/E73 -> 1
B74: Felújítások
B75: Egyéb felhalmozási célú kiadások
B76: Felhalmozási költségvetési kiadások mindösszesen | C76: =SUM(C73:C75) -> 601 | D76: =SUM(D73:D75) -> 2551 | E76: =SUM(E73:E75) -> 2551 | F76: =SUM(F73:F75) -> 2551 | G76: =F76/E76 -> 1
B77: Kiadások mindösszesen | C77: =SUM(C72+C76) -> 249260 | D77: =SUM(D72+D76) -> 253283 | E77: =SUM(E72+E76) -> 253283 | F77: =SUM(F72+F76) -> 265211 | G77: =F77/E77 -> 1.0470936
A78: 2310 | B78: Epres Óvoda /Epreserdő u. 10./
B79: Elvonások és befizetések bevételei
B80: Egyéb működési célú támogatások bevételei Áh-n belülről
B81: Működési célú támogatások Áh-n belülről összesen
B82: Szolgáltatások ellenértéke
B83: Egyéb szolgáltatás
B84: Bérleti díjak
B85: Közvetített szolgáltatások ellenértéke
B86: Ellátási díjak
B87: Kiszámlázott általános forgalmi adó
B88: Kamatbevételek és más nyereségjelegű bevételek
B89: Egyéb működési bevételek
B90: Működési bevételek összesen
... B94: Felhalmozási költségvetési bevételek mindösszesen
B95: Előző év költségvetési maradványának igénybevétele | D95: 1280 | E95: 1280 | F95: 1280 | G95: =F95/E95 -> 1
B96: Irányító szervi támogatás | C96: 122491 | D96: =122491+201+1400+231+237 -> 124560 | E96: =122491+201+1400+231+237 -> 124560 | F96: =124560+1685 -> 126245 | G96: =F96/E96 -> 1.0135276
B97: Működési finanszírozási bevételek | C97: =SUM(C95:C96) -> 122491 | D97: =SUM(D95:D96) -> 125840 | E97: =SUM(E95:E96) -> 125840 | F97: =SUM(F95:F96) -> 127525 | G97: =F97/E97 -> 1.01339
B98: Előző év költségvetési maradványának igénybevétele
B99: Felhalmozási finanszírozási bevételek
B100: Bevételek mindösszesen | C100: =SUM(C92+C94+C97+C99) -> 122491 | D100: =SUM(D92+D94+D97+D99) -> 125840 | E100: =SUM(E92+E94+E97+E99) -> 125840 | F100: =SUM(F92+F94+F97+F99) -> 127525 | G100: =F100/E100 -> 1.01339
B101: Személyi juttatások | C101: 105356 | D101: =105356+121+204+210 -> 105891 | E101: =105356+121+204+210 -> 105891 | F101: =105891+1451 -> 107342 | G101: =F101/E101 -> 1.0137028
B102: Munkaadókat terhelő járulékok és szociális hozzájárulási adó | C102: 14254 | D102: =14254+30+27+27 -> 14338 | E102: =14254+30+27+27 -> 14338 | F102: =14338+234 -> 14572 | G102: =F102/E102 -> 1.0163203
B103: Dologi kiadások | C103: 2400 | D103: =2400+1129+201+1050 -> 4780 | E103: =2400+1129+201+1050 -> 4780 | F103: =2400+1129+201+1050 -> 4780 | G103: =F103/E103 -> 1
B104: Ellátottak pénzbeli juttatásai
B105: Egyéb működési célú kiadások
B106: Működési költségvetési kiadások mindösszesen | C106: =SUM(C101:C105) -> 122010 | D106: =SUM(D101:D105) -> 125009 | E106: =SUM(E101:E105) -> 125009 | F106: =SUM(F101:F105) -> 126694 | G106: =F106/E106 -> 1.013479
B107: Beruházások (bútorok, berendezési tárgyak) | C107: 481 | D107: =481+350 -> 831 | E107: =481+350 -> 831 | F107: =481+350 -> 831 | G107: =F107/E107 -> 1
B108: Felújítások
B109: Egyéb felhalmozási célú kiadások
B110: Felhalmozási költségvetési kiadások mindösszesen | C110: =SUM(C107:C109) -> 481 | D110: =SUM(D107:D109) -> 831 | E110: =SUM(E107:E109) -> 831 | F110: =SUM(F107:F109) -> 831 | G110: =F110/E110 -> 1
B111: Kiadások mindösszesen | C111: =SUM(C106+C110) -> 122491 | D111: =SUM(D106+D110) -> 125840 | E111: =SUM(E106+E110) -> 125840 | F111: =SUM(F106+F110) -> 127525 | G111: =F111/E111 -> 1.01339
A112: 2315 | B112: Kerekerdő Óvoda /Vágóhíd u. 35.-37./
B113: Elvonások és befizetések bevételei
...

Sheet 3a.m.
A1: 3/A sz. melléklet
A2: A Polgármesteri Hivatal kiadásai 2024.
G3: (eFt-ban)
C4: 2024. évi előirányzat 3/2024. | D4: 2024. évi előirányzat 10/2024. | E4: 2024. évi előirányzat 14/2024. | F4: 2024. évi előirányzat /2024. | G4: Index 6./5.
A5: Sorsz. | B5: Kiadás megnevezése
A7: 1. | B7: 2. | C7: 3. | D7: 4. | E7: 5. | F7: 6. | G7: 7.
A8: 3010 | B8: Üdülőhelyi szálláshely szolgáltatás | C8: =SUM(C18) -> 15450 | D8: =SUM(D18) -> 18225 | E8: =SUM(E18) -> 18225 | F8: =SUM(F18) -> 18225 | G8: =F8/E8 -> 1
A9: 3011 | B9: Balatonszéplaki Üdülő
B10: Személyi juttatások | C10: 3000 | D10: =3000+38 -> 3038 | E10: =3000+38 -> 3038 | F10: =3000+38 -> 3038 | G10: =F10/E10 -> 1
B11: Munkaadókat terhelő jár. és szociális hozzájár.adó | C11: 450 | D11: =450+14 -> 464 | E11: =450+14 -> 464 | F11: =450+14 -> 464 | G11: =F11/E11 -> 1
B12: Dologi kiadások és egyéb folyó kiadások | C12: 7000 | D12: =7000+818 -> 7818 | E12: =7000+818 -> 7818 | F12: =7000+818 -> 7818 | G12: =F12/E12 -> 1
B13: Ellátottak pénzbeli juttatásai
B14: Egyéb működési célú kiadások
B15: Beruházások | C15: 5000 | D15: 5000 | E15: 5000 | F15: 5000 | G15: =F15/E15 -> 1
B16: Felújítások | D16: 1905 | E16: 1905 | F16: 1905 | G16: =F16/E16 -> 1
B17: Egyéb felhalmozási célú kiadások
B18: Költségvetési kiadások | C18: =SUM(C10:C17) -> 15450 | D18: =SUM(D10:D17) -> 18225 | E18: =SUM(E10:E17) -> 18225 | F18: =SUM(F10:F17) -> 18225 | G18: =F18/E18 -> 1
A19: 3020 | B19: Általános közszolgáltatások | C19: =SUM(C29+C49) -> 3479982 | D19: =SUM(D29+D49) -> 3878374 | E19: =SUM(E29+E49) -> 3878374 | F19: =SUM(F29+F49) -> 3878374 | G19: =F19/E19 -> 1
A20: 3021 | B20: Polgármesteri Hivatal igazgatási kiadásai
B21: Személyi juttatások | C21: 2449449 | D21: =2449449+107382 -> 2556831 | E21: =2449449+107382 -> 2556831 | F21: =2449449+107382 -> 2556831 | G21: =F21/E21 -> 1
B22: Munkaadókat terhelő jár. és szociális hozzájár.adó | C22: 371533 | D22: =371533+31152 -> 402685 | E22: =371533+31152 -> 402685 | F22: =371533+31152 -> 402685 | G22: =F22/E22 -> 1
B23: Dologi kiadások és egyéb folyó kiadások | C23: 490000 | D23: =490000+122468 -> 612468 | E23: =490000+122468 -> 612468 | F23: =490000+122468 -> 612468 | G23: =F23/E23 -> 1
B24: Ellátottak pénzbeli juttatásai
B25: Egyéb működési célú kiadások
B26: Beruházások | C26: 15000 | D26: =15000+80969 -> 95969 | E26: =15000+80969 -> 95969 | F26: =15000+80969 -> 95969 | G26: =F26/E26 -> 1
B27: Felújítások
B28: Egyéb felhalmozási célú kiadások - Munkáltatói kölcsön | C28: 4000 | D28: 4000 | E28: 4000 | F28: 4000 | G28: =F28/E28 -> 1
B29: Költségvetési kiadások | C29: =SUM(C21:C28) -> 3329982 | D29: =SUM(D21:D28) -> 3671953 | E29: =SUM(E21:E28) -> 3671953 | F29: =SUM(F21:F28) -> 3671953 | G29: =F29/E29 -> 1
A30: 3027 | B30: EU-s és önkormányzati választás
B31: Személyi juttatások | C31: 42670 | D31: =42670+19288 -> 61958 | E31: =42670+19288 -> 61958 | F31: =61958+5952 -> 67910 | G31: =F31/E31 -> 1.0960651
B32: Munkaadókat terhelő jár. és szociális hozzájár.adó | C32: 6096 | D32: =6096+2924 -> 9020 | E32: =6096+2924 -> 9020 | F32: =9020+1745 -> 10765 | G32: =F32/E32 -> 1.193459
B33: Dologi kiadások és egyéb folyó kiadások | C33: 5000 | D33: =5000+6580 -> 11580 | E33: =5000+6580 -> 11580 | F33: =11580+2014 -> 13594 | G33: =F33/E33 -> 1.1739206
B34: Ellátottak pénzbeli juttatásai
B35: Egyéb működési célú kiadások
B36: Beruházások
B37: Felújítások
B38: Egyéb felhalmozási célú kiadások - Munkáltatói kölcsön
B39: Költségvetési kiadások | C39: =SUM(C31:C38) -> 53766 | D39: =SUM(D31:D38) -> 82558 | E39: =SUM(E31:E38) -> 82558 | F39: =SUM(F31:F38) -> 92269 | G39: =F39/E39 -> 1.1176264
A40: 3026 | B40: Informatikai működés és fejlesztés
B41: Személyi juttatások
B42: Munkaadókat terhelő jár. és szociális hozzájár.adó
B43: Dologi kiadások és egyéb folyó kiadások | C43: 135000 | D43: =135000+28657 -> 163657 | E43: =135000+28657 -> 163657 | F43: =135000+28657 -> 163657 | G43: =F43/E43 -> 1
B44: Ellátottak pénzbeli juttatásai
B45: Egyéb működési célú kiadások
B46: Beruházások | C46: 15000 | D46: =15000+27764 -> 42764 | E46: =15000+27764 -> 42764 | F46: =15000+27764 -> 42764 | G46: =F46/E46 -> 1
B47: Felújítások
B48: Egyéb felhalmozási célú kiadások
B49: Költségvetési kiadások | C49: =SUM(C40:C46) -> 150000 | D49: =SUM(D40:D46) -> 206421 | E49: =SUM(E40:E46) -> 206421 | F49: =SUM(F40:F46) -> 206421 | G49: =F49/E49 -> 1
A50: 3000 | B50: Polgármesteri Hivatal összesen:
B51: Működési költségvetési kiadások
B52: Személyi juttatások | C52: =SUM(C21+C10+C31) -> 2495119 | D52: =SUM(D21+D10+D31) -> 2621827 | E52: =SUM(E21+E10+E31) -> 2621827 | F52: =SUM(F21+F10+F31) -> 2627779 | G52: =F52/E52 -> 1.0022702
B53: Munkaadókat terhelő jár. és szociális hozzájár.adó | C53: =SUM(C22+C11+C32) -> 378079 | D53: =SUM(D22+D11+D32) -> 412169 | E53: =SUM(E22+E11+E32) -> 412169 | F53: =SUM(F22+F11+F32) -> 413914 | G53: =F53/E53 -> 1.0042337
B54: Dologi kiadások | C54: =SUM(C23+C12+C33)+C43 -> 637000 | D54: =SUM(D23+D12+D33)+D43 -> 795523 | E54: =SUM(E23+E12+E33)+E43 -> 795523 | F54: =SUM(F23+F12+F33)+F43 -> 797537 | G54: =F54/E54 -> 1.0025317
B55: Ellátottak pénzbeli juttatásai | C55: =SUM(C24+C13+C34) -> 0 | D55: =SUM(D24+D13+D34) -> 0 | E55: =SUM(E24+E13+E34) -> 0 | F55: =SUM(F24+F13+F34) -> 0
B56: Egyéb működési célú kiadások
B57: Működési költségvetési kiadások mindösszesen | C57: =SUM(C52:C56) -> 3510198 | D57: =SUM(D52:D56) -> 3829519 | E57: =SUM(E52:E56) -> 3829519 | F57: =SUM(F52:F56) -> 3839230 | G57: =F57/E57 -> 1.0025358
B58: Felhalmozási költségvetési kiadások
B59: Felújítások | C59: =SUM(C27+C16) -> 0 | D59: =SUM(D27+D16) -> 1905 | E59: =SUM(E27+E16) -> 1905 | F59: =SUM(F27+F16) -> 1905 | G59: =F59/E59 -> 1
B60: Beruházások | C60: =SUM(C26+C15+C46)+C36 -> 35000 | D60: =SUM(D26+D15+D46)+D36 -> 143733 | E60: =SUM(E26+E15+E46)+E36 -> 143733 | F60: =SUM(F26+F15+F46)+F36 -> 143733 | G60: =F60/E60 -> 1
B61: Egyéb felhalmozási célú kiadások | C61: =SUM(C28) -> 4000 | D61: =SUM(D28) -> 4000 | E61: =SUM(E28) -> 4000 | F61: =SUM(F28) -> 4000 | G61: =F61/E61 -> 1
B62: Felhalmozási költségvetés kiadások mindösszesen | C62: =SUM(C59:C61) -> 39000 | D62: =SUM(D59:D61) -> 149638 | E62: =SUM(E59:E61) -> 149638 | F62: =SUM(F59:F61) -> 149638 | G62: =F62/E62 -> 1
B63: Költségvetési kiadások mindösszesen | C63: =SUM(C57+C62) -> 3549198 | D63: =SUM(D57+D62) -> 3979157 | E63: =SUM(E57+E62) -> 3979157 | F63: =SUM(F57+F62) -> 3988868 | G63: =F63/E63 -> 1.0024405
B64: Kiadások összesen | C64: =SUM(C63) -> 3549198 | D64: =SUM(D63) -> 3979157 | E64: =SUM(E63) -> 3979157 | F64: =SUM(F63) -> 3988868 | G64: =F64/E64 -> 1.0024405

Sheet 3c.m.
A1: 3/C. sz. melléklet
A2: Az önkormányzat költségvetésében szereplő 2024. évi kiadások
H4: (eFt-ban)
C5: 2024. évi előirányzat 3/2024. | D5: 2024. évi előirányzat 10/2024. | E5: 2024. évi előirányzat 14/2024. | F5: 2024. évi előirányzat /2024. | G5: Index 5./4. | H5: Felhasználást és beszámolást koordináló
A6: Sorsz. | B6: Kiadás megnevezése | H6: bizottság
A8: 1. | B8: 2. | C8: 3. | D8: 4. | E8: 5. | F8: 6. | G8: 7. | H8: 8.
A9: 3050 | B9: Egyéb kommunális feladatok | C9: =SUM(C17+C25+C34+C43+C52+C61) -> 198000 | D9: =SUM(D17+D25+D34+D43+D52+D61) -> 337957 | E9: =SUM(E17+E25+E34+E43+E52+E61) -> 337957 | F9: =SUM(F17+F25+F34+F43+F52+F61) -> 337957 | G9: =F9/E9 -> 1
A10: 3052 | B10: Termelői piac
B11: Személyi juttatások
B12: Munkaadókat terhelő jár. és szociális hozzájár.adó | H12: Városfejlesztési Bizottság
B13: Dologi kiadások és egyéb folyó kiadások | C13: 0 | D13: 0 | E13: 0 | F13: 0 | H13: (beszámolás)
B14: Ellátottak pénzbeli juttatásai
B15: Egyéb működési célú kiadások
B16: Felhalmozási költségvetési kiadások
B17: Költségvetési kiadások | C17: =SUM(C11:C16) -> 0 | D17: =SUM(D11:D16) -> 0 | E17: =SUM(E11:E16) -> 0 | F17: =SUM(F11:F16) -> 0
A18: 3054 | B18: Közterületi növényvédelem
B19: Személyi juttatások
B20: Munkaadókat terhelő jár. és szociális hozzájár.adó | H20: Városfejlesztési Bizottság
B21: Dologi kiadások és egyéb folyó kiadások | C21: 15000 | D21: =15000+1722 -> 16722 | E21: =15000+1722 -> 16722 | F21: =15000+1722 -> 16722 | G21: =F21/E21 -> 1 | H21: (beszámolás)
B22: Ellátottak pénzbeli juttatásai
B23: Egyéb működési célú kiadások
B24: Felhalmozási költségvetési kiadások
B25: Költségvetési kiadások | C25: =SUM(C21:C24) -> 15000 | D25: =SUM(D21:D24) -> 16722 | E25: =SUM(E21:E24) -> 16722 | F25: =SUM(F21:F24) -> 16722 | G25: =F25/E25 -> 1
A26: 3056 | B26: Közterületüzemeltetési egyéb feladatok
B27: Személyi juttatások | H27: Városfejlesztési Bizottság
B28: Munkaadókat terhelő jár. és szociális hozzájár.adó
B29: Dologi kiadások és egyéb folyó kiadások | C29: 5000 | D29: =5000+698+5000 -> 10698 | E29: =5000+698+5000 -> 10698 | F29: =10698-241 -> 10457 | G29: =F29/E29 -> 0.97747242
B30: Ellátottak pénzbeli juttatásai
B31: Egyéb működési célú kiadások
B32: Felújítási kiadások
B33: Beruházások | F33: 241
B34: Költségvetési kiadások | C34: =SUM(C29:C33) -> 5000 | D34: =SUM(D29:D33) -> 10698 | E34: =SUM(E29:E33) -> 10698 | F34: =SUM(F29:F33) -> 10698 | G34: =F34/E34 -> 1
A35: 3057 | B35: Fasorfenntartás
B36: Személyi juttatások | H36: Városfejlesztési Bizottság
B37: Munkaadókat terhelő jár. és szociális hozzájár.adó
B38: Dologi kiadások és egyéb folyó kiadások | C38: 116000 | D38: =116000+100800 -> 216800 | E38: =116000+100800 -> 216800 | F38: =116000+100800 -> 216800 | G38: =F38/E38 -> 1
B39: Ellátottak pénzbeli juttatásai
B40: Egyéb működési célú kiadások
B41: Felújítási kiadások
B42: Beruházások
B43: Költségvetési kiadások | C43: =SUM(C38:C42) -> 116000 | D43: =SUM(D38:D42) -> 216800 | E43: =SUM(E38:E42) -> 216800 | F43: =SUM(F38:F42) -> 216800 | G43: =F43/E43 -> 1
A44: 3058 | B44: Erdőgazdálkodás
B45: Személyi juttatások | H45: Városfejlesztési Bizottság
B46: Munkaadókat terhelő jár. és szociális hozzájár.adó
B47: Dologi kiadások és egyéb folyó kiadások | C47: 12000 | D47: =12000+11997 -> 23997 | E47: =12000+11997 -> 23997 | F47: =12000+11997 -> 23997 | G47: =F47/E47 -> 1
B48: Ellátottak pénzbeli juttatásai
B49: Egyéb működési célú kiadások
B50: Felújítási kiadások
B51: Beruházások | C51: 0 | D51: 0 | E51: 0 | F51: 0
B52: Költségvetési kiadások | C52: =SUM(C47:C51) -> 12000 | D52: =SUM(D47:D51) -> 23997 | E52: =SUM(E47:E51) -> 23997 | F52: =SUM(F47:F51) -> 23997 | G52: =F52/E52 -> 1
A53: 3059 | B53: Ferencvárosi Klímastratégia végrehajtása
B54: Személyi juttatások | H54: Városfejlesztési Bizottság
B55: Munkaadókat terhelő jár. és szociális hozzájár.adó
B56: Dologi kiadások és egyéb folyó kiadások | C56: 50000 | D56: =50000+7119 -> 57119 | E56: =50000+7119 -> 57119 | F56: =50000+7119 -> 57119 | G56: =F56/E56 -> 1
B57: Ellátottak pénzbeli juttatásai
B58: Egyéb működési célú kiadások
B59: Felújítási kiadások
B60: Beruházások | C60: 0 | D60: 12621 | E60: 12621 | F60: 12621 | G60: =F60/E60 -> 1
B61: Költségvetési kiadások | C61: =SUM(C56:C60) -> 50000 | D61: =SUM(D56:D60) -> 69740 | E61: =SUM(E56:E60) -> 69740 | F61: =SUM(F56:F60) -> 69740 | G61: =F61/E61 -> 1
A62: 3060 | B62: Közúti közlekedés | C62: =SUM(C70+C78) -> 27000 | D62: =SUM(D70+D78) -> 27127 | E62: =SUM(E70+E78) -> 27127 | F62: =SUM(F70+F78) -> 27127 | G62: =F62/E62 -> 1
A63: 3061 | B63: Közutak üzemeltetése
B64: Személyi juttatások
B65: Munkaadókat terhelő jár. és szociális hozzájár.adó | H65: Városfejlesztési Bizottság (beszámolás)
B66: Dologi kiadások és egyéb folyó kiadások | C66: 2000 | D66: =2000+110 -> 2110 | E66: =2000+110 -> 2110 | F66: =2000+110 -> 2110 | G66: =F66/E66 -> 1
B67: Ellátottak pénzbeli juttatásai | H67: József Attila Városrészi Önk. (beszámolás)
B68: Egyéb működési célú kiadások
B69: Beruházások
B70: Költségvetési kiadások | C70: =SUM(C64:C69) -> 2000 | D70: =SUM(D64:D69) -> 2110 | E70: =SUM(E64:E69) -> 2110 | F70: =SUM(F64:F69) -> 2110 | G70: =F70/E70 -> 1
A71: 3071 | B71: Köztisztasági feladatok
B72: Személyi juttatások
B73: Munkaadókat terhelő jár. és szociális hozzájár.adó
B74: Dologi kiadások és egyéb folyó kiadások | C74: 25000 | D74: =25000+17 -> 25017 | E74: =25000+17 -> 25017 | F74: =25000+17 -> 25017 | G74: =F74/E74 -> 1 | H74: Városfejlesztési Bizottság
B75: Ellátottak pénzbeli juttatásai
B76: Egyéb működési célú kiadások
B77: Felhalmozási költségvetési kiadások
B78: Költségvetési kiadások | C78: =SUM(C74:C77) -> 25000 | D78: =SUM(D74:D77) -> 25017 | E78: =SUM(E74:E77) -> 25017 | F78: =SUM(F74:F77) -> 25017 | G78: =F78/E78 -> 1
A79: 3080 | B79: Egyéb kiegészítő szolgáltatás | C79: =SUM(C87) -> 23000 | D79: =SUM(D87) -> 31418 | E79: =SUM(E87) -> 31418 | F79: =SUM(F87) -> 31418 | G79: =F79/E79 -> 1
A80: 3081 | B80: Köztemetés
B81: Személyi juttatások
B82: Munkaadókat terhelő jár. és szociális hozzájár.adó
B83: Dologi kiadások és egyéb folyó kiadások | C83: 10000 | D83: =10000+1532 -> 11532 | E83: =10000+1532 -> 11532 | F83: =10000+1532 -> 11532 | G83: =F83/E83 -> 1
B84: Ellátottak pénzbeli támogatása | C84: 13000 | D84: =13000+6886 -> 19886 | E84: =13000+6886 -> 19886 | F84: =13000+6886 -> 19886 | G84: =F84/E84 -> 1
B85: Egyéb működési célú kiadások
B86: Felhalmozási költségvetési kiadások
B87: Költségvetési kiadások | C87: =SUM(C81:C86) -> 23000 | D87: =SUM(D81:D86) -> 31418 | E87: =SUM(E81:E86) -> 31418 | F87: =SUM(F81:F86) -> 31418 | G87: =F87/E87 -> 1
A88: 3130 | B88: Önkormányzati vagyon gazdálkodásával kapcs. feladatok | C88: =SUM(C89+C132) -> 1264401 | D88: =SUM(D89+D132) -> 3035208 | E88: =SUM(E89+E132) -> 3041558 | F88: =SUM(F89+F132) -> 3058558 | G88: =F88/E88 -> 1.0055892
A89: 3110 | B89: Önkormányzati vagyon gazd. kapcs. feladatok - általános | C89: =SUM(C97+C115+C123+C105+C131) -> 1235401 | D89: =SUM(D97+D115+D123+D105+D131) -> 3004642 | E89: =SUM(E97+E115+E123+E105+E131) -> 3006642 | F89: =SUM(F97+F115+F123+F105+F131) -> 3021642 | G89: =F89/E89 -> 1.004989
A90: 3111 | B90: Lakáslemondás térítés, lakásbiztosíték visszafizetés | H90: Gazdasági Bizottság
B91: Személyi juttatások
B92: Munkaadókat terhelő jár. és szociális hozzájár.adó
B93: Dologi kiadások és egyéb folyó kiadások | E93: 3745 | F93: =3745+212 -> 3957 | G93: =F93/E93 -> 1.0566088
B94: Ellátottak pénzbeli juttatásai
B95: Egyéb működési célú kiadások
B96: Egyéb felhalmozási célú kiadások | C96: =500000+414000+200000 -> 1114000 | D96: =1114000+618235+1000000+100000 -> 2832235 | E96: =2832235-3745 -> 2828490 | F96: =2828490-212 -> 2828278 | G96: =F96/E96 -> 0.99992505
B97: Költségvetési kiadások | C97: =SUM(C91:C96) -> 1114000 | D97: =SUM(D91:D96) -> 2832235 | E97: =SUM(E91:E96) -> 2832235 | F97: =SUM(F91:F96) -> 2832235 | G97: =F97/E97 -> 1
A98: 3112 | B98: Játszóterek karbantartása
B99: Személyi juttatások
B100: Munkaadókat terhelő jár. és szociális hozzájár.adó
B101: Dologi kiadások és egyéb folyó kiadások | C101: 40000 | D101: =40000+20614 -> 60614 | E101: =40000+20614 -> 60614 | F101: =40000+20614 -> 60614 | G101: =F101/E101 -> 1 | H101: Városfejlesztési Bizottság
B102: Ellátottak pénzbeli juttatásai | H102: József Attila Városrészi Önk.
...

Sheet 3d.m.
A2: 3/D. sz. melléklet
A3: Az önkormányzat költségvetésében szereplő támogatások 2024. évi kiadásai
H4: (eFt-ban)
C5: 2024. évi előirányzat 3/2024. | D5: 2024. évi előirányzat 10/2024. | E5: 2024. évi előirányzat 14/2024. | F5: 2024. évi előirányzat /2024. | G5: Index 5./4. | H5: Felhasználást és beszámolást koordináló
A6: Sorsz. | B6: Feladat megnevezése | H6: bizottság
A8: 1. | B8: 2. | C8: 3. | D8: 4. | E8: 5. | F8: 6. | G8: 7. | H8: 8.
B9: Egyéb általános szolgáltatások
A10: 3911 | B10: Társasházak támogatása | C10: 2293 | D10: =2293+615 -> 2908 | E10: =2908+17227 -> 20135 | F10: =2908+17227 -> 20135 | G10: =F10/E10 -> 1
A11: 3910 | B11: Összesen | C11: =SUM(C10:C10) -> 2293 | D11: =SUM(D10:D10) -> 2908 | E11: =SUM(E10:E10) -> 20135 | F11: =SUM(F10:F10) -> 20135 | G11: =F11/E11 -> 1
B12: Közrend és közbiztonság, közösségi szolgáltatások
A13: 3923 | B13: Polgárőr Egyesület támogatása | C13: 3000 | D13: =3000+2000 -> 5000 | E13: =3000+2000 -> 5000 | F13: =3000+2000 -> 5000 | G13: =F13/E13 -> 1
A14: 3924 | B14: IX. kerületi Rendőrkapitányság támogatása | C14: 9000 | D14: 9000 | E14: 9000 | F14: 9000 | G14: =F14/E14 -> 1
A15: 3925 | B15: FEV IX. Zrt. támogatása | C15: 179600 | D15: 179600 | E15: 179600 | F15: 179600 | G15: =F15/E15 -> 1 | H15: Városfejlesztési Bizottság,Gazdasági Bizottság (beszámolás)
A16: 3926 | B16: Tűzoltóság támogtása | C16: 2000 | D16: =2000+1700 -> 3700 | E16: =2000+1700 -> 3700 | F16: =2000+1700 -> 3700 | G16: =F16/E16 -> 1
A17: 3927 | B17: Faültetés támogatása | C17: 3000 | D17: 3000 | E17: 3000 | F17: =3000+2000 -> 5000 | G17: =F17/E17 -> 1.6666667 | H17: Városfejlesztési Bizottság
A18: 3928 | B18: Társasház felújítási pályázat | C18: =SUM(C22+C19) -> 221000 | D18: =SUM(D22+D19) -> 421765 | E18: =SUM(E22+E19) -> 421765 | F18: =SUM(F22+F19) -> 421765 | G18: =F18/E18 -> 1 | H18: Városfejlesztési Bizottság
B19: ebből:társasházak lépcsőházi kamerák támogatása | C19: =SUM(C20:C21) -> 21000 | D19: =SUM(D20:D21) -> 23065 | E19: =SUM(E20:E21) -> 23065 | F19: =SUM(F20:F21) -> 22565 | G19: =F19/E19 -> 0.97832213
B20: Dologi kiadások | C20: 12500 | D20: =12500+2065 -> 14565 | E20: =12500+2065 -> 14565 | F20: =12500+2065 -> 14565 | G20: =F20/E20 -> 1
B21: Beruházási kiadások | C21: 8500 | D21: 8500 | E21: 8500 | F21: =8500-500 -> 8000 | G21: =F21/E21 -> 0.94117647
B22: Egyéb felhalmozási célú kiadások | C22: 200000 | D22: =200000+198700 -> 398700 | E22: =200000+198700 -> 398700 | F22: =398700+500 -> 399200 | G22: =F22/E22 -> 1.0012541
A23: 3920 | B23: Összesen | C23: =C13+C14+C15+C16+C17+C18 -> 417600 | D23: =D13+D14+D15+D16+D17+D18 -> 622065 | E23: =E13+E14+E15+E16+E17+E18 -> 622065 | F23: =F13+F14+F15+F16+F17+F18 -> 624065 | G23: =F23/E23 -> 1.0032151
B24: Oktatás
A25: 3931 | B25: Bursa Hungarica | C25: 2000 | D25: 2000 | E25: 2000 | F25: 2000 | G25: =F25/E25 -> 1 | H25: Kulturális Bizottság (beszámolás)
A26: 3932 | B26: Deák Alapítvány | C26: 15000 | D26: 15000 | E26: 15000 | F26: 15000 | G26: =F26/E26 -> 1 | H26: Kulturális Bizottság (beszámolás)
A27: 3934 | B27: Tanoda támogatás | C27: 0 | D27: 0 | E27: 0 | F27: 0 | G27: =F27/E27 -> #DIV/0!
A28: 3935 | B28: GAPS Alapítvány | C28: 12154 | D28: 12154 | E28: 12154 | F28: 12154 | G28: =F28/E28 -> 1
A29: 3930 | B29: Összesen | C29: =SUM(C25:C28) -> 29154 | D29: =SUM(D25:D28) -> 29154 | E29: =SUM(E25:E28) -> 29154 | F29: =SUM(F25:F28) -> 29154 | G29: =F29/E29 -> 1
B30: Egészszégügy, szociális védelem
A31: 3941 | B31: FESZOFE kiemelkedően közhasznú Non-profit Kft működési tám. | C31: 943000 | D31: 943000 | E31: 943000 | F31: =943000+30000 -> 973000 | G31: =F31/E31 -> 1.0318134 | H31: Városfejl. Biz., Szoc. és Eügyi Biz., Gazdasági Biz. (beszámolás)
A32: 3943 | B32: Akadálymentesítési támogatás | H32: Szociális és egészségügyi Bizottság
B33: Személyi juttatás
B34: Munkaadókat terhelő járulékok
B35: Egyéb felhalmozási célú kiadások
A36: 3944 | B36: Orvosi rendelők energ. költs. Támogatása | G36: =F36/E36 -> #DIV/0!
A37: 3940 | B37: Összesen: | C37: =SUM(C31:C32)+C36 -> 943000 | D37: =SUM(D31:D32)+D36 -> 943000 | E37: =SUM(E31:E32)+E36 -> 943000 | F37: =SUM(F31:F32)+F36 -> 973000 | G37: =F37/E37 -> 1.0318134
B38: Szabadidő, sport, kultúra, vallás
A39: 3961 | B39: Zeneművészeti szervezetek támogatása | D39: 313826 | E39: 313826 | F39: 313826 | G39: =F39/E39 -> 1
A40: 3972 | B40: Kulturális tevékenység, egyházi és civil szerv.támog támogatása | C40: 45000 | D40: =45000+1475 -> 46475 | E40: =E41+E42+E43 -> 46475 | F40: =F41+F42+F43 -> 46475 | G40: =F40/E40 -> 1 | H40: Kulturális Bizottság, Szociális és Egészségügyi Bizottság
B41: Dologi kiadások | E41: 50 | F41: 50 | G41: =F41/E41 -> 1
B42: Egyéb működési célú kiadások | E42: =46475-550 -> 45925 | F42: =46475-550 -> 45925 | G42: =F42/E42 -> 1
B43: Egyéb felhalmozási célú kiadások | E43: 500 | F43: 500 | G43: =F43/E43 -> 1
A44: 3973 | B44: Irodalmi pályázat | C44: =SUM(C45:C46) -> 5100 | D44: =SUM(D45:D46) -> 5929 | E44: =SUM(E45:E46) -> 5929 | F44: =SUM(F45:F47) -> 5929 | G44: =F44/E44 -> 1
B45: Személyi juttatás | C45: 4513 | D45: =4513+676 -> 5189 | E45: =4513+676 -> 5189 | F45: =5189-3 -> 5186 | G45: =F45/E45 -> 0.99942185
B46: Munkaadókat terhelő járulékok | C46: 587 | D46: =587+153 -> 740 | E46: =587+153 -> 740 | F46: =587+153 -> 740 | G46: =F46/E46 -> 1
B47: Dologi kiadások | F47: 3
A48: 3975 | B48: Konkáv Közösségi tér - Köztes átmenetek Nonprofit Kft. | C48: 10000 | D48: 10000 | E48: 10000 | F48: 10000 | G48: =F48/E48 -> 1
A49: 3970 | B49: Összesen | C49: =C39+C40+C44+C48 -> 60100 | D49: =D39+D40+D44+D48 -> 376230 | E49: =E39+E40+E44+E48 -> 376230 | F49: =F39+F40+F44+F48 -> 376230 | G49: =F49/E49 -> 1
B50: Nemzetiségi közfeladatok ellátása és támogatása
A51: 3989 | B51: Nemzetiségi önkormányzatok pályázati támogatása | C51: 6000 | D51: 6000 | E51: 6000 | F51: 6000 | G51: =F51/E51 -> 1 | H51: Kulturális Bizottság
A52: 3987 | B52: Ruszin Nemzetiségi Önkormányzat | F52: 225
A53: 3988 | B53: Horvát Nemzetiségi Önkormányzat | F53: 225
A54: 3990 | B54: Bolgár Nemzetiségi Önkormányzat | C54: 1000 | D54: 1000 | E54: 1000 | F54: 1000 | G54: =F54/E54 -> 1
A55: 3991 | B55: Roma Nemzetiségi Önkormányzat | C55: 4820 | D55: 4820 | E55: 4820 | F55: 4820 | G55: =F55/E55 -> 1
A56: 3992 | B56: Görög Nemzetiségi Önkormányzat | C56: 1400 | D56: 1400 | E56: 1400 | F56: 1400 | G56: =F56/E56 -> 1
A57: 3993 | B57: Német Nemzetiségi Önkormányzat | C57: 900 | D57: 900 | E57: 900 | F57: 900 | G57: =F57/E57 -> 1
A58: 3994 | B58: Örmény Nemzetiségi Önkormányzat | C58: 900 | D58: 900 | E58: 900 | F58: 900 | G58: =F58/E58 -> 1
A59: 3995 | B59: Román Nemzetiségi Önkormányzat | C59: 900 | D59: 900 | E59: 900 | F59: 900 | G59: =F59/E59 -> 1
A60: 3997 | B60: Szerb Nemzetiségi Önkormányzat | C60: 900 | D60: 900 | E60: 900 | F60: 900 | G60: =F60/E60 -> 1
A61: 3998 | B61: Szlovák Nemzetiségi Önkormányzat | C61: 900 | D61: 900 | E61: 900 | F61: 900 | G61: =F61/E61 -> 1
A62: 3999 | B62: Ukrán Nemzetiségi Önkormányzat | C62: 1000 | D62: 1000 | E62: 1000 | F62: 1000 | G62: =F62/E62 -> 1
B63: Összesen | C63: =SUM(C51:C62) -> 18720 | D63: =SUM(D51:D62) -> 18720 | E63: =SUM(E51:E62) -> 18720 | F63: =SUM(F51:F62) -> 19170 | G63: =F63/E63 -> 1.0240385
A64: 3900 | B64: Támogatások összesen: | C64: =C37+C23+C11+C29+C49+C63 -> 1470867 | D64: =D37+D23+D11+D29+D49+D63 -> 1992077 | E64: =E37+E23+E11+E29+E49+E63 -> 2009304 | F64: =F37+F23+F11+F29+F49+F63 -> 2041754 | G64: =F64/E64 -> 1.0161499
B65: Személyi juttatás | C65: =SUM(C33)+C45 -> 4513 | D65: =SUM(D33)+D45 -> 5189 | E65: =SUM(E33)+E45 -> 5189 | F65: =SUM(F33)+F45 -> 5186 | G65: =F65/E65 -> 0.99942185
B66: Munkaadókat terhelő járulékok és szociális hozzájárulási adó | C66: =SUM(C34)+C46 -> 587 | D66: =SUM(D34)+D46 -> 740 | E66: =SUM(E34)+E46 -> 740 | F66: =SUM(F34)+F46 -> 740 | G66: =F66/E66 -> 1
B67: Dologi kiadások | C67: =SUM(C20) -> 12500 | D67: =SUM(D20) -> 14565 | E67: =SUM(E20)+E41 -> 14615 | F67: =SUM(F20)+F41+F47 -> 14618 | G67: =F67/E67 -> 1.0002053
B68: Egyéb működési célú kiadások | C68: =SUM(C11+C23+C29+C37+C49+C63)-C72-C65-C66-C67-C71 -> 1237474 | D68: =SUM(D11+D23+D29+D37+D49+D63)-D72-D65-D66-D67-D71 -> 1554775 | E68: =SUM(E11+E23+E29+E37+E49+E63)-E72-E65-E66-E67-E71 -> 1554225 | F68: =SUM(F11+F23+F29+F37+F49+F63)-F72-F65-F66-F67-F71 -> 1584675 | G68: =F68/E68 -> 1.0195918
B69: ebből államháztartáson belüli | C69: =C14+C16+C25+C26+C63 -> 46720 | D69: =D14+D16+D25+D26+D63 -> 48420 | E69: =E14+E16+E25+E26+E63 -> 48420 | F69: =F14+F16+F25+F26+F63 -> 48870 | G69: =F69/E69 -> 1.0092937
B70: államháztartáson kívüli | C70: =C68-C69 -> 1190754 | D70: =D68-D69 -> 1506355 | E70: =E68-E69 -> 1505805 | F70: =F68-F69 -> 1535805 | G70: =F70/E70 -> 1.0199229
B71: Beruházási kiadások | C71: =SUM(C21) -> 8500 | D71: =SUM(D21) -> 8500 | E71: =SUM(E21) -> 8500 | F71: =SUM(F21) -> 8000 | G71: =F71/E71 -> 0.94117647
B72: Egyéb felhalmozási célú kiadások (Államháztartáson kívülre) | C72: =SUM(C10+C22+C35+C16+C17) -> 207293 | D72: =SUM(D10+D22+D35+D16+D17) -> 408308 | E72: =SUM(E10+E22+E35+E16+E17)+E43 -> 426035 | F72: =SUM(F10+F22+F35+F16+F17)+F43 -> 428535 | G72: =F72/E72 -> 1.0058681
B73: Működési és felhalmozási költségvetési kiadások mindösszesen | C73: =SUM(C11+C23+C29+C37+C49+C63) -> 1470867 | D73: =SUM(D11+D23+D29+D37+D49+D63) -> 1992077 | E73: =SUM(E11+E23+E29+E37+E49+E63) -> 2009304 | F73: =SUM(F11+F23+F29+F37+F49+F63) -> 2041754 | G73: =F73/E73 -> 1.0161499

Sheet 4.mell.
A1: 4. sz. melléklet
A2: 2024. évi felújítások (felújítási kiadások, egyéb felhalmozási célú kiadások és egyéb felújítási munkákhoz kapcsolódó kiadások)
H3: (eFt-ban)
C4: 2024. évi előirányzat 3/2024. | D4: 2024. évi előirányzat 10/2024. | E4: 2024. évi előirányzat 14/2024. | F4: 2024. évi előirányzat /2024. | G4: Index 6./5.
A5: Sorsz. | B5: Feladat megnevezése | H5: Felhasználást beszámolást koordináló
H6: bizottság
A7: 1. | B7: 2. | C7: 3. | D7: 4. | E7: 5. | F7: 6. | G7: 7. | H7: 8.
B8: I. Önkormányzati felújítások
B9: Egyéb kommunális feladatok
A10: 4010 | B10: Ifjúmunkás utca 28-30 Sportpályák felújítása | D10: 0 | E10: 0 | F10: 0
A11: 4012 | B11: Haller park felújítás | C11: =250000-200000 -> 50000 | D11: =50000+6947 -> 56947 | E11: =50000+6947 -> 56947 | F11: =F12+F13 -> 56947 | G11: =F11/E11 -> 1 | H11: Városfejlesztési Bizottság (beszámolás)
B12: Dologi kiadások | F12: 100
B13: Felújítási kiadások | F13: 56847
A14: 4013 | B14: Valéria tér felújítása | D14: =D15 -> 283 | E14: =E15 -> 283 | F14: =F15 -> 283 | G14: =F14/E14 -> 1
B15: Dologi kiadások | D15: 283 | E15: 283 | F15: 283 | G15: =F15/E15 -> 1
A16: 4014 | B16: Játszóterek, műfüves és sportpályák, fitness eszközök, zöldf. felúj., | C16: 124267 | D16: =124267+96539 -> 220806 | E16: =124267+96539 -> 220806 | F16: =124267+96539 -> 220806 | G16: =F16/E16 -> 1 | H16: Városfejlesztési Bizottság, József A. Városrészi Önk.
A17: 4015 | B17: Ifjúmunkás u. útburkolat felújítása | C17: 139501 | D17: 139501 | E17: 139501 | F17: 139501 | G17: =F17/E17 -> 1
A18: 4016 | B18: Thaly passzázs közvilágítás | C18: 10000 | D18: 10000 | E18: 10000 | F18: 10000 | G18: =F18/E18 -> 1
A19: 4018 | B19: Utak felújítása, javítása | C19: 117169 | D19: =117169+120000+30000 -> 267169 | E19: =117169+120000+30000 -> 267169 | F19: =117169+120000+30000 -> 267169 | G19: =F19/E19 -> 1
A20: 4019 | B20: Járdák felújítása | C20: =60000+60000 -> 120000 | D20: 120000 | E20: 120000 | F20: 120000 | G20: =F20/E20 -> 1
A21: 4020 | B21: "Törd a betont" | C21: 59988 | D21: =59988+2000 -> 61988 | E21: =E22+E23+E24 -> 61988 | F21: =F22+F23+F24 -> 61988 | G21: =F21/E21 -> 1
B22: Dologi kiadások | E22: 900 | F22: 900 | G22: =F22/E22 -> 1
B23: Beruházások | D23: 2000 | E23: 2000 | F23: =2000+140 -> 2140 | G23: =F23/E23 -> 1.07
B24: Felújítási kiadások | D24: 59988 | E24: =59988-900 -> 59088 | F24: =59088-140 -> 58948 | G24: =F24/E24 -> 0.99763065
A25: 4021 | B25: Egyéb közterületek felújítása, fejlesztése | C25: =25000+25000+13602+30000-50000 -> 43602 | D25: =D27+D28 -> 110842 | E25: =E27+E28 -> 110842 | F25: =F26+F27+F28 -> 110842 | G25: =F25/E25 -> 1
B26: Dologi kiadások | F26: 300
B27: Beruházások | D27: 9376 | E27: 9376 | F27: 9376 | G27: =F27/E27 -> 1
B28: Felújítási kiadások | D28: =43602+7864+50000 -> 101466 | E28: =43602+7864+50000 -> 101466 | F28: =101466-300 -> 101166 | G28: =F28/E28 -> 0.99704334
A29: 4022 | B29: Kutyafuttatók felújítása | C29: =30000+30000 -> 60000 | D29: =30000+30000 -> 60000 | E29: =30000+30000 -> 60000 | F29: =30000+30000 -> 60000 | G29: =F29/E29 -> 1
A30: 4010 | B30: Egyéb kommunális feladatok összesen | C30: =SUM(C11:C29) -> 724527 | D30: =D10+D11+D14+D16+D17+D18+D19+D20+D21+D25+D29 -> 1047536 | E30: =E10+E11+E14+E16+E17+E18+E19+E20+E21+E25+E29 -> 1047536 | F30: =F10+F11+F14+F16+F17+F18+F19+F20+F21+F25+F29 -> 1047536 | G30: =F30/E30 -> 1
B31: Önkormányzati vagyonnal való gazdálkodás - Ingatlanügyek
A32: 4111 | B32: Soroksári út 84- Koppány utca 3. Épületbontás
A33: 4114 | B33: Önkormányzati lakóházak tetőfelújítás | C33: 33002 | D33: 33002 | E33: 33002 | F33: 33002 | G33: =F33/E33 -> 1
A34: 4121 | B34: Felújításokkal kapcsolatos tervezések , MÁV csatorna tervezés | C34: =60000+61563-10000-20000 -> 91563 | D34: =D35+D36+D37 -> 152279 | E34: =E35+E36+E37 -> 152279 | F34: =F35+F36+F37 -> 152279 | G34: =F34/E34 -> 1 | H34: Városfejlesztési Bizottság, József A. Városrészi Önk.
B35: Dologi kiadások | D35: 6397 | E35: =6397+2100 -> 8497 | F35: =6397+2100 -> 8497 | G35: =F35/E35 -> 1
B36: Beruházások | D36: 4319 | E36: =4319+32000 -> 36319 | F36: =4319+32000 -> 36319 | G36: =F36/E36 -> 1
B37: Felújítási kiadások | D37: =91563+50000 -> 141563 | E37: =141563-34100 -> 107463 | F37: =141563-34100 -> 107463 | G37: =F37/E37 -> 1
A38: 4122 | B38: Balázs Béla utca 27/B, felújítás-tervezés | C38: 0 | D38: 1371 | E38: 1371 | F38: 1371 | G38: =F38/E38 -> 1
A39: 4123 | B39: Közbeszerzési beszerzésekhez kapcsolódó többletkiadások | C39: 0 | D39: 0 | E39: 0 | F39: 0
A40: 4124 | B40: Önkormányzati lakások komfortosítása | C40: 0 | D40: 5214 | E40: 5214 | F40: 5214 | G40: =F40/E40 -> 1
A41: 4125 | B41: Gát u. 24.-26. sz. ingatlan felújítás | C41: 0 | D41: 806163 | E41: 806163 | F41: 806163 | G41: =F41/E41 -> 1
A42: 4126 | B42: Önkormányzati lakások komfortosítása, lakások és helyiségek felújítása | C42: 100000 | D42: =100000+64048+50000 -> 214048 | E42: =E43+E44 -> 214048 | F42: =F43+F44 -> 214048 | G42: =F42/E42 -> 1
B43: Dologi kiadások | E43: 5000 | F43: =5000+100 -> 5100 | G43: =F43/E43 -> 1.02
B44: Felújítási kiadások | E44: 209048 | F44: =209048-100 -> 208948 | G44: =F44/E44 -> 0.99952164
A45: 4127 | B45: Haller u. 50. függőfolyosó felújítás | C45: 0 | D45: 50 | E45: 50 | F45: 50 | G45: =F45/E45 -> 1
A46: 4129 | B46: Telepy u. 34. személyfelvonó létesítése | C46: 33691 | D46: =D47+D48 -> 37120 | E46: =E47+E48 -> 37120 | F46: =F47+F48 -> 37120 | G46: =F46/E46 -> 1
B47: Beruházások | D47: 3429 | E47: =3429+33691 -> 37120 | F47: =3429+33691 -> 37120 | G47: =F47/E47 -> 1
B48: Felújítási kiadások | D48: 33691 | E48: =33691-33691 -> 0 | F48: =33691-33691 -> 0
A49: 4151 | B49: Önkormányzati lakóházak közös területeinek felújítása | C49: 99949 | D49: 99949 | E49: 99949 | F49: 99949 | G49: =F49/E49 -> 1
A50: 4152 | B50: Márton u. 8/a lakóház tervezése | C50: 79883 | D50: 79883 | E50: 79883 | F50: 79883 | G50: =F50/E50 -> 1
A51: 4153 | B51: Tartószerkezeti statikai vizsgálatok | C51: 21171 | D51: 21171 | E51: 21171 | F51: 21171 | G51: =F51/E51 -> 1
A52: 4154 | B52: Tartószerkezeti statikai felújítások | C52: =381000+213491 -> 594491 | D52: =381000+213491 -> 594491 | E52: =381000+213491 -> 594491 | F52: =381000+213491 -> 594491 | G52: =F52/E52 -> 1
A53: 4155 | B53: Balázs Béla utca 27/B lakóépület felújítása | C53: 922474 | D53: 922474 | E53: 922474 | F53: =922474+9500 -> 931974 | G53: =F53/E53 -> 1.0102984
A54: 4156 | B54: Vágóhíd u. 31-33. sz. épület vízvzeték felújítása | C54: 67269 | D54: =67269+2691 -> 69960 | E54: =67269+2691 -> 69960 | F54: =67269+2691 -> 69960 | G54: =F54/E54 -> 1
A55: 4157 | B55: Márton u. 8. részleges bontás | C55: =30999+1500 -> 32499 | D55: =30999+1500 -> 32499 | E55: =E56+E57 -> 32499 | F55: =F56+F57 -> 32499 | G55: =F55/E55 -> 1
B56: Dologi kiadások | E56: 32499 | F56: 32499 | G56: =F56/E56 -> 1
B57: Felújítási kiadások | E57: =32499-32499 -> 0 | F57: =32499-32499 -> 0
A58: 4158 | B58: Gát u. 23-25. tervezés | C58: 50000 | D58: =50000+30000 -> 80000 | E58: =50000+30000 -> 80000 | F58: =50000+30000 -> 80000 | G58: =F58/E58 -> 1
A59: 4159 | B59: Marhagödör és Vágó utcai felújítás | D59: 100000 | E59: 100000 | F59: 100000 | G59: =F59/E59 -> 1
A60: 4160 | B60: Márton utca 8. Lakóház felújítás | D60: 654720 | E60: 654720 | F60: 654720 | G60: =F60/E60 -> 1
A61: 4161 | B61: Ügyfélszolgálati Iroda felújítás | D61: 12000 | E61: 12000 | F61: =F63+F62 -> 12000 | G61: =F61/E61 -> 1
B62: Dologi kiadások | F62: 10300
B63: Felújítási kiadások | F63: 1700
B64: R e h a b i l i t á c i ó ö s s z e s e n : | C64: =SUM(C33:C58) -> 2125992 | D64: =D33+D34+D38+D39+D40+D41+D42+D45+D46+D49+D50+D51+D52+D53+D54+D55+D58+D59+D60+D61 -> 3916394 | E64: =E33+E34+E38+E39+E40+E41+E42+E45+E46+E49+E50+E51+E52+E53+E54+E55+E58+E59+E60+E61 -> 3916394 | F64: =F33+F34+F38+F39+F40+F41+F42+F45+F46+F49+F50+F51+F52+F53+F54+F55+F58+F59+F60+F61 -> 3925894 | G64: =F64/E64 -> 1.0024257
A65: 4131 | B65: Veszélyelhárítás | C65: 30000 | D65: =D66+D67 -> 40360 | E65: =E66+E67 -> 40360 | F65: =F66+F67 -> 40360 | G65: =F65/E65 -> 1 | H65: Városfejlesztési Bizottság (beszámolás)
B66: Dologi kiadások | D66: 10360 | E66: =10360+6000 -> 16360 | F66: =16360+1100 -> 17460 | G66: =F66/E66 -> 1.0672372
B67: Felújítási kiadások | D67: 30000 | E67: =30000-6000 -> 24000 | F67: =24000-1100 -> 22900 | G67: =F67/E67 -> 0.95416667
A68: 4132 | B68: Nem önkormányzati tulajdonú lakóépületek veszélyelhárítása | C68: =18000+8999 -> 26999 | D68: =26999+3000 -> 29999 | E68: =26999+3000 -> 29999 | F68: =26999+3000 -> 29999 | G68: =F68/E68 -> 1 | H68: Városfejlesztési Bizottság (beszámolás)
A69: 4133 | B69: Veszélyes tűzfalak, kémények vizsgálata, bontása, ellenőrzése | C69: 47231 | D69: =47231+20000 -> 67231 | E69: =47231+20000 -> 67231 | F69: =47231+20000 -> 67231 | G69: =F69/E69 -> 1 | H69: Városfejlesztési Bizottság (beszámolás)
A70: 4140 | B70: Gyáli úti aluljáró felújítása | C70: 0 | D70: 0 | E70: 0 | F70: 0
A71: 4141 | B71: Településrendezési eszközök | C71: =20000+24575 -> 44575 | D71: =20000+24575 -> 44575 | E71: =E74+E75 -> 44575 | F71: =F72+F73+F74+F75 -> 44575 | G71: =F71/E71 -> 1 | H71: Városfejlesztési Bizottság (beszámolás)
B72: Személyi juttatások | F72: 1050
B73: Munkaadókat terhelő jár. és szociális hozzájár.adó | F73: 140
B74: Beruházások | E74: 25000 | F74: =25000+3810 -> 28810 | G74: =F74/E74 -> 1.1524
B75: Felújítási kiadások | E75: =44575-25000 -> 19575 | F75: =19575-5000 -> 14575 | G75: =F75/E75 -> 0.74457216
A76: 4100 | B76: Összesen: | C76: =SUM(C64+C65+C68+C69+C71+C70) -> 2274797 | D76: =SUM(D64+D65+D68+D69+D71+D70) -> 4098559 | E76: =SUM(E64+E65+E68+E69+E71+E70) -> 4098559 | F76: =SUM(F64+F65+F68+F69+F71+F70) -> 4108059 | G76: =F76/E76 -> 1.0023179
A77: 4200 | B77: Óvodák, oktatási, szociális és kulturális intézmények összesen
B78: Egészségügy, szociális védelem, szabadidő
A79: 4311 | B79: Börzsöny u. 19. sz. orvosi rendelő felújítása | C79: 157646 | D79: 157646 | E79: =157646-23001 -> 134645 | F79: =F80+F81 -> 134645 | G79: =F79/E79 -> 1
B80: Dologi kiadások
B81: Felújítási kiadások | F81: 134645
A82: 4312 | B82: Csengettyű utcai rendelő | C82: 0 | D82: 0 | E82: 0 | F82: 0
A83: 4313 | B83: Lónyay u. 19. orvosi rendelő nyílászáró | C83: 0 | D83: 0 | E83: 0 | F83: 0
A84: 4323 | B84: Bölcsőde konyha felújítása | C84: 0 | D84: 0 | E84: 0 | F84: 0
A85: 4324 | B85: FESZ épületének felújítása | C85: =SUM(C86:C88) -> 1535518 | D85: =SUM(D86:D88) -> 1563912 | E85: =SUM(E86:E88) -> 1424455 | F85: =SUM(F86:F88) -> 1321049 | G85: =F85/E85 -> 0.92740662
B86: Dologi kiadások | C86: 0 | D86: 0 | E86: 12700 | F86: 12700 | G86: =F86/E86 -> 1
B87: Beruházások | C87: 1535518 | D87: =1535518+21332+7062 -> 1563912 | E87: =1563912-139457-12700 -> 1411755 | F87: =1411755-103406 -> 1308349 | G87: =F87/E87 -> 0.92675358
B88: Felújítási kiadások | C88: 0 | D88: 0 | E88: 0 | F88: 0
A89: 4325 | B89: Idősgondozás átalakítása | C89: 0 | D89: 0 | E89: 0 | F89: 0
A90: 4326 | B90: Toronyház u. 11. tetőfelújítás | C90: 0 | D90: 0 | E90: 0 | F90: 0
A91: 4329 | B91: Orvosi rendelők fűtéskorszerűsítése | C91: 0 | D91: 0 | E91: 0 | F91: 0
A92: 4300 | B92: Egészségügy, szociális védelem, szabadidő összesen | C92: =SUM(C79:C85)+C89+C90+C91 -> 1693164 | D92: =SUM(D79:D85)+D89+D90+D91 -> 1721558 | E92: =SUM(E79:E85)+E89+E90+E91 -> 1559100 | F92: =F79+F82+F83+F84+F85+F89+F90+F91 -> 1455694 | G92: =F92/E92 -> 0.93367584
B93: I. Önkormányzati felújítások összesen: | C93: =SUM(C92+C77+C76+C30) -> 4692488 | D93: =SUM(D92+D77+D76+D30) -> 6867653 | E93: =SUM(E92+E77+E76+E30) -> 6705195 | F93: =SUM(F92+F77+F76+F30) -> 6611289 | G93: =F93/E93 -> 0.98599504
B94: Működési költségvetési kiadások
B95: Személyi juttatások | F95: =F72 -> 1050
B96: Munkaadókat terhelő járulékok | F96: =F73 -> 140
B97: Dologi kiadások | C97: =C86 -> 0 | D97: =D15+D35+D66 -> 17040 | E97: =E15+E35+E66+E22+E43+E56+E86 -> 76239 | F97: =F12+F15+F26+F35+F66+F22+F43+F56+F86+F62+F80 -> 88139 | G97: =F97/E97 -> 1.1560881
B98: Egyéb működési célú kiadások
B99: Működési költségvetési kiadások mindösszesen | C99: =SUM(C95:C98) -> 0 | D99: =SUM(D95:D98) -> 17040 | E99: =SUM(E95:E98) -> 76239 | F99: =SUM(F95:F98) -> 89329 | G99: =F99/E99 -> 1.1716969
B100: Felhalmozási költségvetési kiadások
...

Sheet 5.mell. 
A1: 5. sz. melléklet
A2: 2024. évi beruházási, fejlesztési kiadások
H4: (eFt-ban)
C5: 2024. évi előirányzat 3/2024. | D5: 2024. évi előirányzat 10/2024. | E5: 2024. évi előirányzat 14/2024. | F5: 2024. évi előirányzat /2024. | G5: Index 6./5. | H5: Felhasználást és beszámolást koordináló
A6: Sorsz. | B6: Feladat megnevezése | H6: bizottság
A8: 1. | B8: 2. | C8: 3. | D8: 4. | E8: 5. | F8: 6. | G8: 7. | H8: 8.
B9: I. Önkormányzati beruházások összesen
B10: Egyéb kommunális feladatok
A11: 5002 | B11: Ifjúmunkás utca 32. Fitnesz park | D11: 45694 | E11: 45694 | F11: 45694 | G11: =F11/E11 -> 1
A12: 5003 | B12: MÁV lakótelep parkoló | C12: 45000 | D12: 45000 | E12: 45000 | F12: 45000 | G12: =F12/E12 -> 1
A13: 5004 | B13: MÁV csatornázás | D13: 50000 | E13: 50000 | F13: 50000 | G13: =F13/E13 -> 1
A14: 5005 | B14: Közlekedésbiztonsági fejlesztés | C14: 30000 | D14: =30000+30000 -> 60000 | E14: =30000+30000 -> 60000 | F14: =30000+30000 -> 60000 | G14: =F14/E14 -> 1
A15: 5006 | B15: Napfény u. - Gyáli sarok fásítás | C15: 10000 | D15: 10000 | E15: =E16+E17 -> 10000 | F15: =F16+F17 -> 10000 | G15: =F15/E15 -> 1
B16: Beruházások | E16: =10000-10000 -> 0 | F16: =10000-10000 -> 0
B17: Egyéb felhalmozási célú kiadások | E17: 10000 | F17: 10000 | G17: =F17/E17 -> 1
A18: 5008 | B18: Tinódi parkba illemhelyiség | C18: 35560 | D18: 35560 | E18: 35560 | F18: 35560 | G18: =F18/E18 -> 1
A19: 5009 | B19: Boráros téri lift tervezése | C19: 20000 | D19: 20000 | E19: 20000 | F19: 20000 | G19: =F19/E19 -> 1
A20: 5010 | B20: Elektromos rásegítésű teherszállító kerékpár
A21: 5011 | B21: Haller parkba illemhelyiség építése | C21: =59747+20000 -> 79747 | D21: =59747+20000 -> 79747 | E21: =79747-11971 -> 67776 | F21: =79747-11971 -> 67776 | G21: =F21/E21 -> 1
A22: 5012 | B22: Belső-Ferencváros akadálymentesítés | C22: 199000 | D22: 199000 | E22: 199000 | F22: 199000 | G22: =F22/E22 -> 1
A23: 5013 | B23: Zöldfelületi kataszter, fakataszter elkészítése | D23: =D24 -> 5939 | E23: =E24 -> 8058 | F23: =F24 -> 8058 | G23: =F23/E23 -> 1 | H23: Városfejlesztési Biz., József A. Városrészi Önk. (beszámolás)
B24: Dologi kiadások | D24: 5939 | E24: =5939+2119 -> 8058 | F24: =5939+2119 -> 8058 | G24: =F24/E24 -> 1
A25: 5014 | B25: Faültetés | C25: =10000+10000+20000 -> 40000 | D25: =10000+10000+20000 -> 40000 | E25: =10000+10000+20000 -> 40000 | F25: =10000+10000+20000 -> 40000 | G25: =F25/E25 -> 1 | H25: Városfejlesztési Biz., József A. Városrészi Önk.
A26: 5015 | B26: Kerékpáros infr. tervezés, kiépítés, fejlesztés, okosbicikli tárolók | C26: 15000 | D26: =15000+124 -> 15124 | E26: =E27+E28 -> 15124 | F26: =F27+F28 -> 15124 | G26: =F26/E26 -> 1 | H26: Városfejlesztési Biz., József A. Városrészi Önk.
B27: Dologi kiadások | E27: 410 | F27: 410 | G27: =F27/E27 -> 1
B28: Beruházások | E28: =15124-410 -> 14714 | F28: =15124-410 -> 14714 | G28: =F28/E28 -> 1
A29: 5016 | B29: Közterületi takarítógépek beszerzése | H29: Városfejlesztési Bizottság
A30: 5018 | B30: Boráros téri lámpás zebra
A31: 5019 | B31: Pöttyös utcai metró felszíni rendezés | C31: 364178 | D31: 364178 | E31: 364178 | F31: 364178 | G31: =F31/E31 -> 1
B32: Dologi kiadások | F32: 300
B33: Beruházások | F33: 363878
A34: 5010 | B34: Összesen: | C34: =SUM(C12:C31) -> 838485 | D34: =D11+D12+D13+D14+D15+D18+D19+D21+D22+D23+D25+D26+D31 -> 970242 | E34: =E11+E12+E13+E14+E15+E18+E19+E21+E22+E23+E25+E26+E31 -> 960390 | F34: =F11+F12+F13+F14+F15+F18+F19+F21+F22+F23+F25+F26+F31 -> 960390 | G34: =F34/E34 -> 1
B35: Önkormányzati vagyonnal való gazdálkodás
A36: 5020 | B36: Köztéri nyilvános illemhelyek kialakítása
A37: 5022 | B37: Epreserdő utcában parkolóhelyek kialakítása | C37: 0 | D37: 0 | E37: 0 | F37: 0
A38: 5023 | B38: Ecseri úti metró megálló felszíni rendezése | C38: 1094589 | D38: 1094589 | E38: =E39+E40 -> 1094589 | F38: =F39+F40 -> 1151312 | G38: =F38/E38 -> 1.0518213
B39: Dologi kiadások | E39: 16002 | F39: 16002 | G39: =F39/E39 -> 1
B40: Beruházások | E40: =1094589-16002 -> 1078587 | F40: =1094589-16002+56723 -> 1135310 | G40: =F40/E40 -> 1.0525901
A41: 5024 | B41: Munkásszálló kialakítása | D41: =D42 -> 4660 | E41: =E42 -> 4660 | F41: =F42 -> 4660 | G41: =F41/E41 -> 1
B42: Dologi kiadások | D42: 4660 | E42: 4660 | F42: 4660 | G42: =F42/E42 -> 1
A43: 5025 | B43: Távíró utca "Zöldaparkoló" | C43: 0 | D43: 0 | E43: 0 | F43: 0
A44: 5026 | B44: Parkolóhely megváltás visszafizetése | F44: 20000
A45: 5020 | B45: Összesen: | C45: =C36+C37+C38+C43 -> 1094589 | D45: =D36+D37+D38+D41+D43 -> 1099249 | E45: =E36+E37+E38+E41+E43 -> 1099249 | F45: =SUM(F38+F41+F44) -> 1175972 | G45: =F45/E45 -> 1.0697958
B46: Közrend, közbiztonság
A47: 5033 | B47: Térfigyelő rendszer fejlesztése | C47: =25000+47117 -> 72117 | D47: =D52+D53 -> 72117 | E47: =E52+E53 -> 72117 | F47: =F52+F53 -> 72117 | G47: =F47/E47 -> 1 | H47: Városfejlesztési Biz., József A. Városrészi Önk.
A48: 5038 | B48: Tervezési díjak TÉR-KÖZ | G48: =F48/E48 -> #DIV/0!
A49: 5037 | B49: Közvilágítás kiépítése MÁV | G49: =F49/E49 -> #DIV/0!
A50: 5039 | B50: MÁV lakótelep víz, közmű | G50: =F50/E50 -> #DIV/0!
A51: 5049 | B51: Tűzliliom park | G51: =F51/E51 -> #DIV/0!
B52: Dologi kiadások | D52: 0 | E52: 0 | F52: 0
B53: Beruházások | D53: 72117 | E53: 72117 | F53: 72117 | G53: =F53/E53 -> 1
A54: 5034 | B54: Gyáli úti okososzlop telepítése | D54: =D55 -> 108 | E54: =E55 -> 108 | F54: =F55 -> 108 | G54: =F54/E54 -> 1
B55: Dologi kiadások | D55: 108 | E55: 108 | F55: 108 | G55: =F55/E55 -> 1
A56: 5030 | B56: Összesen: | C56: =SUM(C47) -> 72117 | D56: =SUM(D47)+D54 -> 72225 | E56: =SUM(E47)+E54 -> 72225 | F56: =SUM(F47)+F54 -> 72225 | G56: =F56/E56 -> 1
B57: Egészségügy, szoc.,szabadidő, sport, kultúra, oktatás, vallás
A58: 5056 | B58: Molnár F. Magyar-Angol Két Tanítási Nyelvi Ált. Isk. Okostanterem kial. | C58: 8917 | D58: 8917 | E58: 8917 | F58: 8917 | G58: =F58/E58 -> 1
A59: 5061 | B59: Okostanterem kialakítása | C59: 10000 | D59: 10000 | E59: 10000 | F59: 10000 | G59: =F59/E59 -> 1
A60: 5060 | B60: Összesen: | C60: =SUM(C58:C59) -> 18917 | D60: =SUM(D58:D59) -> 18917 | E60: =SUM(E58:E59) -> 18917 | F60: =SUM(F58:F59) -> 18917 | G60: =F60/E60 -> 1
B61: I. Önkormányzati beruházások összesen | C61: =SUM(C56+C45+C34+C60) -> 2024108 | D61: =SUM(D56+D45+D34+D60) -> 2160633 | E61: =SUM(E56+E45+E34+E60) -> 2150781 | F61: =SUM(F56+F45+F34+F60) -> 2227504 | G61: =F61/E61 -> 1.0356722
B62: Működési költségvetési kiadások
B63: Személyi juttatások
B64: Munkaadókat terhelő járulékok és szociális hozzájárulási adó
B65: Dologi kiadások | D65: =D24+D42+D52+D55 -> 10707 | E65: =E24+E39+E42+E52+E55+E27 -> 29238 | F65: =F24+F32+F39+F42+F52+F55+F27 -> 29538 | G65: =F65/E65 -> 1.0102606
B66: Egyéb működési célú kiadások
B67: Működési költségvetési kiadások mindösszesen | C67: =SUM(C63:C66) -> 0 | D67: =SUM(D63:D66) -> 10707 | E67: =SUM(E63:E66) -> 29238 | F67: =SUM(F63:F66) -> 29538 | G67: =F67/E67 -> 1.0102606
B68: Felhalmozási költségvetési kiadások
B69: Felújítások
B70: Beruházások (2.mell.,3.A mell.,3.B., 3/C, 3/D, 4. mell.nélkül) | C70: =SUM(C56+C45+C34+C60)-C65-C63-C64-C71-C69 -> 2024108 | D70: =SUM(D56+D45+D34+D60)-D65-D63-D64-D71-D69 -> 2149926 | E70: =SUM(E56+E45+E34+E60)-E65-E63-E64-E71-E69 -> 2111543 | F70: =SUM(F56+F45+F34+F60)-F65-F63-F64-F71-F69 -> 2167966 | G70: =F70/E70 -> 1.0267212
B71: Egyéb felhalmozási célú kiadások | E71: =E17 -> 10000 | F71: =F17+F44 -> 30000 | G71: =F71/E71 -> 3
B72: Felhalmozási költségvetési kiadások mindösszesen | C72: =SUM(C69:C71) -> 2024108 | D72: =SUM(D69:D71) -> 2149926 | E72: =SUM(E69:E71) -> 2121543 | F72: =SUM(F69:F71) -> 2197966 | G72: =F72/E72 -> 1.0360224
B73: Kiadások mindösszesen | C73: =SUM(C56+C45+C34+C60) -> 2024108 | D73: =SUM(D56+D45+D34+D60) -> 2160633 | E73: =SUM(E56+E45+E34+E60) -> 2150781 | F73: =SUM(F56+F45+F34+F60) -> 2227504 | G73: =F73/E73 -> 1.0356722

Sheet 6.mell. 
A1: 6.sz. melléklet
A3: Az önkormányzat költségvetésében szereplő 2024. évi tartalékok
F6: eFt
A7: Sorsz. | B7: Megnevezés | C7: 2024. évi előirányzat 3/2024. | D7: 2024. évi előirányzat 10/2024. | E7: 2024. évi előirányzat 14/2024. | F7: 2024. évi előirányzat /2024.
A10: 1. | B10: 2. | C10: 3. | D10: 4. | E10: 4. | F10: 5.
A12: 6110 | B12: Általános tartalék - egyéb működési célú kiadás | C12: 16404 | D12: =16404+325700+2972593-3264697 -> 50000 | E12: =50000+48036-5000-49016-2000 -> 42020 | F12: =42020+14873+59330-9500-56723 -> 50000
A14: 6120 | B14: Céltartalék - egyéb működés célú kiadás | C14: =SUM(C16+C20) -> 27583 | D14: =SUM(D16+D20) -> 76173 | E14: =SUM(E16+E20) -> 56173 | F14: =SUM(F16+F20) -> 56173
B16: ebből: Működési célú céltartalék | C16: =SUM(C17) -> 0 | D16: =SUM(D17) -> 0 | E16: =SUM(E17) -> 0 | F16: =SUM(F17) -> 0
A17: 6125 | B17: Bérfejlesztés 2024
B20: ebből: Felhalmozási célú céltartalék | C20: =SUM(C21:C25) -> 27583 | D20: =SUM(D21:D25) -> 76173 | E20: =SUM(E21:E25) -> 56173 | F20: =SUM(F21:F25) -> 56173
A21: 6135 | B21: Parkoló Alap | C21: 27583 | D21: 27583 | E21: =27583-20000 -> 7583 | F21: 7583
A22: 6137 | B22: FIÜK beruházási feladatokra céltartalék
A23: 6141 | B23: AVICO Riverbay telekátlkítási megállapodás | C23: 0 | D23: 48590 | E23: 48590 | F23: 48590
A24: 6142 | B24: Fejlesztési céltartalék
A26: 6100 | B26: Mindösszesen | C26: =SUM(C16+C20+C12) -> 43987 | D26: =SUM(D16+D20+D12) -> 126173 | E26: =SUM(E16+E20+E12) -> 98193 | F26: =SUM(F16+F20+F12) -> 106173

Sheet 7.mell
B2: 7. sz. melléklet
B4: Többéves kihatással járó kötelezettségek
B6: Fejlesztési célú hitelállomány kimutatása
E7: eFt
B8: Év | C8: Tőke/ kamat | D8: 19383 UniCredit Bank | E8: Összesen
B11: 2024. | C11: Tőketörl. | D11: 12000 | E11: =SUM(D11) -> 12000
C12: Kamat | D12: 292 | E12: 292
B14: További kötelezettségek | H14: eFt
B16: Megnevezés | D16: 2024 | E16: 2025 | F16: 2026 | G16: 2027 | H16: 2028
B17: WIFI4EU | D17: 113 | E17: 120 | F17: 120
B18: WIFI4EU AP-k üzemeltetése | D18: 1006 | E18: 1006 | F18: 1006
B19: SMS rendszer | D19: 280 | E19: 280 | F19: 280
B20: Magyar telekom internet előfiz. | D20: 317 | E20: 317
B21: Multifunkcionális nyomtatók üzemelt. | D21: 4550
B22: Computrend Kft. | E22: 22000 | F22: 22000
B23: Tanúsított irat-és dokumentumkezelő licencbérlet | E23: 33000
B24: Informatikai rendszer támogatása | D24: 9000 | E24: 9000
B25: Digitális földtani alaptérkép | D25: 212 | E25: 212
B26: Digitális közműtérkép | D26: 1500 | E26: 1800
B27: IP telefon szolg.díja | D27: 4000 | E27: 4000
B28: Asztali nyomtatók üzemelt. | D28: 3000 | E28: 7380
B29: KAPU térinformatika | D29: 4445 | E29: 4100
B30: Adatvédelmi tistv. GDPR | D30: 2743 | E30: 2743
B31: IT- Informatika Biztonság | D31: 2134 | E31: 2134
B32: Ásványvíz beszerzés | D32: 5100 | E32: 2300
B33: Mobil flotta beszerzés | D33: 7500 | E33: 7500
B34: Tisztítószer beszerzés | D34: 7300 | E34: 5200
B35: Hivatali szállítás (taxi) | D35: 2000 | E35: 2000
... B43: Térfelügyeleit kamararendszer kameráinak karbantartása (156 db +7 db) | D43: 11085 | E43: 4565
B44: Balázs Béla u. 27. épületfelújítás | D44: 931974
B45: Praktiker | D45: 3700 | E45: 1300
B46: Hivatali parkolás bérlés | D46: 14000 | E46: 14000
B47: Épület és vagyon biztosítás | D47: 11000 | E47: 11000
B48: Könyvvizsgálati díj | D48: 4445 | E48: 7620 | F48: 7620
B49: ÁFA szakértői díj | D49: 3800 | E49: 2800
B50: Semmelweis Egyetem bérl.díj Közter-f. | D50: 694 | E50: 694 | F50: 694
B51: Moravcsik Alapítvány | D51: 5760 | E51: 5760
B52: Ferencvárosi Kosárlabda Egyesület | D52: 2500 | E52: 2500
B53: Ferencvárosi Torna Club | D53: 7000 | E53: 7000
B54: FTC Vizilabda Utánpótlás | D54: 3000 | E54: 3000
B55: Ippon Kyokushin Karate SE | D55: 400 | E55: 400
B56: FTC Icehokey Utánpótlás | D56: 5000 | E56: 5000
B57: Szent István Sportegyesület | D57: 2100 | E57: 2100
B58: Concerto Akadémia Nonprofit Kft. | D58: 8000 | E58: 8000
B59: Köztemetés | D59: 8820 | E59: 8820 | F59: 4410
B60: Jelzőrendszeres házi segítségnyújtás | D60: 8500 | E60: 3500
B61: Kifli, túró rudi beszerzés | D61: 14000 | E61: 14000
B62: Fővárosi Szabó Ervin könyvtár | D62: 800 | E62: 800 | F62: 800
B63: Márton 8/a felújítás | D63: 654720 | E63: 1345280
B64: Haller park felújítás | E64: 150000
B65: Ecseri metromegálló felszíni rendezés | D65: 1151312 | E65: 700000
B66: Zöldfelületi kataszter, fakataszter elkészítése | D66: 2119 | E66: 530
B67: Tisztító és takarítószerek beszerzése (FIÜK) | D67: 30000 | E67: 15000
B68: Hivatal őrzés | D68: 46990 | E68: 112776 | F68: 46990
B69: FIÜK étkezés biztosítása | D69: 450000 | E69: 450000 | F69: 380000

Sheet 8.mell. 
A1: 8. sz. melléklet
A3: Az Európai Unió-s forrásokkal támogatott fejlesztések tervezett 2024. évi adatairól
A7: Sorsz. | B7: Megnevezés | D7: Tervezett költségvetési adatok | I7: 2024. évi előirányzat 3/2024. | J7: 2024. évi előirányzat 10/2024. | K7: 2024. évi előirányzat 14/2024. | L7: 2024. évi előirányzat /2024.
A9: 1. | B9: VEKOP-7 3 4-17-2017-00011 | D9: Bevétel | E9: Támogatás államháztartáson belülről -működési | K9: 750 | L9: 750
E10: Támogatás államháztartáson belülről -felhalmozási
D11: Kiadások | E11: Személyi juttatások | J11: ='3c.m.'!D399 -> 76 | K11: ='3c.m.'!E399 -> 76 | L11: ='3c.m.'!F399 -> 76
E12: Munkaadókat terhelő járulékok és szocho. | J12: ='3c.m.'!D400 -> 11 | K12: ='3c.m.'!E400 -> 11 | L12: ='3c.m.'!F400 -> 11
E13: Dologi kiadások | J13: ='3c.m.'!D401 -> 100 | K13: ='3c.m.'!E401 -> 100 | L13: ='3c.m.'!F401 -> 100
E14: Egyéb működési célú kiadások
E15: Beruházási kiadások
E16: Felújítási kiadások
E17: ebből önkormányzati hozzájárulás
A18: 2. | B18: EUCF | D18: Bevétel | E18: Támogatás államháztartáson kívülről -működési | I18: ='1b.mell '!C76 -> 0 | J18: ='1b.mell '!D76 -> 0 | K18: 22306 | L18: 22306
E19: Támogatás államháztartáson kívülről -felhalmozási
D20: Kiadások | E20: Személyi juttatások
E21: Munkaadókat terhelő járulékok és szocho.
E22: Dologi kiadások | J22: ='3c.m.'!D419 -> 18605 | K22: ='3c.m.'!E419 -> 18605 | L22: ='3c.m.'!F419 -> 18605
E23: Egyéb működési célú kiadások
E24: Beruházási kiadások
E25: Felújítási kiadások
E26: ebből önkormányzati hozzájárulás
A27: 3. | B27: NEXT LEVEL Parking | D27: Bevétel | E27: Támogatás államháztartáson kívülről -működési | K27: 17820 | L27: 17820
E28: Támogatás államháztartáson kívülről -felhalmozási
D29: Kiadások | E29: Személyi juttatások | K29: 15700 | L29: ='3c.m.'!F426 -> 13045
E30: Munkaadókat terhelő járulékok és szocho. | J30: ='3c.m.'!D427 -> 12 | K30: ='3c.m.'!E427 -> 2052 | L30: ='3c.m.'!F427 -> 1707
E31: Dologi kiadások | J31: ='3c.m.'!D428 -> 280 | K31: ='3c.m.'!E428 -> 360 | L31: ='3c.m.'!F428 -> 3360
E32: Egyéb működési célú kiadások
E33: Beruházási kiadások
E34: Felújítási kiadások
E35: ebből önkormányzati hozzájárulás
A36: Összesen | D36: Bevétel | E36: Támogatás államháztartáson belülről -működési | I36: 0 | J36: 0 | K36: =K9 -> 750 | L36: =L9 -> 750
E37: Támogatás államháztartáson belülről -felhalmozási
E38: Támogatás államháztartáson kívülről -működési | K38: =K18+K27 -> 40126 | L38: =L18+L27 -> 40126
E39: Támogatás államháztartáson kívülről -felhalmozási
D40: Kiadások | E40: Személyi juttatások | I40: =I20 -> 0 | J40: =J11+J20+J29 -> 76 | K40: =K11+K20+K29 -> 15776 | L40: =L11+L20+L29 -> 13121
E41: Munkaadókat terhelő járulékok és szocho. | I41: =I21 -> 0 | J41: =J12+J21+J30 -> 23 | K41: =K12+K21+K30 -> 2063 | L41: =L12+L21+L30 -> 1718
E42: Dologi kiadások | I42: =I22 -> 0 | J42: =J13+J22+J31 -> 18985 | K42: =K13+K22+K31 -> 19065 | L42: =L13+L22+L31 -> 22065
E43: Egyéb működési célú kiadások | I43: =I23 -> 0 | J43: =J14+J23+J32 -> 0 | K43: =K14+K23+K32 -> 0 | L43: =L14+L23+L32 -> 0
E44: Ellátottak pénzbeli juttatásai | I44: =I24 -> 0 | J44: =J15+J24+J33 -> 0 | K44: =K15+K24+K33 -> 0 | L44: =L15+L24+L33 -> 0
E45: Felújítási kiadások | I45: =I25 -> 0 | J45: =J16+J25+J34 -> 0 | K45: =K16+K25+K34 -> 0 | L45: =L16+L25+L34 -> 0
E46: ebből önkormányzati hozzájárulás | I46: =I26 -> 0 | J46: =J17+J26+J35 -> 0 | K46: =K17+K26+K35 -> 0 | L46: =L17+L26+L35 -> 0
E47: Beruházási kiadások | I47: =I27 -> 0 | J47: =J18+J27+J38 -> 0 | K47: =K18+K27+K38 -> 80252 | L47: =L18+L27+L38 -> 80252
E48: ebből önkormányzati hozzájárulás

Sheet 9.mell. 
B2: 9. számú melléklet
B4: 2024. évi Polgármesteri Hivatal és Intézményi engedélyezett létszámadatok
A8: Ssz. | B8: Intézmény megnevezése (Polgármesteri Hivatalnál Irodánként) | E8: Engedélye-zett létszám összesen 2024. év /2024. | F8: Engedélyezett létszám
F9: Szakmai létszám | H9: Egyéb létszám | J9: Közfoglalkoz-tatottak létszáma
F10: Teljes munkaidős | G10: Részmun-kaidős | H10: Teljes munkaidős | I10: Részmun-kaidős
B12: Polgármesteri Hivatal összesen
A14: 1. | B14: Adóiroda | E14: =SUM(F14+G14+H14+I14) -> 17 | F14: 12 | G14: 3 | H14: 1 | I14: 1
A16: 2. | B16: Belső ellenőrzési csoport | E16: =SUM(F16+G16+H16+I16) -> 3 | F16: 3
A18: 3. | B18: Főépítészi és Városrendezési csoport | E18: =SUM(F18+G18+H18+I18) -> 4 | F18: 4
A20: 4. | B20: Hatósági Iroda | E20: =SUM(F20+G20+H20+I20) -> 17 | F20: 16 | G20: 1
A22: 5. | B22: Humánszolgáltatási Iroda | E22: =SUM(F22+G22+H22+I22) -> 31 | F22: 29 | H22: 2
A24: 6. | B24: Közszolgáltatási Iroda | E24: =SUM(F24+G24+H24+I24) -> 23 | F24: 18 | H24: 5
A26: 7. | B26: Jegyzői kabinet | E26: =SUM(F26+G26+H26+I26) -> 35 | F26: 35
A28: 8. | B28: Pénzügyi Iroda | E28: =SUM(F28+G28+H28+I28) -> 25 | F28: 25
A30: 9. | B30: Polgármesteri Kabinet (ebből 1 fő Polgármester, 2 fő Alpolgármester az Önkormányzat létszámába tartozik) | E30: =SUM(F30+G30+H30+I30) -> 15 | F30: 15
A32: 11. | B32: Üzemeltetési Iroda | E32: =SUM(F32+G32+H32+I32) -> 36 | F32: 24 | H32: 12
A34: 12. | B34: Vagyonkezelési Iroda | E34: =SUM(F34+G34+H34+I34) -> 20 | F34: 19 | H34: 1
A36: 13. | B36: Városüzemeltetési Iroda | E36: =SUM(F36+G36+H36+I36) -> 18 | F36: 17 | H36: 1
A38: 14. | B38: Közterület-felügyeleti Iroda | E38: =SUM(F38+G38+H38+I38) -> 55 | F38: 41 | H38: 14
B40: Mindösszesen | E40: =SUM(E14:E39) -> 299 | F40: =SUM(F14:F39) -> 258 | G40: =SUM(G14:G39) -> 4 | H40: =SUM(H14:H39) -> 36 | I40: =SUM(I14:I39) -> 1
A49: 15. | B49: Csicsergő Óvoda | E49: =SUM(F49+G49+H49+I49) -> 32 | F49: 32
A51: 16. | B51: Csudafa Óvoda | E51: =SUM(F51+G51+H51+I51) -> 31 | F51: 31
A53: 17. | B53: Epres Óvoda | E53: =SUM(F53+G53+H53+I53) -> 16 | F53: 16
A55: 18. | B55: Kerekerdő Óvoda | E55: =SUM(F55+G55+H55+I55) -> 61 | F55: 61
A57: 19. | B57: Kicsi Bocs Óvoda | E57: =SUM(F57+G57+H57+I57) -> 32 | F57: 32
A59: 20. | B59: Liliom Óvoda | E59: =SUM(F59+G59+H59+I59) -> 25 | F59: 25
A61: 21. | B61: Méhecske Óvoda | E61: =SUM(F61+G61+H61+I61) -> 16 | F61: 16
A63: 22. | B63: Napfény Óvoda | E63: =SUM(F63+G63+H63+I63) -> 16 | F63: 16
A65: 23. | B65: Ugrifüles Óvoda | E65: =SUM(F65+G65+H65+I65) -> 16 | F65: 16
A67: 24. | B67: Ferencvárosi Intézmény Üzemeltetés Központ | E67: =SUM(F67+G67+H67+I67) -> 164 | F67: 164
A69: 25. | B69: Fvi Egyesített Bölcsödék | E69: =SUM(F69+G69+H69+I69) -> 115 | F69: 69 | G69: 1 | H69: 45
A71: 26. | B71: FESZGYI | E71: =SUM(F71+G71+H71+I71) -> 158 | F71: 123 | G71: =9+2 -> 11 | H71: 22 | I71: 2
A73: 27. | B73: FMK | E73: =SUM(F73+G73+H73+I73) -> 25 | F73: 25
A75: 28. | B75: Pinceszínház | E75: =SUM(F75+G75+H75+I75) -> 15 | F75: 15
A77: 29. | B77: Ferencvárosi Egészségügyi Szolgálat
B79: Összesen nevelési, szoc., kult, intézmények | E79: =SUM(E49:E76) -> 722 | F79: =SUM(F49:F76) -> 641 | G79: =SUM(G49:G74) -> 12 | H79: =SUM(H49:H74) -> 67 | I79: =SUM(I49:I74) -> 2 | J79: =SUM(J49:J74) -> 0
B81: Mindösszesen: | E81: =SUM(E79+E40) -> 1021 | F81: =SUM(F79+F40) -> 899 | G81: =SUM(G79+G40) -> 16 | H81: =SUM(H79+H40) -> 103 | I81: =SUM(I79+I40) -> 3 | J81: =SUM(J79+J40) -> 0

Sheet 10.mell 
A2: 10. sz. melléklet
A3: 2024. évi közvetett támogatások
I7: (eFt-ban)
A8: Sorsz. | B8: A támogatás jellege | F8: Adókedvezmény | H8: Egyéb kedvezmény
F9: jogcím | G9: összeg | H9: jogcím | I9: összeg
A10: 1. | B10: Építményadó | F10: elengedés | G10: 260 | H10: részletfizetés | I10: 156480
A11: 2. | B11: Telekadó | F11: elengedés | H11: részletfizetés | I11: 21435
A12: 3. | B12: Ellátottak térítési díja gyermekétkeztetés | H12: méltányosság | I12: 112
A13: 4. | B13: Ellátottak térítési díja személyes gondoskodás | H13: méltányosság | I13: 13000
A14: 5. | B14: Helyiség bérleti díj (nettó) | H14: közérdekű bérbeadás | I14: 101102

Sheet 11.mell
A3: 11. sz. melléklet
B4: A helyi önkormányzat kötelező feladatai ellátásának költségvetési forrásai és kiadásai
B5: 2024. év
N7: eFt
B8: Kötelező feladatok (Mötv. 23. § (5) bekezdés alapján) | C8: 2024. évi előirányzat /2024. | D8: Költségvetési bevételi előirányzat | E8: Önkormányzatok működési támogatása, elvonások és befizetések | F8: Közhatalmi bevételek | G8: Saját bevétel | H8: Támogatás Áht-n belülről | J8: Átvett pénzeszköz | L8: Előző évi mar. igénybev. | M8: Felhalm. Bev. | N8: Hitelfel- vétel, kölcsön visszat. , tévi megel. Visszaf.
G9: Működési bevételek | H9: Műk. Célú | I9: Felhal. Célú | J9: Műk. Célú | K9: Felhalm. Célú
A10: 1. | B10: Helyi közutak, közterek és parkok kezelése, fejlesztése és üzemeltetése | C10: =SUM(C11:C35) -> 1977675 | D10: =SUM(E10:M10) -> 1977675 | F10: 160683 | G10: 211539 | L10: =L11+L12+L13+L14+L15+L16+L17+L18+L19+L21+L22+L23+L24+L25+L26+L27+L28+L29+L30+L31+L32+L33+L34+L35+744846 -> 1605453
B11: 3054 Kerületi növényvédelem | C11: =SUM('3c.m.'!F25) -> 16722 | L11: 1722
B12: 3056 Közterületüzemeltetési egyéb feladatok | C12: =SUM('3c.m.'!F34) -> 10698 | L12: 698
B13: 3057 Fasorfenntartás | C13: =SUM('3c.m.'!F43) -> 216800 | L13: 100800
B14: 3058 Erdőgazdálkodás | C14: =SUM('3c.m.'!F52) -> 23997 | L14: 11997
B15: 3061 Köztutak üzemeltetése | C15: =SUM('3c.m.'!F70) -> 2110 | L15: 110
B16: 3071 Köztisztasági feladatok | C16: =SUM('3c.m.'!F78) -> 25017 | L16: 17
B17: 3112 Játszóterek karbantartása | C17: =SUM('3c.m.'!F105) -> 60614 | L17: 20614
B18: 3205 Környezetvédelem | C18: =SUM('3c.m.'!F279) -> 92923 | L18: 28423
B19: 3216 FESZOFE Nonprofit Kft | C19: =SUM('3c.m.'!F362) -> 369910 | L19: 51910
B20: 4010 Ifjúmunkás utca 28-30 Sportpályák felújítása | C20: ='4.mell.'!F10 -> 0
B21: 4012 Haller park | C21: =SUM('4.mell.'!F11) -> 56947 | L21: 6947
B22: 4013 Valéria tér felújítása | C22: ='4.mell.'!F14 -> 283 | L22: 283
B23: 4014 Játszóterek, műfüves és sportpályák, fitness eszközök, zöldf.felúj., | C23: =SUM('4.mell.'!F16) -> 220806 | L23: 124267
B24: 4015 Ifjúmunkás utca útburkolat felújítása | C24: ='4.mell.'!F17 -> 139501 | L24: 139501
B25: 4016 Thaly passzázs közvilágítás | C25: ='4.mell.'!F18 -> 10000
B26: 4018 Utak javítása, felújítása | C26: =SUM('4.mell.'!F19) -> 267169 | L26: 117169
B27: 4019 Járdák felújítása | C27: ='4.mell.'!F20 -> 120000 | L27: 60000
B28: 4021 Egyéb közterületek felújítása, fejlesztése | C28: =SUM('4.mell.'!F25) -> 110842 | L28: 30842
B29: 4022 kutyafuttatóf felújítása | C29: =SUM('4.mell.'!F29) -> 60000 | L29: 30000
B30: 5005 Közlekedésbiztonsági fejlesztés | C30: ='5.mell. '!F14 -> 60000 | L30: 30000
B31: 5006 Napfény gyáli fásitás | C31: ='5.mell. '!F15 -> 10000 | L31: 10000
B32: 5008 Tinódi park illemhelyiség | C32: ='5.mell. '!F18 -> 35560 | L32: 35560
B33: 5011 Haller park illemhelyiség | C33: ='5.mell. '!F21 -> 67776 | L33: 59747
B34: 6143 Haller utca fejlesztés | C34: 0 | D34: 0
B35: 5025 Távíró utca "zöldparkoló" | C35: ='5.mell. '!F43 -> 0
A36: 2. | B36: Közterületek használatára vonatkozó szabályok és díjak megáll. | C36: =SUM(C37:C37) -> 20135 | D36: =SUM(E36:N36) -> 20135 | F36: 19520 | L36: =L37 -> 615
B37: 3911 Társasházak támogatása | C37: =SUM('3d.m.'!F10) -> 20135 | L37: 615
A38: 3. | B38: Parkolás üzemeltetése | C38: =SUM(C39:C39) -> 1408539 | D38: =SUM(E38:M38) -> 1408539 | F38: 1157439 | G38: 114104 | L38: =SUM(L39) -> 136996
B39: 3212 Parkolási feladatok (FEV IX. Zrt. Parkolási feladatokkal együttt) | C39: =SUM('3c.m.'!F345) -> 1408539 | L39: 136996
A40: 5. | B40: Helyi településrendezés, településfejlesztés | C40: =SUM(C41:C44) -> 1398376 | D40: =SUM(E40:N40) -> 1398376 | F40: 1054701 | G40: 167348 | L40: =SUM(L41:L44) -> 176327
B41: 3211 FEV IX. Zrt. | C41: =SUM('3c.m.'!F337) -> 1193423 | L41: 77775
B42: 3116 Magyar Máltai Szeretetszolgálat Egyesület Közz.Haszn. | C42: =SUM('3c.m.'!F131) -> 8099 | L42: 1698
B43: 4121 Felújításokkal kapcsolatos tervezések | C43: =SUM('4.mell.'!F34) -> 152279 | L43: 72279
B44: 4141 KÉSZ-ek tervezése | C44: =SUM('4.mell.'!F71) -> 44575 | L44: 24575
A45: 6. | B45: Helyi településrendezési szabályok megalkotása | C45: 0 | D45: =SUM(E45:M45) -> 0
A46: 7. | B46: Turizmussal kapcsolatos szabályok | C46: 0 | D46: =SUM(E46:M46) -> 0
A47: 8. | B47: Ipari és keresk. tev. kapcs. szabályozási jogkörök | C47: 0 | D47: =SUM(E47:M47) -> 0
A48: 9. | B48: Egészségügyi alapell., az egészséges életmód segítését célzó szolg. | C48: =SUM(C49:C51) -> 39716 | D48: =SUM(E48:M48) -> 39716 | F48: 37037 | L48: =SUM(L49:L51) -> 2679
B49: 3301 Egészségügyi prevenció | C49: =SUM('3c.m.'!F451) -> 18679 | L49: 2679
B50: 3348 KÉK Pont | C50: =SUM('3c.m.'!F643) -> 800
B51: 3302 FESZ KN Kft. | C51: =SUM('3c.m.'!F459)-'12.mell'!E24 -> 20237
A52: 10. | B52: Óvodai ellátás | C52: =SUM(C53:C62) -> 2087916 | D52: =SUM(E52:N52) -> 2087916 | E52: 1545198 | F52: 510776 | G52: 10247 | I52: 0 | L52: =SUM(L53:L62) -> 21695
B53: 2305 Csicsergő Óvoda | C53: =SUM('2.mell'!F42) -> 269254 | L53: 1310
B54: 2309 Csudafa Óvoda | C54: =SUM('2.mell'!F77) -> 265211 | L54: 830
B55: 2310 Epres Óvoda | C55: =SUM('2.mell'!F111) -> 127525 | L55: 1280
B56: 2325 Kicsi Bocs Óvoda | C56: =SUM('2.mell'!F180) -> 274495 | L56: 2012
B57: 2315 Kerekerdő Óvoda | C57: =SUM('2.mell'!F146) -> 451129 | L57: 3345
B58: 2330 Liliom Óvoda | C58: =SUM('2.mell'!F214) -> 216190 | L58: 1415
B59: 2335 Méhecske Óvoda | C59: =SUM('2.mell'!F248) -> 144937 | L59: 1130
B60: 2345 Napfény Óvoda | C60: =SUM('2.mell'!F282) -> 146494 | L60: 2692
B61: 2360 Ugrifüles Óvoda | C61: =SUM('2.mell'!F316) -> 136730 | L61: 1730
B62: 3147 SNI, BMI gyermekek ellátása | C62: =SUM('3c.m.'!F224) -> 55951 | L62: 5951
A63: 11. | B63: Gyermekjóléti szolgáltatások, szociális szolgált.ell. | C63: =SUM(C64:C74) -> 86356 | D63: =SUM(E63:N63) -> 86356 | F63: 73429 | L63: =SUM(L64:L74) -> 12927
B64: 3081 Köztemetés | C64: =SUM('3c.m.'!F87) -> 31418 | L64: 8418
B65: 3311 Lakbértámogatás | C65: =SUM('3c.m.'!F513) -> 8500
B66: 3323 Születési és életkezdési támogatás | C66: =SUM('3c.m.'!F553) -> 5000
B67: 3340 Jelzőrendszeres házi segítségnyújtás | C67: =SUM('3c.m.'!F577) -> 9892 | L67: 1392
B68: 3341 VIII. kerület Józsefváros Önkormányzata ellátási szerződés | C68: =SUM('3c.m.'!F585) -> 3000
B69: 3342 Küldetés Egyesület ellátási szerződés | C69: =SUM('3c.m.'!F594) -> 880
B70: 3345 Támogató Szolgálat (Motivácó Alapítvány) | C70: =SUM('3c.m.'!F619) -> 300
B71: 3346 Férőhely fenntartási díj Magyar Vöröskereszt | C71: =SUM('3c.m.'!F627) -> 5310 | L71: 677
B72: 3347 Fogyatékos személyek nappali ellátása Gond-viselés Kht. | C72: =SUM('3c.m.'!F635) -> 2756
B73: 3349 Pszichiátriai betegek nappali ellátása Moravcsik Alapítvány | C73: =SUM('3c.m.'!F651) -> 7200 | L73: 1440
B74: 3350 Fogyatékos személyek nappali ellátása gyermekek Újbuda Önk. | C74: =SUM('3c.m.'!F659) -> 12100 | L74: 1000
A75: 12. | B75: Hajléktalanná vált személyek ell.és rehab., vmint megakadályozása | C75: =SUM(C76) -> 1540 | D75: =SUM(E75:N75) -> 1540 | F75: 1540
B76: 3344 Utcai szociális munka (Menhely Alapítvány) | C76: =SUM('3c.m.'!F611) -> 1540
A77: 13. | B77: Helyi közművelődési tevékenység támogatása, kult. örökség véd. | C77: =SUM(C78:C84) -> 326326 | D77: =SUM(E77:N77) -> 326326 | E77: =SUM(E78:E84) -> 313826 | F77: 12500
B78: 3428 Ferencvárosi Helytörténeti Egyesület | C78: =SUM('3c.m.'!F807) -> 3000
B79: 3429 Karaván Művészeti Alapítvány | C79: =SUM('3c.m.'!F815) -> 2500
B80: 3431 Concerto Akadémia Nonprofit Kft. | C80: =SUM('3c.m.'!F823) -> 0
B81: 3432 MÁV Szimfónikus Zenekari Alapítvány | C81: =SUM('3c.m.'!F831) -> 5000
B82: 3931 Bursa Hungarica | C82: =SUM('3d.m.'!F25) -> 2000
B83: 3961 Zeneművészeti szervezetek támogatása | C83: =SUM('3d.m.'!F39) -> 313826 | E83: 313826
B84: 3963 Budapest Art Center Nonprofit Kft. - Színházművészeti szerv.támogatása | C84: 0
A85: 14. | B85: Saját tulajdonú lakás és helyiség gazdálkodás | C85: =SUM(C86:C116) -> 7635473 | D85: =SUM(E85:N85) -> 7635473 | F85: 2302466 | G85: 180000 | K85: 231000 | L85: =L86+L87+L88+L89+L90+L91+L92+L93+L94+L95+L96+L97+L98+L99+L100+L101+L102+L103+L104+L105+L106+L107+L108+L109+L110+L114+L115+L116+1731577 -> 4732507 | M85: 189500
B86: 3111 Lakáslemondás térítés, lakásbiztosítés visszafizetése | C86: =SUM('3c.m.'!F97) -> 2832235 | L86: 618235
B87: 3114 Ingatlanokkal kapcsolatos egyéb feladatok | C87: =SUM('3c.m.'!F115) -> 100422 | L87: 28422
B88: 3115 Lakás és helyiség karbantartás, berendezési tárgyak cseréje | C88: =SUM('3c.m.'!F123) -> 20272 | L88: 272
B89: 3121 KF - rehabilitáció járulékos költségek | C89: =SUM('3c.m.'!F140) -> 6671 | L89: 671
B90: 3122 Kényszer kiköltöztetés | C90: =SUM('3c.m.'!F148) -> 4234 | L90: 34
B91: 3123 Bérlakás és egyéb ingatlan elidegenítés | C91: =SUM('3c.m.'!F156) -> 15861 | L91: 861
B92: 3124 Helyiség megszerzési díj | C92: =SUM('3c.m.'!F164) -> 5150
B93: 3125 Életjáradéki szolgáltatás | C93: ='3c.m.'!F172 -> 5000
B94: 3213 Önkormányzati bérlemények üzemeltetési költségei | C94: =SUM('3c.m.'!F354) -> 629777 | L94: 24777
B95: 4114 Önkormányzati lakóházak tetőfelújítás | C95: ='4.mell.'!F33 -> 33002 | L95: 33002
B96: 4122 Balázs Béla utca 27/B, felújítás-tervezés | C96: ='4.mell.'!F38 -> 1371 | L96: 1371
B97: 4123 Közbeszerzési beszerzésekhez kapcsolódó többletkiadások | C97: ='4.mell.'!F39 -> 0
B98: 4124 Önkormányzati lakások komfortosítása | C98: ='4.mell.'!F40 -> 5214 | L98: 5214
B99: 4125 Gát u. 24.-26. sz. ingatlan felújítás | C99: ='4.mell.'!F41 -> 806163 | L99: 806163
B100: 4126 Önkor-i lakások komfort., lakások és helyiségek felújítása | C100: =SUM('4.mell.'!F42) -> 214048 | L100: 64048
B101: 4127 Haller u. 50. függőfolyosó felújítás | C101: ='4.mell.'!F45 -> 50 | L101: 50
B102: 4129 Telepy u. 34. személyfelvonó létesítése | C102: ='4.mell.'!F46 -> 37120 | L102: 37120
B103: 4131 Veszélyelhárítás | C103: =SUM('4.mell.'!F65) -> 40360 | L103: 10360
...

Sheet 12.mell
A1: 12. sz. melléklet
B2: A helyi önkormányzat önként vállalt feladatai ellátásának költségvetési forrásai és kiadásai
B3: 2024. év
M4: eFt
B5: Önként vállalt feladatok | C5: 2024. évi előirányzat /2024. | D5: Költségvetési bevételi előirányzat | E5: Közhatalmi bevételek | F5: Működési bevételek | G5: Támogatás Áht-n belülről | I5: Átvett pénzeszköz | K5: Előző évi marad. Igénybev. | L5: Felhalmozási bevételek | M5: Kölcsön visszatérülés/Működ.finansz.bev
G6: Működési célú | H6: Felhalmozási célú | I6: Működési célú | J6: Felhalmozási célú
A7: 2986 | B7: Ferencvárosi Pinceszínház | C7: =SUM('2.mell'!F657) -> 288755 | D7: =SUM(E7:M7) -> 288755 | E7: 250769 | F7: 37309 | G7: 500 | K7: 177
A8: 2975 | B8: FIÜK Munkásszálló, nyári táboroztatás, termelői piac,NOVUS (Inkubátor), jégpálya, tábor | C8: 162803 | D8: =SUM(E8:M8) -> 162803 | E8: 162803
A9: 3011 | B9: Balatonszéplaki Üdülő | C9: =SUM('3a.m.'!F18) -> 18225 | D9: =SUM(E9:M9) -> 18225 | E9: 15450 | K9: 2775
A10: 3052 | B10: Termelői piac | C10: ='3c.m.'!F17 -> 0 | D10: =SUM(E10:M10) -> 0
A11: 3059 | B11: Ferencvárosi Klímastratégia végrehatása | C11: ='3c.m.'!F61 -> 69740 | D11: =SUM(E11:M11) -> 69740 | F11: 50000 | K11: 19740
A12: 3141 | B12: Oktatási támogatás | C12: =SUM('3c.m.'!F181) -> 12500 | D12: =SUM(E12:M12) -> 12500 | E12: 12500
A13: 3148 | B13: Diákok látogatása Holocaust emlékközpontban | C13: ='3c.m.'!F233 -> 2000 | D13: =SUM(E13:M13) -> 2000 | F13: 1000 | K13: 1000
A14: 3206 | B14: Részvételi költségvetés | C14: ='3c.m.'!F289 -> 10000 | D14: =SUM(E14:M14) -> 10000 | E14: 10000
A15: 3207 | B15: Ferenc busz működtetése | C15: =SUM('3c.m.'!F297) -> 40588 | D15: =SUM(E15:M15) -> 40588 | E15: 37760 | K15: 2828
A16: 3209 | B16: Polgármesteri tisztséggel összefüggő egyéb feladatok | C16: =SUM('3c.m.'!F314) -> 5000 | D16: =SUM(E16:M16) -> 5000 | F16: 5000
A17: 3210 | B17: Ferencvárosi Településképi Arculati Kézikönyv | C17: ='3c.m.'!F323 -> 5000 | D17: =SUM(E17:M17) -> 5000 | F17: 5000
A18: 3217 | B18: Médiacég | C18: =SUM('3c.m.'!F372) -> 235568 | D18: =SUM(E18:M18) -> 235568 | F18: 220617 | K18: 14951
A19: 3222 | B19: VEKOP-7 3 4-17-2017-00011 | C19: ='3c.m.'!F406 -> 187 | D19: =SUM(E19:M19) -> 187 | K19: 187
A20: 3226 | B20: EUCF pályázat | C20: ='3c.m.'!F424 -> 18605 | D20: =SUM(E20:M20) -> 18605 | K20: 18605
A21: 3227 | B21: NEXT LEVEL Parking pályázat | C21: ='3c.m.'!F433 -> 18112 | D21: =SUM(E21:M21) -> 18112 | I21: 17820 | K21: 292
A22: 3228 | B22: Fedett, zárható kerékpártárolók társasházak, lakótelepek környékén | C22: ='3c.m.'!F442 -> 6638 | D22: =SUM(E22:M22) -> 6638 | H22: 6638
A23: 3304 | B23: Krízis Alap-ból kifizetés | C23: ='3c.m.'!F470 -> 2296 | D23: =SUM(E23:M23) -> 2296 | K23: 2296
A24: 3302 | B24: FESZ KN Kft. | C24: 114683 | D24: =SUM(E24:M24) -> 114683 | E24: 114683
A25: 3306 | B25: Gyermeknevelési támogatás | C25: =SUM('3c.m.'!F479) -> 26089 | D25: =SUM(E25:M25) -> 26089 | E25: 26000 | K25: 89
A26: 3307 | B26: Védőoltás támogatása | C26: =SUM('3c.m.'!F488) -> 1563 | D26: =SUM(E26:M26) -> 1563 | E26: 500 | K26: 1063
A27: 3308 | B27: CT vizsgálat | C27: ='3c.m.'!F497 -> 30000 | D27: =SUM(E27:M27) -> 30000 | E27: 10000 | K27: 20000
A28: 3309 | B28: Lakásfentartási támogatás | C28: =SUM('3c.m.'!F505) -> 42176 | D28: =SUM(E28:M28) -> 42176 | E28: 42000 | K28: 176
A29: 3312 | B29: Rendkívüli támogatás | C29: =SUM('3c.m.'!F521) -> 29033 | D29: =SUM(E29:M29) -> 29033 | E29: 28900 | K29: 133
A30: 3313 | B30: Jövedelempótló rendszeres támogatás | C30: =SUM('3c.m.'!F529) -> 11695 | D30: =SUM(E30:M30) -> 11695 | E30: 11650 | K30: 45
A31: 3316 | B31: Adósságkezelési támogatás | C31: =SUM('3c.m.'!F537) -> 2512 | D31: =SUM(E31:M31) -> 2512 | E31: 2500 | K31: 12
A32: 3317 | B32: Gyógyszertámogatás | C32: =SUM('3c.m.'!F545) -> 30721 | D32: =SUM(E32:M32) -> 30721 | E32: 30500 | K32: 221
A33: 3325 | B33: Ferencvárosi 65+ támogatás | C33: =SUM('3c.m.'!F561) -> 7618 | D33: =SUM(E33:M33) -> 7618 | E33: 7600 | K33: 18
A34: 3352 | B34: Kifli, túró rudi, tej beszerzés | C34: =SUM('3c.m.'!F668) -> 32066 | D34: =SUM(E34:M34) -> 32066 | E34: 12000 | F34: 14000 | K34: 6066
A35: 3343 | B35: ÉFOÉSZ ellátási szerződés | C35: ='3c.m.'!F603 -> 23430 | D35: =SUM(E35:M35) -> 23430 | E35: 11715 | K35: 11715
A36: 3353 | B36: SOS Krízis Alapítvány | C36: =SUM('3c.m.'!F677) -> 1500 | D36: =SUM(E36:M36) -> 1500 | E36: 1500
A37: 3355 | B37: Idősügyi Koncepció | C37: =SUM('3c.m.'!F685) -> 27847 | D37: =SUM(E37:M37) -> 27847 | E37: 17000 | K37: 10847
A38: 3356 | B38: Közfoglalkoztatottak pályázat támogatásának önrésze, kapcsolódó egyéb kiadások támogatása | C38: =SUM('3c.m.'!F693) -> 8421 | D38: =SUM(E38:M38) -> 8421 | E38: 5000 | K38: 3421
A39: 3411 | B39: Jégpálya | C39: ='3c.m.'!F730 -> 20000 | D39: =SUM(E39:M39) -> 20000 | F39: 20000
A40: 3415 | B40: Hátrányos helyzetű diákok sport támogatása | C40: ='3c.m.'!F757 -> 7000 | D40: =SUM(E40:M40) -> 7000 | F40: 7000
A41: 3416 | B41: Sport Alap | C41: =SUM('3c.m.'!F765) -> 20000 | D41: =SUM(E41:M41) -> 20000 | E41: 20000
A42: 3421 | B42: Kulturális koncepció | C42: =SUM('3c.m.'!F774) -> 66492 | D42: =SUM(E42:M42) -> 66492 | E42: 50000 | F42: 5000 | K42: 11492
A43: 3422 | B43: Egyéb rendezvények | C43: =SUM('3c.m.'!F782) -> 28818 | D43: =SUM(E43:M43) -> 28818 | E43: 15500 | F43: 2200 | K43: 11118
A44: 3423 | B44: Testvérvárosi kapcsolatok | C44: =SUM('3c.m.'!F791) -> 36180 | D44: =SUM(E44:M44) -> 36180 | E44: 22428 | F44: 10000 | K44: 3752
A45: 3424 | B45: Kitüntetésekkel kapcsolatos költségek | C45: ='3c.m.'!F799 -> 29974 | D45: =SUM(E45:M45) -> 29974 | E45: 28516 | K45: 1458
A46: 3433 | B46: Díszkivilágítás | C46: ='3c.m.'!F856 -> 54608 | D46: =SUM(E46:M46) -> 54608 | F46: 30000 | K46: 24608
A47: 3923 | B47: Polgárőr Egyesület támogatása | C47: ='3d.m.'!F13 -> 5000 | D47: =SUM(E47:M47) -> 5000 | F47: 5000
A48: 3924 | B48: IX. ker. Rendőrségi támogatás | C48: =SUM('3d.m.'!F14) -> 9000 | D48: =SUM(E48:M48) -> 9000 | E48: 9000
A49: 3926 | B49: Tűzoltóság támogatása | C49: ='3d.m.'!F16 -> 3700 | D49: =SUM(E49:M49) -> 3700 | F49: 2000 | K49: 1700
A50: 3927 | B50: Faültetés támogatása | C50: =SUM('3d.m.'!F17) -> 5000 | D50: =SUM(E50:M50) -> 5000 | E50: 3000 | F50: 2000
A51: 3928 | B51: Társasház felújítási pályázat | C51: =SUM('3d.m.'!F18) -> 421765 | D51: =SUM(E51:M51) -> 421765 | E51: 157068 | F51: 54932 | K51: 200765 | M51: 9000
A52: 3932 | B52: Deák ösztöndíj | C52: =SUM('3d.m.'!F26) -> 15000 | D52: =SUM(E52:M52) -> 15000 | F52: 15000
A53: 3934 | B53: Tanoda támogatás | C53: ='3d.m.'!F27 -> 0 | D53: =SUM(E53:M53) -> 0
A54: 3935 | B54: GAPS Alapítvány | C54: ='3d.m.'!F28 -> 12154 | D54: =SUM(E54:M54) -> 12154 | F54: 12154
A55: 3941 | B55: FESZOFE kiemelkedően közhasznú Non-Profit Kft működési támogatása | C55: =SUM('3d.m.'!F31) -> 973000 | D55: =SUM(E55:M55) -> 973000 | E55: 324127 | F55: 648873
A56: 3943 | B56: Akadálymentesítési támogatás | C56: =SUM('3d.m.'!F32) -> 0 | D56: =SUM(E56:M56) -> 0
A57: 3944 | B57: Orvosi rendelők energ. költs. Támogatása | C57: ='3d.m.'!F36 -> 0 | D57: =SUM(E57:M57) -> 0
A58: 3972 | B58: Kulturális tevékenység támogatása | C58: =SUM('3d.m.'!F40) -> 46475 | D58: =SUM(E58:M58) -> 46475 | F58: 45000 | K58: 1475
A59: 3973 | B59: Irodalmi pályázat | C59: =SUM('3d.m.'!F44) -> 5929 | D59: =SUM(E59:M59) -> 5929 | F59: 5100 | K59: 829
A60: 3975 | B60: Konkáv Közösségi tér-Köztes Átmenetek Kft. | C60: ='3d.m.'!F48 -> 10000 | D60: =SUM(E60:M60) -> 10000 | F60: 10000
A61: 3987 | B61: Ruszin Nemzetiségi Önkormányzat | C61: ='3d.m.'!F52 -> 225 | D61: =SUM(E61:M61) -> 225 | F61: 225
A62: 3988 | B62: Horvát Nemzetiségi Önkormányzat | C62: ='3d.m.'!F53 -> 225 | D62: =SUM(E62:M62) -> 225 | F62: 225
A63: 3989 | B63: Nemzetiségi önkormányzatok pályázati támogatása | C63: =SUM('3d.m.'!F51) -> 6000 | D63: =SUM(E63:M63) -> 6000 | F63: 6000
A64: 3990 | B64: Bolgár Nemzetiségi Önkormányzat | C64: =SUM('3d.m.'!F54) -> 1000 | D64: =SUM(E64:M64) -> 1000 | F64: 1000
A65: 3991 | B65: Roma Nemzetiségi Önkormányzat | C65: =SUM('3d.m.'!F55) -> 4820 | D65: =SUM(E65:M65) -> 4820 | F65: 4820
A66: 3992 | B66: Görög Nemzetiségi Önkormányzat | C66: =SUM('3d.m.'!F56) -> 1400 | D66: =SUM(E66:M66) -> 1400 | F66: 1400
A67: 3993 | B67: Német Nemzetiségi Önkormányzat | C67: =SUM('3d.m.'!F57) -> 900 | D67: =SUM(E67:M67) -> 900 | F67: 900
A68: 3994 | B68: Örmény Nemzetiségi Önkormányzat | C68: =SUM('3d.m.'!F58) -> 900 | D68: =SUM(E68:M68) -> 900 | F68: 900
A69: 3995 | B69: Román Nemzetiségi Önkormányzat | C69: =SUM('3d.m.'!F59) -> 900 | D69: =SUM(E69:M69) -> 900 | F69: 900
A70: 3997 | B70: Szerb Nemzetiségi Önkormányzat | C70: =SUM('3d.m.'!F60) -> 900 | D70: =SUM(E70:M70) -> 900 | F70: 900
A71: 3998 | B71: Szlovák Nemzetiségi Önkormányzat | C71: =SUM('3d.m.'!F61) -> 900 | D71: =SUM(E71:M71) -> 900 | F71: 900
A72: 3999 | B72: Ukrán Nemzetiségi Önkormányzat | C72: =SUM('3d.m.'!F62) -> 1000 | D72: =SUM(E72:M72) -> 1000 | F72: 1000
A73: 4020 | B73: Törd a betont | C73: =SUM('4.mell.'!F21) -> 61988 | D73: =SUM(E73:M73) -> 61988 | K73: =59988+2000 -> 61988
A74: 4132 | B74: Nem önkormányzati tulajdonú lakóépületek veszélyelhárítása | C74: =SUM('4.mell.'!F68) -> 29999 | D74: =SUM(E74:M74) -> 29999 | E74: 12000 | K74: =8999+3000 -> 11999 | M74: 6000
A75: 4324 | B75: FESZ épületének felújítása | C75: =SUM('4.mell.'!F85) -> 1321049 | D75: =SUM(E75:M75) -> 1321049 | K75: 1321049
A76: 5002 | B76: Ifjúmunkás utca 32. Fitnesz park | C76: ='5.mell. '!F11 -> 45694 | D76: =SUM(E76:M76) -> 45694 | F76: 45694
A77: 5003 | B77: MÁV lakótelep parkoló | C77: =SUM('5.mell. '!F12) -> 45000 | D77: =SUM(E77:M77) -> 45000 | F77: 45000
A78: 5004 | B78: MÁV csatornázás | C78: ='5.mell. '!F13 -> 50000 | D78: =SUM(E78:M78) -> 50000 | F78: 50000
A79: 5009 | B79: Boráros téri lift tervezés | C79: ='5.mell. '!F19 -> 20000 | D79: =SUM(E79:M79) -> 20000 | F79: 20000
A80: 5012 | B80: Belső-Ferencváros parkolás | C80: =SUM('5.mell. '!F22) -> 199000 | D80: =SUM(E80:M80) -> 199000 | F80: 199000
A81: 5013 | B81: Zöldfelületi kataszter, fakataszter elkészítése | C81: ='5.mell. '!F23 -> 8058 | D81: =SUM(E81:M81) -> 8058 | F81: 2119 | K81: 5939
A82: 5014 | B82: Faültetés | C82: =SUM('5.mell. '!F25) -> 40000 | D82: =SUM(E82:M82) -> 40000 | F82: 20000 | K82: 20000
A83: 5015 | B83: Kerékpáros infrastruktúra tervezés, kiépítés, fejlesztés | C83: =SUM('5.mell. '!F26) -> 15124 | D83: =SUM(E83:M83) -> 15124 | F83: 15000 | K83: 124
A84: 5019 | B84: Pöttyös utca metrófelszín | C84: ='5.mell. '!F31 -> 364178 | D84: =SUM(E84:M84) -> 364178 | K84: 364178
A85: 5023 | B85: Ecseri úti metró megálló felszíni rendezés | C85: ='5.mell. '!F38 -> 1151312 | D85: =SUM(E85:M85) -> 1151312 | F85: 120000 | K85: 974589 | L85: 56723
A86: 5024 | B86: Munkásszálló kialakítása | C86: ='5.mell. '!F41 -> 4660 | D86: =SUM(E86:M86) -> 4660 | K86: 4660
A87: 5026 | B87: Parkolóhely megváltás visszafizetése | C87: =SUM('5.mell. '!F44) -> 20000 | D87: =SUM(E87:M87) -> 20000 | F87: 20000
A88: 5034 | B88: Gyáli úti okososzlop telepítése | C88: ='5.mell. '!F54 -> 108 | D88: =SUM(E88:M88) -> 108 | K88: 108
A89: 5056 | B89: Molnár F. Magyar-Angol Két Tanítási Nyelvi Ált. Isk. Okostanterem kial. | C89: ='5.mell. '!F58 -> 8917 | D89: =SUM(E89:M89) -> 8917 | K89: 8917
A90: 5061 | B90: Okostanterem | C90: ='5.mell. '!F59 -> 10000 | D90: =SUM(E90:M90) -> 10000 | K90: 10000
A91: 6141 | B91: AVICO Riverbay telekátalakítási megállapodás | C91: ='6.mell. '!F23 -> 48590 | D91: =SUM(E91:M91) -> 48590 | K91: 48590
A92: 6143 | B92: Haller park fejlesztés (Gladiátor) | C92: ='6.mell. '!F25 -> 0 | D92: =SUM(E92:M92) -> 0
B93: Mindösszesen | C93: =SUM(C7:C92) -> 6518313 | D93: =SUM(D7:D92) -> 6518313 | E93: =SUM(E7:E90) -> 1452469 | F93: =SUM(F7:F90) -> 1763168 | G93: =SUM(G7:G90) -> 500 | H93: =SUM(H7:H90) -> 6638 | I93: =SUM(I7:I90) -> 17820 | J93: =SUM(J7:J90) -> 0 | K93: =SUM(K7:K92) -> 3205995 | L93: =SUM(L7:L90) -> 56723 | M93: =SUM(M7:M90) -> 15000

Sheet 13.mell
B3: 13. sz. melléklet
B4: A helyi önkormányzat államigazgatási feladatai
B5: 2024. év
G7: eFt
B8: Államigazgatási feladatok (Mötv. 18. § alapján) | C8: 2024. évi előirányzat /2024. | D8: Költségvetési bevételi előirányzat | E8: A helyi önkormányzatok, helyi nemzetiségi önkormányzatok általános működéséhez és ágazati feladataihoz kapcsolódó támogatások | F8: A központi költségvetésből származó egyéb költségvetési támogatások | G8: Közhatalmi bevétel
B10: 3021 Polgármesteri Hivatal Igazgatási kiadásai 23 fő | C10: 211920 | D10: 211920 | G10: 211920
B12: Mindösszesen | C12: =SUM(C10:C11) -> 211920 | D12: =SUM(D10:D11) -> 211920 | E12: =SUM(E10:E11) -> 0 | G12: =SUM(G10:G11) -> 211920

Sheet 14.mell
A1: 14. sz . Melléklet
A2: 2024. évi előirányzat felhasználási ütemterv
O3: (eFt-ban)
A4: Megnevezés | C4: I. | D4: II. | E4: III. | F4: IV. | G4: V. | H4: VI. | I4: VII. | J4: VIII. | K4: IX. | L4: X. | M4: XI. | N4: XII. | O4: Összesen
A5: Bevételek
A6: 1. Működési célú támogatások Áh-n belülről | C6: 383000 | D6: 327000 | E6: 356000 | F6: 650000 | G6: 650000 | H6: 650000 | I6: 560000 | J6: 417815 | K6: 850000 | L6: 499922 | M6: 700000 | N6: 440695 | O6: =SUM(C6:N7) -> 6484432
A8: 2. Közhatalmi bevételek | C8: 727000 | D8: 650000 | E8: 2119000 | F8: 2945951 | G8: 1168000 | H8: 860000 | I8: 800000 | J8: 927719 | K8: 2777951 | L8: 1300000 | M8: 1054510 | N8: 881780 | O8: =SUM(C8:N8) -> 16211911
A10: 3. Működési bevételek + Működési célú átvett pénzeszk. | C10: 200815 | D10: 260000 | E10: 260000 | F10: 260000 | G10: 260700 | H10: 270065 | I10: 260000 | J10: 280000 | K10: 419800 | L10: 513840 | M10: 388738 | N10: =296525+46745 -> 343270 | O10: =SUM(C10:N10) -> 3717228
A12: 4. Felhalmozási cálú támogatások Áh-n belülről | K12: 7987 | M12: 6638 | O12: =SUM(C12:N12) -> 14625
A14: 5. Felhalmozási bevétel | C14: 10000 | D14: 10000 | E14: 10000 | F14: 10000 | G14: 10000 | H14: 10000 | I14: 10000 | J14: 20000 | K14: 30000 | L14: 40000 | M14: 105750 | N14: 70000 | O14: =SUM(C14:N14) -> 335750
A16: 6. Felhalmozási cálú átvett pénzeszközök | C16: 1200 | D16: 1300 | E16: 401400 | F16: 1400 | G16: 101400 | H16: 1500 | I16: 1500 | J16: 1500 | K16: 1800 | L16: 1950 | M16: 1950 | N16: 2100 | O16: =SUM(C16:N16) -> 519000
A18: 7. Felhalmozási, működési finanszírozású bevétel | C18: 5545000 | G18: 6238842 | K18: 603417 | M18: 155802 | O18: =SUM(C18:N18) -> 12543061
A20: 8. Bevételek mindösszesen | C20: =SUM(C6:C19) -> 6867015 | D20: =SUM(D6:D19) -> 1248300 | E20: =SUM(E6:E19) -> 3146400 | F20: =SUM(F6:F19) -> 3867351 | G20: =SUM(G6:G19) -> 8428942 | H20: =SUM(H6:H19) -> 1791565 | I20: =SUM(I6:I19) -> 1631500 | J20: =SUM(J6:J19) -> 1647034 | ... O20: =SUM(O6:O19) -> 39826007
A21: Kiadások
A22: 9. Személyi juttatások | C22: 560000 | D22: 521000 | E22: 750000 | F22: 850000 | G22: 850000 | H22: 870000 | I22: 801665 | J22: 845465 | K22: 925752 | L22: 950000 | M22: 905988 | N22: 827131 | O22: =SUM(C22:N23) -> 9657001
A24: 10. Munkaadókat terh. jár. és szoc.hozzáj.adó | C24: 73000 | D24: 74000 | E24: 77000 | F24: 79000 | G24: 180000 | H24: 271136 | I24: 93000 | J24: 110000 | K24: 70223 | L24: 120000 | M24: 120000 | N24: 126828 | O24: =SUM(C24:N25) -> 1394187
A26: 11. Dologi kiadások | C26: 546000 | D26: 580000 | E26: 600000 | F26: 840000 | G26: 869917 | H26: 900000 | I26: 950000 | J26: 950000 | K26: 950000 | L26: =948044+106034 -> 1054078 | M26: =932057+100000 -> 1032057 | N26: 1296889 | O26: =SUM(C26:N27) -> 10568941
A28: 12. Ellátottak pénzbeli juttatásai | C28: 14000 | D28: 15000 | E28: 15000 | F28: 15000 | G28: 19642 | H28: 18757 | I28: 15000 | J28: 15000 | K28: 16000 | L28: 16000 | M28: 16000 | N28: 7959 | O28: =SUM(C28:N29) -> 183358
A30: 13. Egyéb működési célú kiadások | C30: 500000 | D30: 522186 | E30: 420000 | F30: 320000 | G30: 444068 | H30: 354462 | I30: 400000 | J30: 353140 | K30: 313000 | L30: 224723 | M30: 150773 | N30: 69977 | O30: =SUM(C30:N31) -> 4072329
A32: 14. Beruházások | C32: 15000 | D32: 85000 | E32: 160000 | F32: 244155 | G32: 2461968 | H32: 320000 | I32: 320000 | J32: 211777 | K32: 61351 | L32: 70261 | M32: 87108 | N32: 97167 | O32: =SUM(C32:N33) -> 4133787
A34: 15. Felújítások | C34: 150000 | D34: 150000 | E34: 150000 | F34: 150000 | G34: 216362 | H34: 1411761 | I34: 1176593 | J34: 650022 | K34: 505189 | L34: 284355 | M34: 259500 | N34: 150000 | O34: =SUM(C34:N35) -> 5253782
A36: 16. Egyéb felhalmozási célú kiadások | C36: 250000 | D36: 248240 | E36: 210000 | F36: 390000 | G36: 422999 | H36: 440000 | I36: 420000 | J36: 170000 | K36: 238788 | L36: 179393 | M36: 195782 | N36: 200000 | O36: =SUM(C36:N37) -> 3365202
A38: 17. Hosszú lejáratú hitel tőke összegének törlesztése, megelőlegezett norm., működ.fin.kiad | C38: 131554 | E38: 12000 | F38: 294647 | K38: 603417 | M38: 165802 | O38: 1197420
A40: 18. Kiadások mindösszesen | C40: =SUM(C22:C39) -> 2239554 | D40: =SUM(D22:D39) -> 2195426 | E40: =SUM(E22:E39) -> 2394000 | F40: =SUM(F22:F39) -> 3182802 | G40: =SUM(G22:G39) -> 5464956 | H40: =SUM(H22:H39) -> 4586116 | I40: =SUM(I22:I39) -> 4176258 | J40: =SUM(J22:J39) -> 3305404 | ... O40: =SUM(O22:O39) -> 39826007

Sheet 15.mell
B2: 15. sz. melléklet
B3: Saját bevételek és adósságot keletkeztető ügyletekből eredő fizetési kötelezettségek költségvetési évet követő 3 évre várható kihatása
I6: eFt
B7: Önkormányzat saját bevételei | C7: 2024. évi előirányzat /2024. | D7: 2024. évi előirányzat 14/2024. | E7: 2024. évi előirányzat 10/2024. | F7: 2024. évi előirányzat 3/2024. | G7: 2025. év várható terv szám | H7: 2026. év várható terv szám | I7: 2027. év várható terv szám
B9: Helyi adóból és a települési adóból származó bevétel (építményadó, telekadó, idegenforgalmi adó, iparűzési adó) | C9: ='1b.mell '!F215+'1b.mell '!F216 -> 15310959 | D9: ='1b.mell '!E215+'1b.mell '!E216 -> 15234959 | E9: ='1b.mell '!C215+'1b.mell '!C216 -> 15234959 | F9: ='1b.mell '!C215+'1b.mell '!C216 -> 15234959 | G9: 15800000 | H9: 16200000 | I9: 16600000
B12: Önkormányzati vagyon és önkormányzatot megillető vagyoni értékű jog hasznosításából származó bevétel (lakbér, helyiség bérleti díj, helyiség megszerzési díj) | C12: 700000 | D12: 700000 | E12: 700000 | F12: 700000 | G12: 700000 | H12: 700000 | I12: 700000
B15: Osztalék, koncessziós díj és hozambevétel | C15: ---- | D15: ---- | E15: ---- | F15: ---- | G15: --- | H15: --- | I15: ---
B18: Tárgyi eszköz és immateriális jószág, részvény, részesedés, vállalat értékesítéséből vagy privatizációból származó bevétel (telek, földterület, helyiség, lakás, törzstőke ért.) | C18: ='1b.mell '!F240 -> 335750 | D18: ='1b.mell '!E240 -> 180000 | E18: ='1b.mell '!C240 -> 180000 | F18: ='1b.mell '!C240 -> 180000 | G18: 180000 | H18: 180000 | I18: 180000
B21: Bírság, pótlék, és díjbevétel (egyéb közhatalmi bevételek között szereplő tételek) | C21: 899172 | D21: 899172 | E21: 899172 | F21: 899172 | G21: 880000 | H21: 880000 | I21: 880000
B24: Kezesség illetve garancia vállalással kapcsolatos megtérülés | C24: ---- | D24: ---- | E24: ---- | F24: ---- | G24: --- | H24: --- | I24: ---
B27: Összesen | C27: =SUM(C9:C26) -> 17245881 | D27: =SUM(D9:D26) -> 17014131 | E27: =SUM(E9:E26) -> 17014131 | F27: =SUM(F9:F26) -> 17014131 | G27: =SUM(G9:G26) -> 17560000 | H27: =SUM(H9:H26) -> 17960000 | I27: =SUM(I9:I26) -> 18360000
B30: Adósságot keletkeztető ügyletből eredő fizetési kötelezettség | C30: 12292 | D30: 12292 | E30: 12292 | F30: 12292

Sheet 16.mell
A1: 16. sz. melléklet
A2: Kiadások felosztása KOFOG szerint
A3: 2024. év
F4: eFt
A5: 011130 | B5: Önkormányzatok és önkormányzati hivatalok jogalkotó és általános igazgatási tevékenysége | F5: =SUM(F8:F27) -> 5062710
A8: 3200 | C8: Képviselők és választott tisztségviselők juttatásai | F8: ='3c.m.'!F242 -> 274399
A9: 3201 | C9: Önkormányzati szakmai feladatokkal kapcsolatos kiadások | F9: ='3c.m.'!F253 -> 104110
A10: 3208 | C10: Ügyvédi díjak | F10: ='3c.m.'!F305 -> 19396
A11: 3209 | C11: Polgármester tiszt. összefüggő egyéb feladatok | F11: ='3c.m.'!F314 -> 5000
A12: 3210 | C12: Ferencvárosi Településképi Arculati Kézikönyv | F12: ='3c.m.'!F323 -> 5000
A13: 3221 | C13: KEHOP-1.1.1.-18-2018-00006 Klímastratégia | F13: ='3c.m.'!F388 -> 0
A14: 3223 | C14: Pályázat előkészítés, lebonyolítás | F14: ='3c.m.'!F397 -> 28100
A15: 3222 | C15: VEKOP -7 3 4-17-2017-00011 | F15: ='3c.m.'!F406 -> 187
A16: 3224 | C16: INCLUDATE | F16: ='3c.m.'!F415 -> 0
A17: 3226 | C17: EUCF | F17: ='3c.m.'!F424 -> 18605
A18: 3227 | C18: NEXT LEVEL Parking pályázat | F18: ='3c.m.'!F433 -> 18112
A19: 3228 | C19: Fedett, zárható kerékpártárolók társasházak, lakótelepek környékén | F19: ='3c.m.'!F442 -> 6638
A20: 3000 | C20: Polgármesteri Hivatal kiadásai | F20: =SUM('3a.m.'!F49+'3a.m.'!F29+'3a.m.'!F18) -> 3896599
A21: 1801 | C21: Kamatkiadás | F21: ='1c.mell '!F62 -> 63000
A22: 1802 | C22: Fővárosi IPA visszafizetés | F22: ='1c.mell '!F64 -> 20674
A23: 1804 | C23: Fizetendő Általános forgalmi adó | F23: ='1c.mell '!F68 -> 580276
A24: 1806 | C24: Elvonások és befizetések működési célú | F24: ='1c.mell '!F71 -> 2614
A25: 1807 | C25: Elvonások és befizetések felhalmozási célú | F25: ='1c.mell '!F72 -> 0
A26: 5026 | C26: Parkolóhely megváltás visszafizetése | F26: =SUM('5.mell. '!F44) -> 20000
A27: 1809 | C27: Parkolóhely megváltása | F27: ='1c.mell '!F75 -> 0
A28: 0161010 | B28: Önkormányzati választás, EU választás | F28: =F31 -> 92269
A31: 3027 | C31: Önkormányzati és EU-s választás | F31: =SUM('3a.m.'!F39) -> 92269
A32: 013350 | B32: Az önkormányzati vagyonnal való gazdálkodással kapcsolatos feladatok | F32: =SUM(F35:F81) -> 9672995
A35: 3054 | C35: Közterületi növényvédelem | F35: ='3c.m.'!F25 -> 16722
A36: 3111 | C36: Lakáslemondás térítés, lakásbiztosíték visszafizetés | F36: ='3c.m.'!F97 -> 2832235
A37: 3114 | C37: Ingatlanokkal kapcsolatos egyéb feladatok | F37: ='3c.m.'!F115 -> 100422
A38: 3116 | C38: Magyar Máltai Szeretszolg. E. közösségi haszn. | F38: ='3c.m.'!F131 -> 8099
A39: 3121 | C39: KF - rehabilitáció járulékos költségek | F39: ='3c.m.'!F140 -> 6671
A40: 3122 | C40: Kényszer kiköltöztetés | F40: ='3c.m.'!F148 -> 4234
A41: 3123 | C41: Bérlakás és egyéb ingatlan elidegenítés | F41: ='3c.m.'!F156 -> 15861
A42: 3124 | C42: Helyiség megszerzési díj | F42: ='3c.m.'!F164 -> 5150
A43: 3125 | C43: Életjáradéki szolgáltatás | F43: ='3c.m.'!F172 -> 5000
A44: 3211 | C44: FEV IX. Zrt. | F44: ='3c.m.'!F334 -> 1193423
A45: 3213 | C45: Önkormányzati bérlemények üzemeltetési költségei | F45: ='3c.m.'!F354 -> 629777
A46: 3925 | C46: FEV IX. Zrt. támogatása | F46: ='3d.m.'!F15 -> 179600
A47: 4010 | C47: Ifjúmunkás utca 28-30 Sportpályák felújítása | F47: ='4.mell.'!F10 -> 0
A48: 4012 | C48: Haller park felújítás | F48: ='4.mell.'!F11 -> 56947
A49: 4013 | C49: Valéria tér felújítása | F49: ='4.mell.'!F14 -> 283
A50: 4018 | C50: Utak felújítása, javítása | F50: =SUM('4.mell.'!F19) -> 267169
A51: 4021 | C51: Egyéb közterületek felújítása, fejlesztése | F51: ='4.mell.'!F25 -> 110842
A52: 4114 | C52: Önkormányzati lakóházak tetőfelújítása | F52: =SUM('4.mell.'!F33) -> 33002
A53: 4121 | C53: Felújításokkal kapcsolatos tervezések, MÁV-Aszódi csatorna tervezls | F53: ='4.mell.'!F34 -> 152279
A54: 4122 | C54: Balázs Béla utca 27/B, felújítás-tervezés | F54: ='4.mell.'!F38 -> 1371
A55: 4124 | C55: Lakások komfortosítás | F55: ='4.mell.'!F40 -> 5214
A56: 4125 | C56: Balázs Béla utca 27/B, felújítás-tervezés | F56: ='4.mell.'!F41 -> 806163
A57: 4126 | C57: Önkorm-i lakások komfort., lakások és helyiségek felújítás | F57: ='4.mell.'!F42 -> 214048
A58: 4127 | C58: Haller u. 50. függőfolyosó felújítás | F58: ='4.mell.'!F45 -> 50
A59: 3115 | C59: Lakás és helyiség karbantartás, berendezési tárgyak cseréje | F59: ='3c.m.'!F123 -> 20272
A60: 4129 | C60: Telepy u. 34. személyfelvonó létesítése | F60: ='4.mell.'!F46 -> 37120
A61: 4151 | C61: Önkormányzati lakóházak közös területeinek felújítása | F61: =SUM('4.mell.'!F49) -> 99949
A62: 4152 | C62: Márton u. 8/a sz. lakóházak tervezése | F62: =SUM('4.mell.'!F50) -> 79883
A63: 4153 | C63: Tartószerkezeti statikai vizsgálatok | F63: =SUM('4.mell.'!F51) -> 21171
A64: 4154 | C64: Tartószerkezeti statikai felújítások | F64: ='4.mell.'!F52 -> 594491
A65: 4155 | C65: Balázs B. u. 27/B. lakóépület felújítása | F65: ='4.mell.'!F53 -> 931974
A66: 4156 | C66: Vágóhíd u. 31-33. sz. épület vízvezeték felújítás | F66: ='4.mell.'!F54 -> 69960
A67: 4157 | C67: Márton u. 8. részleges bontás | F67: =SUM('4.mell.'!F55) -> 32499
A68: 4158 | C68: Gát u. 23-25. tervezés | F68: =SUM('4.mell.'!F58) -> 80000
A69: 4159 | C69: Marhagödör és Vágó utcai felújítás | F69: ='4.mell.'!F59 -> 100000
A70: 4160 | C70: Márton utca 8. Lakóház felújítás | F70: ='4.mell.'!F60 -> 654720
A71: 4161 | C71: Ügyfélszolgálati Iroda felújítás | F71: ='4.mell.'!F61 -> 12000
A72: 4131 | C72: Veszélyelhárítás | F72: ='4.mell.'!F65 -> 40360
A73: 4311 | C73: Börzsöny u. 19. sz. orvosi rendelő | F73: =SUM('4.mell.'!F79) -> 134645
A74: 4133 | C74: Veszélyes tűzfalak, kémények vizsgálata, bontása | F74: ='4.mell.'!F69 -> 67231
A75: 4141 | C75: KÉSZ-ek tervezése | F75: ='4.mell.'!F71 -> 44575
A76: 4136 | C76: Polgármesteri Hivatal épületeinek felújítása
A77: 4211 | C77: Csicsergő Óvoda felújítás
A78: 4212 | C78: Epres Óvoda felújítás
A79: 4213 | C79: Liliom Óvoda felújítás
A80: 6135 | C80: Parkoló hely megváltás | F80: ='6.mell. '!F21 -> 7583
A82: 016080 | B82: Kiemelt állami és önkormányzati rendezvények | F82: =SUM(F85:F85) -> 116875
A85: 2985 | C85: FMK | F85: ='2.mell'!F616 -> 116875
A86: 018020 | B86: Központi költségvetési befizetések | F86: =SUM(F89:F89) -> 2270550
A89: 1803 | C89: Szolidaritási hozzájárulási adó | F89: ='1c.mell '!F66 -> 2270550
A90: 031030 | B90: Közetület rendjének fenntartása | F90: =SUM(F93:F93) -> 0
A93: 3030 | C93: Közterület-felügyelet kiadásai | F93: 0
A94: 031060 | B94: Bűnmegelőzés | F94: =SUM(F97:F100) -> 101638
A97: 3204 | C97: Térfigyelő rendszer karbantartásának, üzemeltetésének költsége | F97: ='3c.m.'!F269 -> 20413
A98: 3924 | C98: IX. Kerület Rendőrség támogatása | F98: ='3d.m.'!F14 -> 9000
A99: 5033 | C99: Térfigyelő kamerák | F99: ='5.mell. '!F47 -> 72117
A100: 5034 | C100: Gyáli úti okososzlop telepítése | F100: ='5.mell. '!F54 -> 108
A101: 032020 | B101: Tűz és katasztrófavédelmi tevékenység | F101: =SUM(F104:F104) -> 0
A104: 3303 | C104: Veszélyhelyzettel kapcsolatos kiadások
A105: 013360 | B105: Más szerv részére végzett pénzügyi-gazdálkodási, üzemeltetési, egyéb szolgáltatások | F105: =SUM(F108) -> 2991904
A108: 2795 | C108: Ferencvárosi Intézményüzemeltetési Központ | F108: ='2.mell'!F438-F174-F206-F306 -> 2991904
A109: 041231 | B109: Rövid időtartamú közfoglalkoztatás | F109: =SUM(F112) -> 8421
A112: 3356 | C112: Közfoglalkoztatottak pályázat támogatás önrésze, egyéb kapcs. kiadások | F112: ='3c.m.'!F693 -> 8421
A113: 041233 | B113: Hosszabb időtartamú közfoglalkoztatás | F113: =SUM(F116) -> 973000
A116: 3941 | C116: FESZOFE kiemelkedően közhasznú Non-profit Kft. Működési támogatása | F116: ='3d.m.'!F31 -> 973000
A117: 045140 | B117: Városi és elővárosi közúti személyszállítás | F117: =SUM(F120) -> 40588
A120: 3207 | C120: Ferenc busz működtetése | F120: ='3c.m.'!F297 -> 40588
A121: 045170 | B121: Parkoló, garázsüzemeltetés, fenntartása | F121: =SUM(F124:F124) -> 1408539
A124: 3212 | C124: Parkolási feladatok (FEV IX. Zrt. által ellátott feladatokkal együtt) | F124: ='3c.m.'!F345 -> 1408539
A125: 053010 | B125: Környezetszennyezés csökkentésének igazgatása | F125: =SUM(F128) -> 92923
A128: 3205 | C128: Környezetvédelem | F128: ='3c.m.'!F279 -> 92923
A129: 064010 | B129: Közvilágítás | F129: =SUM(F132) -> 0
...

Sheet 17.mell
A1: 17. sz. melléklet
A2: Bevételek felosztása KOFOG szerint
A3: 2024. év
F4: eFt
A5: 011130 | B5: Önkormányzatok és önkormányzati hivatalok jogalkotó és általános igazgatási tevékenysége | F5: =SUM(F8:F58) -> 4990465
A8: 1029-1033 | C8: Egyéb működési célú támogatások bevételei államháztartáson belülről | F8: ='1b.mell '!F18+'1b.mell '!F20+'1b.mell '!F21+'1b.mell '!F19 -> 13885
A9: 1020 | C9: Elvonások és befizetések bevételei | F9: ='1b.mell '!F17 -> 0
A10: 1016 | C10: Elszámolásból származó bevételek | F10: ='1b.mell '!F16 -> 25299
A11: 1071 | C11: Igazgatászolgáltatási díj | F11: ='1b.mell '!F32 -> 400
A12: 1072 | C12: Tealajterhelési díj | F12: ='1b.mell '!F33 -> 1780
A13: 1073 | C13: Környezetvédelmi bírság | F13: ='1b.mell '!F34 -> 0
A14: 1074 | C14: Szabálysértési bírság | F14: ='1b.mell '!F35 -> 0
A15: 1078 | C15: Egyéb bírságból származó bevételek | F15: ='1b.mell '!F39 -> 1300
A16: 1093 | C16: Egyéb szolgáltatás | F16: ='1b.mell '!F48 -> 8000
A17: 1101 | C17: Önkormányzat közvetített szolgáltatások ellenértéke | F17: ='1b.mell '!F56 -> 10000
A18: 1110 | C18: Ellátási díjak - Önkormáyzat | F18: ='1b.mell '!F60 -> 0
A19: 1121 | C19: Önkormányzat ÁFA | F19: ='1b.mell '!F62 -> 19845
A20: 1122 | C20: Vagyonkezelés és városfejlesztési feladatokkal kapcsolatos ÁFA | F20: ='1b.mell '!F63 -> 216000
A21: 1123 | C21: Parkolási feladatokkal kapcsolatos ÁFa | F21: ='1b.mell '!F64 -> 331111
A22: 1141 | C22: Kamatbevételek és más nyereségjellegű bevételek | F22: ='1b.mell '!F67 -> 271332
A23: 1150 | C23: Egyéb működési bevételek | F23: ='1b.mell '!F68 -> 10000
A24: 1151 | C24: Egyéb működési bevételek - Parkolási feladatokkal kapcsolatban | F24: ='1b.mell '!F69 -> 28816
A25: 1160 | C25: Egyéb működési célú átvett pénzeszköz | F25: ='1b.mell '!F72 -> 0
A26: 1166 | C26: Egészséges Budapest program | F26: ='1b.mell '!F84 -> 0
A27: 1180 | C27: Egyéb felhalmozási célú támog.bevételei Áh-n belülről - Fővárosi Önkormányzattól | F27: ='1b.mell '!F86 -> 6638
A28: 1185 | C28: Egyéb felhalmozási célú támogatás bevételei | F28: ='1b.mell '!F91 -> 0
A29: 1187 | C29: FESZ részesedés | F29: ='1b.mell '!F90 -> 7987
A30: 1162 | C30: NEXT Level Parking pályázat | F30: ='1b.mell '!F74 -> 17820
A31: 1164 | C31: INCLUDATE | F31: ='1b.mell '!F76 -> 0
A32: 1165 | C32: HERO pályázat | F32: ='1b.mell '!F77 -> 0
A33: 1169 | C33: EUCF pályázat | F33: ='1b.mell '!F78 -> 22306
A34: 1209 | C34: FEV Zrt. Alaptőke csökkentés | F34: ='1b.mell '!F102 -> 400000
A35: 1210 | C35: Egyéb felhalmozási célú átvett pénzeszközök | F35: ='1b.mell '!F103 -> 100000
A36: 1211 | C36: Parkoló Alap befizetés | F36: ='1b.mell '!F104 -> 0
A37: 1231 | C37: Egyéb működési célú támogatások bevételei Áh-n belülről | F37: ='1b.mell '!F122-F73 -> 0
A38: 1241 | C38: Egyéb szolgáltatás | F38: ='1b.mell '!F129 -> 7000
A39: 1250 | C39: Közvetített szolgáltatások ellenértéke | F39: ='1b.mell '!F131 -> 20000
A40: 1260 | C40: Kiszámlázott általános forgalmi adó | F40: ='1b.mell '!F133 -> 7290
A41: 1262 | C41: Kamatbevételek és más nyereségjellegű bevételek | F41: ='1b.mell '!F135 -> 0
A42: 1270 | C42: Egyéb működési bevételek | F42: ='1b.mell '!F136 -> 450
A43: 1290 | C43: Egyéb tárgyi eszköz értékesítése | F43: ='1b.mell '!F148 -> 0
A44: 1560 | C44: Felhalmozási célú visszat. tám., kölcs. visszat. államháztartáson kívülről | F44: ='1b.mell '!F241 -> 19000
A45: 1401 | C45: Egyéb működési célú támogatások Áh-n belülről | F45: ='1b.mell '!F167 -> 2007193
A46: 1409 | C46: Készletértékesítés | F46: ='1b.mell '!F169 -> 21
A47: 1163 | C47: Ferencvárosi Humanitárius Alap | F47: ='1b.mell '!F75 -> 0
A48: 1430 | C48: Egyéb működési célú átvett pénzeszköz | F48: ='1b.mell '!F182 -> 6619
A49: 1436 | C49: Egyéb felhalmozási célú támogatás Áh-n belülről | F49: ='1b.mell '!F187 -> 0
A50: 1440 | C50: Egyéb tárgyi eszköz értékesítése | F50: ='1b.mell '!F190 -> 750
A51: 1445 | C51: Egyéb felhalmozási célú átvett pénzeszközök | F51: ='1b.mell '!F193 -> 0
A52: 1411 | C52: Egyéb szolgáltatás | F52: ='1b.mell '!F171 -> 182919
A53: 1420 | C53: Közvetített szolgáltatások ellenértéke | F53: ='1b.mell '!F173 -> 32285
A54: 1422 | C54: Kiszámlázott általános forgalmi adó | F54: ='1b.mell '!F175 -> 100598
A55: 1424 | C55: Kamatbevételek és más nyereségjellegű bevételek | F55: ='1b.mell '!F177 -> 200
A56: 1425 | C56: Egyéb bevételek | F56: ='1b.mell '!F178 -> 37811
A57: 1572 | C57: Tárgyévi finanszírozás megelőlegezés | F57: ='1b.mell '!F248 -> 1053866
A58: 1423 | C58: Általános forgalmi adó visszatérítése | F58: ='1b.mell '!F176 -> 21944
A59: 900020 | B59: Önkormányzatok funkcióra nem sorolható bevételei államháztartáson kívülről | F59: =SUM(F62:F69) -> 15355587
A62: 1041 | C62: Építményadó | F62: ='1b.mell '!F25 -> 4638980
A63: 1042 | C63: Telekadó | F63: ='1b.mell '!E26 -> 738441
A64: 1051 | C64: Iparűzési adó | F64: ='1b.mell '!F28 -> 9357538
A65: 1052 | C65: Belföldi gépjűrművek adójának helyi önkormányzatot megillető része | F65: ='1b.mell '!F29 -> 0
A66: 1053 | C66: Idegenforgalmi adó | F66: ='1b.mell '!F30 -> 576000
A67: 1075 | C67: Helyi adó pótlék, bírság | F67: ='1b.mell '!F36 -> 22000
A68: 1076 | C68: Iparűzési adó pótlék, bírság | F68: ='1b.mell '!F37 -> 12628
A69: 1205 | C69: Gépkocsi elszállítás | F69: ='1b.mell '!F125 -> 10000
A70: 013210 | B70: Átfogó tervezési és statisztikai szolgáltatások | F70: =F73 -> 38503
A73: 1231 | C73: Egyéb működési célú támogatások bevételei államháztartáson belülről | F73: ='1b.mell '!F122 -> 38503
A74: 013350 | B74: Az önkormányzati vagyonnal való gazdálkodással kapcsolatos feladatok | F74: =SUM(F77:F87) -> 1527769
A77: 1081 | C77: Közterületfoglalási díj | F77: ='1b.mell '!F41 -> 250000
A78: 1094 | C78: Bérleti díjak | F78: ='1b.mell '!F49 -> 30000
A79: 1095 | C79: Lakbérbevételek | F79: ='1b.mell '!F50 -> 350000
A80: 1096 | C80: Helyiség bérleti díj | F80: ='1b.mell '!F51 -> 350000
A81: 1097 | C81: Helyiség megszerzési díj | F81: ='1b.mell '!F52 -> 0
A82: 1099 | C82: Munkásszálló bérleti díj | F82: ='1b.mell '!F54 -> 25000
A83: 1102 | C83: Vagyonkezeléssel kapcsolatos közvetített szolgáltatások ellenértéke | F83: ='1b.mell '!F57 -> 100000
A84: 1191 | C84: Földterület, telek értékesítése | F84: ='1b.mell '!F95 -> 0
A85: 1194 | C85: Helyiség értékesítés | F85: ='1b.mell '!F96 -> 0
A86: 1195 | C86: Önkormányzati lakások értékesítése | F86: ='1b.mell '!F97 -> 335000
A87: 1412 | C87: Bérleti díjak | F87: ='1b.mell '!F172 -> 87769
A88: 018010 | B88: Önkormányzatok elszámolása a központi költségvetéssel | F88: =SUM(F91:F91) -> 4399552
A91: 1010 | C91: Önkormányzatok működési támogatásai | F91: ='1b.mell '!F10-'1b.mell '!F16 -> 4399552
A92: 018030 | B92: Támogatási célú finanszírozású műveletek | F92: =SUM(F95:F96) -> 11489195
A95: 1570.1581 | C95: Előző évi költségvetési maradványának igénybevétele | F95: ='1b.mell '!F246+'1b.mell '!F251 -> 11489195
A96: 1573 | C96: Előző évi vállalkozási maradványának igénybevétele | F96: ='1b.mell '!F249 -> 0
A97: 066020 | B97: Város-, községgazdálkodási egyéb szolgáltatások | F97: =SUM(F100:F106) -> 1829683
A100: 1077 | C100: Parkolási bírság, pótdíj | F100: ='1b.mell '!F38 -> 557844
A101: 1079 | C101: Közigazgatási bírság | F101: ='1b.mell '!F40 -> 15000
A102: 1206 | C102: Kerékbilincs levétele | F102: ='1b.mell '!F126 -> 30000
A103: 1091 | C103: Közterületfoglalási díj | F103: ='1b.mell '!F46 -> 0
A104: 1092 | C104: Parkolási díj, ügyviteli költség | F104: ='1b.mell '!F47 -> 1157439
A105: 1098 | C105: Nyomvonal létesítés kártalanítás | F105: ='1b.mell '!F53 -> 500
A106: 1103 | C106: Parkolással kapcsolatos közvetített szolgáltatások ellenértéke | F106: ='1b.mell '!F58 -> 68900
A107: 096015 | B107: Gyermekétkeztetés köznevelési intézményben | F107: =SUM(F110) -> 195253
A110: 1421 | C110: Ellátási díjak | F110: ='1b.mell '!F174 -> 195253
A111: Mindösszesen | F111: =SUM(F107+F97+F92+F88+F74+F59+F5+F70) -> 39826007
