Workbook
Name adósság: 0
Name beruh: #REF!
Name beruh: #REF!
Name beruh: #REF!
Name beruh: #REF!
Name beruh: #REF!
Name beruh: #REF!
Name beruh: #REF!
Name beruh: #REF!
Name beruh: #REF!
Name beruh: #REF!
Name beruh: #REF!
Name beruh: #REF!
Name beruházás: #REF!
Name beruházás: #REF!
Name beruházás: #REF!
Name beruházás: #REF!
Name beruházás: #REF!
Name beruházás: #REF!
Name beruházás: #REF!
Name beruházás: #REF!
Name beruházás: #REF!
Name beruházás: #REF!
Name beruházás: #REF!
Name beruházás: #REF!
Name cs8_sz_melleklet_Dim01: "="
Name cs8_sz_melleklet_Dim02: "="
Name cs8_sz_melleklet_Dim03: "="
Name cs8_sz_melleklet_Dim04: "="
Name cs8_sz_melleklet_Dim05: "="
Name cs8_sz_melleklet_Dim06: "="
Name cs8_sz_melleklet_Dim07: "="
Name cs8_sz_melleklet_Dim08: "="
Name cs8_sz_melleklet_Dim09: "="
Name cs8_sz_melleklet_Dim10: "="
Name cs8_sz_melleklet_Dim11: "="
Name cs8_sz_melleklet_Dim12: "="
Name cs8_sz_mellekletAnchor: #REF!
Name cs9_sz_melleklet_Dim01: "="
Name cs9_sz_melleklet_Dim02: "="
Name cs9_sz_melleklet_Dim03: "="
Name cs9_sz_melleklet_Dim04: "="
Name cs9_sz_melleklet_Dim05: "="
Name cs9_sz_melleklet_Dim06: "="
Name cs9_sz_melleklet_Dim07: "="
Name cs9_sz_melleklet_Dim08: "="
Name cs9_sz_melleklet_Dim09: "="
Name cs9_sz_melleklet_Dim10: "="
Name cs9_sz_melleklet_Dim11: "="
Name cs9_sz_melleklet_Dim12: "="
Name cs9_sz_mellekletAnchor: #REF!
Name csAlapy_rendeleti_tabla_excel_Dim01: "="
Name csAlapy_rendeleti_tabla_excel_Dim02: "="
Name csAlapy_rendeleti_tabla_excel_Dim03: "="
Name csAlapy_rendeleti_tabla_excel_Dim04: "="
Name csAlapy_rendeleti_tabla_excel_Dim05: "="
Name csAlapy_rendeleti_tabla_excel_Dim06: "="
Name csAlapy_rendeleti_tabla_excel_Dim07: "="
Name csAlapy_rendeleti_tabla_excel_Dim08: "="
Name csAlapy_rendeleti_tabla_excel_Dim09: "="

Sheet 1a.mell 
A1: 1/A melléklet
A2: Működési-felhalmozási bevételek-kiadások mérlegszerű bemutatása
J3: eFt
A4: Bevétel | B4: 2024. évi előirányzat 3/2024. | C4: 2024. évi előirányzat 10/2024. | D4: 2024. évi előirányzat 14/2024. | E4: 2024. évi előirányzat /2024. | F4: Kiadások | G4: 2024. évi előirányzat 3/2024. | H4: 2024. évi előirányzat 10/2024. | I4: 2024. évi előirányzat 14/2024. | J4: 2024. évi előirányzat /2024.
F6: Személyi juttatások | G6: =SUM('1c.mell '!C130) -> 7338142 | H6: =SUM('1c.mell '!D130) -> 9366942 | I6: =SUM('1c.mell '!E130) -> 9481249 | J6: =SUM('1c.mell '!F130) -> 9657001
A7: Önkormányzatok működési támogatásai | B7: =SUM('1b.mell '!C208) -> 3544633 | C7: =SUM('1b.mell '!D208) -> 4270289 | D7: =SUM('1b.mell '!E208) -> 4379771 | E7: =SUM('1b.mell '!F208) -> 4424851 | F7: Munkaadókat terh. járulékok és szociális hozzájárulási adó | G7: =SUM('1c.mell '!C131) -> 1100140 | H7: =SUM('1c.mell '!D131) -> 1378426 | I7: =SUM('1c.mell '!E131) -> 1396438 | J7: =SUM('1c.mell '!F131) -> 1394187
A8: Elvonások és befizetések bevételei | B8: =SUM('1b.mell '!C17) -> 0 | C8: =SUM('1b.mell '!D17) -> 0 | D8: =SUM('1b.mell '!E17) -> 0 | E8: =SUM('1b.mell '!F17) -> 0 | F8: Dologi kiadások | G8: =SUM('1c.mell '!C132) -> 8366094 | H8: =SUM('1c.mell '!D132) -> 10034138 | I8: =SUM('1c.mell '!E132) -> 10362907 | J8: =SUM('1c.mell '!F132) -> 10568941
A9: Egyéb működési célú tám.bev. Áh-n belülről | B9: =SUM('1b.mell '!C211) -> 0 | C9: =SUM('1b.mell '!D211) -> 2041968 | D9: =SUM('1b.mell '!E211) -> 2045920 | E9: =SUM('1b.mell '!F211) -> 2058831 | F9: Ellátottak pénzbeli juttatásai | G9: =SUM('1c.mell '!C133) -> 184345 | H9: =SUM('1c.mell '!D133) -> 191858 | I9: =SUM('1c.mell '!E133) -> 183358 | J9: =SUM('1c.mell '!F133) -> 183358
A10: "Egészséges Budapest Program" Integr. Alapell. Járób. szakell. Központ megv. | B10: =SUM('1b.mell '!C210) -> 0 | C10: =SUM('1b.mell '!D210) -> 0 | D10: =SUM('1b.mell '!E210) -> 0 | E10: =SUM('1b.mell '!F210) -> 0
A11: Egyéb műk. célú támog.bevételei Áh-n belülről - EU-s pály. KEHOP-1.2.1-18-2018-00006 | B11: =SUM('1b.mell '!C212) -> 0 | C11: =SUM('1b.mell '!D212) -> 0 | D11: =SUM('1b.mell '!E212) -> 0 | E11: =SUM('1b.mell '!F212) -> 0 | F11: Egyéb működési célú kiadások | G11: =SUM('1c.mell '!C134) -> 3607711 | H11: =SUM('1c.mell '!D134) -> 4051779 | I11: =SUM('1c.mell '!E134) -> 4008999 | J11: =SUM('1c.mell '!F134) -> 4072329
A12: Egyéb műk. célú támog.bevételei Áh-n belülről - VEKOP-7 3 4-17-2017-00011 | B12: =SUM('1b.mell '!C213) -> 0 | C12: =SUM('1b.mell '!D213) -> 0 | D12: =SUM('1b.mell '!E213) -> 750 | E12: =SUM('1b.mell '!F213) -> 750 | F12: ebből: Általános tartalék | G12: ='6.mell. '!C12 -> 16404 | H12: ='6.mell. '!D12 -> 50000 | I12: ='6.mell. '!E12 -> 42020 | J12: ='6.mell. '!F12 -> 50000
F13: Céltartalék 6. sz. melléklet szerint | G13: ='6.mell. '!C14 -> 27583 | H13: ='6.mell. '!D20+'6.mell. '!D16 -> 76173 | I13: ='6.mell. '!E20+'6.mell. '!E16 -> 56173 | J13: ='6.mell. '!F20+'6.mell. '!F16 -> 56173
A14: Működési célú támogatások Államháztartáson belülről összesen | B14: =SUM(B7:B13) -> 3544633 | C14: =SUM(C7:C13) -> 6312257 | D14: =SUM(D7:D13) -> 6426441 | E14: =SUM(E7:E13) -> 6484432
A15: Vagyoni típusú adók (Helyi adó) | B15: =SUM('1b.mell '!C215) -> 5377421 | C15: =SUM('1b.mell '!D215) -> 5377421 | D15: =SUM('1b.mell '!E215) -> 5377421 | E15: =SUM('1b.mell '!F215) -> 5377421
A16: Termékek és szolgáltatások adói | B16: =SUM('1b.mell '!C216) -> 9857538 | C16: =SUM('1b.mell '!D216) -> 9857538 | D16: =SUM('1b.mell '!E216) -> 9857538 | E16: =SUM('1b.mell '!F216) -> 9933538
A17: Egyéb közhatalmi bevételek | B17: =SUM('1b.mell '!C217) -> 899172 | C17: =SUM('1b.mell '!D217) -> 899172 | D17: =SUM('1b.mell '!E217) -> 900952 | E17: =SUM('1b.mell '!F217) -> 900952
A18: Közhatalmi bevételek összesen | B18: =SUM(B15:B17) -> 16134131 | C18: =SUM(C15:C17) -> 16134131 | D18: =SUM(D15:D17) -> 16135911 | E18: =SUM(E15:E17) -> 16211911
A19: Készletértékesítés ellenértéke | B19: =SUM('1b.mell '!C219) -> 0 | C19: =SUM('1b.mell '!D219) -> 0 | D19: =SUM('1b.mell '!E219) -> 0 | E19: =SUM('1b.mell '!F219) -> 21
A20: Szolgáltatások ellenértéke | B20: =SUM('1b.mell '!C220) -> 2030915 | C20: =SUM('1b.mell '!D220) -> 2167183 | D20: =SUM('1b.mell '!E220) -> 2183409 | E20: =SUM('1b.mell '!F220) -> 2198627
A21: Közvetített szolgáltatások ellenértéke | B21: =SUM('1b.mell '!C221) -> 202736 | C21: =SUM('1b.mell '!D221) -> 225736 | D21: =SUM('1b.mell '!E221) -> 225736 | E21: =SUM('1b.mell '!F221) -> 231185
A22: Tulajdonosi bevétel | B22: =SUM('1b.mell '!C222) -> 0 | C22: =SUM('1b.mell '!D222) -> 0 | D22: =SUM('1b.mell '!E222) -> 0 | E22: =SUM('1b.mell '!F222) -> 0
A23: Ellátási díjak | B23: =SUM('1b.mell '!C223) -> 193454 | C23: =SUM('1b.mell '!D223) -> 193454 | D23: =SUM('1b.mell '!E223) -> 193454 | E23: =SUM('1b.mell '!F223) -> 195253
A24: Kiszámlázott általános forgalmi adó | B24: =SUM('1b.mell '!C224) -> 652457 | C24: =SUM('1b.mell '!D224) -> 665912 | D24: =SUM('1b.mell '!E224) -> 670293 | E24: =SUM('1b.mell '!F224) -> 674844
A25: Általános forgalmi adó visszatérítése | B25: =SUM('1b.mell '!C225) -> 14000 | C25: =SUM('1b.mell '!D225) -> 14000 | D25: =SUM('1b.mell '!E225) -> 14000 | E25: =SUM('1b.mell '!F225) -> 21944
A26: Kamatbevételek és más nyereségjellegű bevételek | B26: =SUM('1b.mell '!C226) -> 250000 | C26: =SUM('1b.mell '!D226) -> 271532 | D26: =SUM('1b.mell '!E226) -> 271532 | E26: =SUM('1b.mell '!F226) -> 271532
A27: Részesedések értékesítéséhez kapcsolódó realizált nyereség
A28: Egyéb működési bevételek | B28: =SUM('1b.mell '!C227) -> 55266 | C28: =SUM('1b.mell '!D227) -> 56266 | D28: =SUM('1b.mell '!E227) -> 58776 | E28: =SUM('1b.mell '!F227) -> 77077
A29: Működési bevételek összesen | B29: =SUM(B19:B28) -> 3398828 | C29: =SUM(C19:C28) -> 3594083 | D29: =SUM(D19:D28) -> 3617200 | E29: =SUM(E19:E28) -> 3670483
A30: Egyéb működési célú átvett pénzeszköz | B30: =SUM('1b.mell '!C229) -> 0 | C30: =SUM('1b.mell '!D229) -> 0 | D30: =SUM('1b.mell '!E229) -> 46745 | E30: =SUM('1b.mell '!F229) -> 46745
A31: Működési célú átvett pénzeszközök összesen | B31: =SUM(B30) -> 0 | C31: =SUM(C30) -> 0 | D31: =SUM(D30) -> 46745 | E31: =SUM(E30) -> 46745
A32: Működési költségvetési bevételek mindösszesen | B32: =SUM(B31,B29,B18,B14) -> 23077592 | C32: =SUM(C31,C29,C18,C14) -> 26040471 | D32: =SUM(D31,D29,D18,D14) -> 26226297 | E32: =SUM(E31,E29,E18,E14) -> 26413571 | F32: Működési költségvetési kiadások mindösszesen | G32: =SUM(G6:G11) -> 20596432 | H32: =SUM(H6:H11) -> 25023143 | I32: =SUM(I6:I11) -> 25432951 | J32: =SUM(J6:J11) -> 25875816
A33: Felhalmozási célú önkormányzati támogatások | B33: =SUM('1b.mell '!C232) -> 0 | C33: =SUM('1b.mell '!D232) -> 0 | D33: =SUM('1b.mell '!E232) -> 0 | E33: =SUM('1b.mell '!F232) -> 0
A34: "Egészséges Budapest Program" Integrélt Alapell. Járób. szakell. Közp. megv. | B34: =SUM('1b.mell '!C233) -> 0 | C34: =SUM('1b.mell '!D233) -> 0 | D34: =SUM('1b.mell '!E233) -> 0 | E34: =SUM('1b.mell '!F233) -> 0
A35: Ferencvárosi lakótömb rehabilitációjának I. üteme | B35: =SUM('1b.mell '!C234) -> 0 | C35: =SUM('1b.mell '!D234) -> 0 | D35: =SUM('1b.mell '!E234) -> 0 | E35: =SUM('1b.mell '!F234) -> 0 | F35: Beruházások | G35: =SUM('1c.mell '!C137) -> 3875676 | H35: =SUM('1c.mell '!D137) -> 4351206 | I35: =SUM('1c.mell '!E137) -> 4184467 | J35: =SUM('1c.mell '!F137) -> 4133787
A36: Egyéb felhalmozási célú támog.bevételei ÁH-n belülről - Fővárosi Önkormányzattól | B36: =SUM('1b.mell '!C235) -> 0 | C36: =SUM('1b.mell '!D235) -> 0 | D36: =SUM('1b.mell '!E235) -> 0 | E36: =SUM('1b.mell '!F235) -> 6638 | F36: Felújítások | G36: =SUM('1c.mell '!C138) -> 3203538 | H36: =SUM('1c.mell '!D138) -> 5380131 | I36: =SUM('1c.mell '!E138) -> 5285093 | J36: =SUM('1c.mell '!F138) -> 5253782
A37: Egyéb felhalmozási célú támog.bevételei ÁH-n belülről | B37: =SUM('1b.mell '!C236) -> 0 | C37: =SUM('1b.mell '!D236) -> 0 | D37: =SUM('1b.mell '!E236) -> 7987 | E37: =SUM('1b.mell '!F236) -> 7987 | F37: Egyéb felhalmozási célú kiadások | G37: =SUM('1c.mell '!C139) -> 1402392 | H37: =SUM('1c.mell '!D139) -> 3330632 | I37: =SUM('1c.mell '!E139) -> 3376414 | J37: =SUM('1c.mell '!F139) -> 3365202
A38: Felhalmozási célú támogatások Államháztartáson belülről összesen | B38: =SUM(B33:B37) -> 0 | C38: =SUM(C33:C37) -> 0 | D38: =SUM(D33:D37) -> 7987 | E38: =SUM(E33:E37) -> 14625
A39: Ingatlanok értékesítése | B39: =SUM('1b.mell '!C238) -> 180000 | C39: =SUM('1b.mell '!D238) -> 180000 | D39: =SUM('1b.mell '!E238) -> 180000 | E39: =SUM('1b.mell '!F238) -> 335000
A40: Egyéb tárgyi eszköz értékesítése | B40: =SUM('1b.mell '!C239) -> 0 | C40: =SUM('1b.mell '!D239) -> 0 | D40: =SUM('1b.mell '!E239) -> 0 | E40: =SUM('1b.mell '!F239) -> 750
A41: Részesedések értékesítése, részesedések megszűnéséhez kapcsolódó bevételek
...

Sheet 1b.mell 
A1: 1/B. sz. melléklet
A2: Az önkormányzat 2024. évi bevételei
G4: (eFt-ban)
A5: Soszám | B5: Bevételek | C5: 2024. évi előirányzat 3/2024. | D5: 2024. évi előirányzat 10/2024. | E5: 2024. évi előirányzat 14/2024. | F5: 2024. évi előirányzat /2024. | G5: Index 6./5.
A7: 1. | B7: 2. | C7: 3. | D7: 4. | E7: 5. | F7: 6. | G7: 7.
B8: I. Helyi Önkormányzat bevételei
A10: 1010 | B10: Önkormányzatok működési támogatásai | C10: =SUM(C11:C16) -> 3544633 | D10: =SUM(D11:D16) -> 4270289 | E10: =SUM(E11:E16) -> 4379771 | F10: =SUM(F11:F16) -> 4424851 | G10: =SUM(F10/E10) -> 1.0102928
A11: 1011 | B11: - Helyi önkormányzatok működésének általános támogatása | C11: =837843+66853 -> 904696 | D11: =904696 -> 904696 | E11: =904696 -> 904696 | F11: =904696 -> 904696 | G11: =SUM(F11/E11) -> 1
A12: 1012 | B12: - Települési önkormányzatok egyes köznevelési feladatainak támogatása | C12: =1155855+102932 -> 1258787 | D12: =1258787+268412 -> 1527199 | E12: =1527199+17230 -> 1544429 | F12: =1544429+769 -> 1545198 | G12: =SUM(F12/E12) -> 1.0004979
A13: 1013 | B13: - Települési önkormányzatok szociális, gyermekjóléti és gyermekétkeztési feladatainak támogatása | C13: =1121894+228945 -> 1350839 | D13: =1350839+26911+60831 -> 1438581 | E13: =1438581+91817 -> 1530398 | F13: =1530398+44311 -> 1574709 | G13: =SUM(F13/E13) -> 1.0289539
A14: 1014 | B14: - Települési önkormányzatok kulturális feladatainak támogatása | C14: 30311 | D14: =30311+313826+30377 -> 374514 | E14: =374514+435 -> 374949 | F14: =374514+435 -> 374949 | G14: =SUM(F14/E14) -> 1
A15: 1015 | B15: - Működési célú költségvetési támogatások és kiegészítő támogatások
A16: 1016 | B16: - Elszámolásból származó bevételek | C16: 0 | D16: 25299 | E16: 25299 | F16: 25299 | G16: =SUM(F16/E16) -> 1
A17: 1020 | B17: Elvonások és befizetések bevételei
A18: 1029 | B18: "Egészséges Budapest Program" Integrélt Alapell. Járóbeteg szakell. Központ megv. | C18: 0 | D18: 0 | E18: 0 | F18: 0
A19: 1030 | B19: Egyéb működési célú támogatások bevételei államháztartáson belülről | C19: 0 | D19: 10483 | E19: =10483+2652 -> 13135 | F19: =10483+2652 -> 13135 | G19: =SUM(F19/E19) -> 1
A20: 1031 | B20: Egyéb műk. célú támog.bevételei Áh-n belülről - EU-s pályázat KEHOP-1.2.1-18-2018-00006
A21: 1032 | B21: VEKOP-7 3 4-17-2017-00011 József Attila | C21: 0 | D21: 0 | E21: 750 | F21: 750 | G21: =SUM(F21/E21) -> 1
B22: Működési célú támogatások államháztartáson belülről összesen | C22: =SUM(C10+C21+C20+C18+C19) -> 3544633 | D22: =SUM(D10+D21+D20+D18+D19) -> 4280772 | E22: =SUM(E10+E21+E20+E18+E19) -> 4393656 | F22: =SUM(F10+F21+F20+F18+F19) -> 4438736 | G22: =SUM(F22/E22) -> 1.0102602
A24: 1040 | B24: Vagyoni típusú adók (Helyi adó) | C24: =SUM(C25:C26) -> 5377421 | D24: =SUM(D25:D26) -> 5377421 | E24: =SUM(E25:E26) -> 5377421 | F24: =SUM(F25:F26) -> 5377421 | G24: =SUM(F24/E24) -> 1
A25: 1041 | B25: Építményadó | C25: 4638980 | D25: 4638980 | E25: 4638980 | F25: 4638980 | G25: =SUM(F25/E25) -> 1
A26: 1042 | B26: Telekadó | C26: 738441 | D26: 738441 | E26: 738441 | F26: 738441 | G26: =SUM(F26/E26) -> 1
A27: 1050 | B27: Termékek és szolgáltatások adói | C27: =SUM(C28:C30) -> 9857538 | D27: =SUM(D28:D30) -> 9857538 | E27: =SUM(E28:E30) -> 9857538 | F27: =SUM(F28:F30) -> 9933538 | G27: =SUM(F27/E27) -> 1.0077098
A28: 1051 | B28: Iparűzési adó | C28: =9340000+17538 -> 9357538 | D28: =9340000+17538 -> 9357538 | E28: =9340000+17538 -> 9357538 | F28: =9340000+17538 -> 9357538 | G28: =SUM(F28/E28) -> 1
A29: 1052 | B29: Belföldi gépjárművek adójának a helyi önkormányzatot megillető része
A30: 1053 | B30: Idegenforgalmi adó | C30: 500000 | D30: 500000 | E30: 500000 | F30: =500000+76000 -> 576000 | G30: =SUM(F30/E30) -> 1.152
A31: 1070 | B31: Egyéb közhatalmi bevételek | C31: =SUM(C32:C42) -> 859172 | D31: =SUM(D32:D42) -> 859172 | E31: =SUM(E32:E42) -> 860952 | F31: =SUM(F32:F42) -> 860952 | G31: =SUM(F31/E31) -> 1
A32: 1071 | B32: Igazgatásszolgáltatási díj | C32: 400 | D32: 400 | E32: 400 | F32: 400 | G32: =SUM(F32/E32) -> 1
A33: 1072 | B33: Talajterhelési díj | E33: 1780 | F33: 1780 | G33: =SUM(F33/E33) -> 1
A34: 1073 | B34: Környezetvédelmi bírság
A35: 1074 | B35: Szabálysértési bírság
A36: 1075 | B36: Helyi adó pótlék, bírság | C36: 22000 | D36: 22000 | E36: 22000 | F36: 22000 | G36: =SUM(F36/E36) -> 1
A37: 1076 | B37: Iparűzési adó pótlék, bírság | C37: =12116-460+972 -> 12628 | D37: =12116-460+972 -> 12628 | E37: =12116-460+972 -> 12628 | F37: =12116-460+972 -> 12628 | G37: =SUM(F37/E37) -> 1
A38: 1077 | B38: Parkolási bírság, pótdíj | C38: 557844 | D38: 557844 | E38: 557844 | F38: 557844 | G38: =SUM(F38/E38) -> 1
A39: 1078 | B39: Egyéb bírságból származó bevétel | C39: 1300 | D39: 1300 | E39: 1300 | F39: 1300 | G39: =SUM(F39/E39) -> 1
A40: 1079 | B40: Közigazgatási bírság | C40: 15000 | D40: 15000 | E40: 15000 | F40: 15000 | G40: =SUM(F40/E40) -> 1
A41: 1081 | B41: Közterületfoglalási díj | C41: 250000 | D41: 250000 | E41: 250000 | F41: 250000 | G41: =SUM(F41/E41) -> 1
A42: 1082 | B42: Kerékbilincs levétele
B43: Közhatalmi bevételek összesen | C43: =SUM(C24+C27+C31) -> 16094131 | D43: =SUM(D24+D27+D31) -> 16094131 | E43: =SUM(E24+E27+E31) -> 16095911 | F43: =SUM(F24+F27+F31) -> 16171911 | G43: =SUM(F43/E43) -> 1.0047217
A45: 1090 | B45: Szolgáltatások ellenértéke | C45: =SUM(C46:C54) -> 1920939 | D45: =SUM(D46:D54) -> 1920939 | E45: =SUM(E46:E54) -> 1920939 | F45: =SUM(F46:F54) -> 1920939 | G45: =SUM(F45/E45) -> 1
...

Sheet 1c.mell 
A1: 1/C. sz. melléklet
A2: Az önkormányzat 2024. évi kiadásai
G4: (eFt-ban)
C5: 2024. évi előirányzat 3/2024. | D5: 2024. évi előirányzat 10/2024. | E5: 2024. évi előirányzat 14/2024. | F5: 2024. évi előirányzat /2024. | G5: Index 6./5.
A6: Soszám | B6: Megnevezés
A8: 1. | B8: 2. | C8: 3. | D8: 4. | E8: 5. | F8: 6. | G8: 7.
B9: I. Polgármesteri Hivatal kiadásai
A11: 1710 | B11: Polgármesteri Hivatal kiadása (3/A. sz. melléklet szerint) | C11: =SUM(C12:C19) -> 3549198 | D11: =SUM(D12:D19) -> 3979157 | E11: =SUM(E12:E19) -> 3979157 | F11: =SUM(F12:F19) -> 3988868 | G11: =SUM(F11/E11) -> 1.0024405
A12: 1711 | B12: Személyi juttatások | C12: =SUM('3a.m.'!C52) -> 2495119 | D12: =SUM('3a.m.'!D52) -> 2621827 | E12: =SUM('3a.m.'!E52) -> 2621827 | F12: =SUM('3a.m.'!F52) -> 2627779 | G12: =SUM(F12/E12) -> 1.0022702
A13: 1712 | B13: Munkaadókat terhelő járulékok és szociális hozzájárulási adó | C13: =SUM('3a.m.'!C53) -> 378079 | D13: =SUM('3a.m.'!D53) -> 412169 | E13: =SUM('3a.m.'!E53) -> 412169 | F13: =SUM('3a.m.'!F53) -> 413914 | G13: =SUM(F13/E13) -> 1.0042337
A14: 1713 | B14: Dologi kiadások | C14: =SUM('3a.m.'!C54) -> 637000 | D14: =SUM('3a.m.'!D54) -> 795523 | E14: =SUM('3a.m.'!E54) -> 795523 | F14: =SUM('3a.m.'!F54) -> 797537 | G14: =SUM(F14/E14) -> 1.0025317
A15: 1714 | B15: Ellátottak pénzbeli juttatásai | C15: =SUM('3a.m.'!C55) -> 0 | D15: =SUM('3a.m.'!D55) -> 0 | E15: =SUM('3a.m.'!E55) -> 0 | F15: =SUM('3a.m.'!F55) -> 0
A16: 1715 | B16: Egyéb működési célú kiadások | C16: ='3a.m.'!C56 -> 0 | D16: ='3a.m.'!D56 -> 0 | E16: ='3a.m.'!E56 -> 0 | F16: ='3a.m.'!F56 -> 0
A17: 1716 | B17: Beruházások | C17: =SUM('3a.m.'!C60) -> 35000 | D17: =SUM('3a.m.'!D60) -> 143733 | E17: =SUM('3a.m.'!E60) -> 143733 | F17: =SUM('3a.m.'!F60) -> 143733 | G17: =SUM(F17/E17) -> 1
A18: 1717 | B18: Felújítások | C18: =SUM('3a.m.'!C59) -> 0 | D18: =SUM('3a.m.'!D59) -> 1905 | E18: =SUM('3a.m.'!E59) -> 1905 | F18: =SUM('3a.m.'!F59) -> 1905 | G18: =SUM(F18/E18) -> 1
A19: 1718 | B19: Egyéb felhalmozási célú kiadások - Munkáltatói kölcsön | C19: =SUM('3a.m.'!C61) -> 4000 | D19: =SUM('3a.m.'!D61) -> 4000 | E19: =SUM('3a.m.'!E61) -> 4000 | F19: =SUM('3a.m.'!F61) -> 4000 | G19: =SUM(F19/E19) -> 1
B21: II. Önkormányzat kiadásai
A23: 1750 | B23: Önkormányzat költségvetésben szereplő kiadások (3/C. sz. melléklet szerint) | C23: =SUM(C24:C32) -> 6649808 | D23: =SUM(D24:D32) -> 8793464 | E23: =SUM(E24:E32) -> 8842137 | F23: =SUM(F24:F32) -> 8853557 | G23: =SUM(F23/E23) -> 1.0012915
A24: 1751 | B24: Személyi juttatások | C24: =SUM('3c.m.'!C867) -> 316609 | D24: =SUM('3c.m.'!D867) -> 343507 | E24: =SUM('3c.m.'!E867) -> 371313 | F24: =SUM('3c.m.'!F867) -> 355096 | G24: =SUM(F24/E24) -> 0.95632526
A25: 1752 | B25: Munkaadókat terhelő járulékok és szociális hozzájárulási adó | C25: =SUM('3c.m.'!C868) -> 40163 | D25: =SUM('3c.m.'!D868) -> 47035 | E25: =SUM('3c.m.'!E868) -> 53512 | F25: =SUM('3c.m.'!F868) -> 50371 | G25: =SUM(F25/E25) -> 0.94130289
A26: 1753 | B26: Dologi kiadások | C26: =SUM('3c.m.'!C869) -> 4871236 | D26: =SUM('3c.m.'!D869) -> 5173450 | E26: =SUM('3c.m.'!E869) -> 5212535 | F26: =SUM('3c.m.'!F869) -> 5222776 | G26: =SUM(F26/E26) -> 1.0019647
A27: 1754 | B27: Ellátottak pénzbeli juttatásai | C27: =SUM('3c.m.'!C870) -> 184000 | D27: =SUM('3c.m.'!D870) -> 191513 | E27: =SUM('3c.m.'!E870) -> 183013 | F27: =SUM('3c.m.'!F870) -> 183013 | G27: =SUM(F27/E27) -> 1
A28: 1755 | B28: Egyéb működési célú kiadások | C28: =SUM('3c.m.'!C871) -> 55700 | D28: =SUM('3c.m.'!D871) -> 94363 | E28: =SUM('3c.m.'!E871) -> 80013 | F28: =SUM('3c.m.'!F871) -> 104913 | G28: =SUM(F28/E28) -> 1.3111994
A29: 1756 | B29: Beruházások | C29: =SUM('3c.m.'!C874) -> 18000 | D29: =SUM('3c.m.'!D874) -> 55271 | E29: =SUM('3c.m.'!E874) -> 55371 | F29: =SUM('3c.m.'!F874) -> 64720 | G29: =SUM(F29/E29) -> 1.1688429
A30: 1757 | B30: Felújítások | C30: =SUM('3c.m.'!C875) -> 0 | D30: =SUM('3c.m.'!D875) -> 0 | E30: =SUM('3c.m.'!E875) -> 0 | F30: =SUM('3c.m.'!F875) -> 0
A31: 1758 | B31: Egyéb felhalmozási célú kiadások | C31: =SUM('3c.m.'!C876) -> 1164100 | D31: =SUM('3c.m.'!D876) -> 2888325 | E31: =SUM('3c.m.'!E876) -> 2886380 | F31: =SUM('3c.m.'!F876) -> 2872668 | G31: =SUM(F31/E31) -> 0.99524941
A33: 1760 | B33: Önkormányzat ktsv. szereplő Támogatások (3/D. sz. melléklet szerint) | C33: =SUM(C34:C40) -> 1470867 | D33: =SUM(D34:D40) -> 1992077 | E33: =SUM(E34:E40) -> 2009304 | F33: =SUM(F34:F40) -> 2041754 | G33: =SUM(F33/E33) -> 1.0161499
A34: 1761 | B34: Személyi juttatások | C34: =SUM('3d.m.'!C65) -> 4513 | D34: =SUM('3d.m.'!D65) -> 5189 | E34: =SUM('3d.m.'!E65) -> 5189 | F34: =SUM('3d.m.'!F65) -> 5186 | G34: =SUM(F34/E34) -> 0.99942185
A35: 1762 | B35: Munkaadókat terhelő járulékok és szociális hozzájárulási adó | C35: =SUM('3d.m.'!C66) -> 587 | D35: =SUM('3d.m.'!D66) -> 740 | E35: =SUM('3d.m.'!E66) -> 740 | F35: =SUM('3d.m.'!F66) -> 740 | G35: =SUM(F35/E35) -> 1
A36: 1763 | B36: Dologi kiadások | C36: =SUM('3d.m.'!C67) -> 12500 | D36: =SUM('3d.m.'!D67) -> 14565 | E36: =SUM('3d.m.'!E67) -> 14615 | F36: =SUM('3d.m.'!F67) -> 14618 | G36: =SUM(F36/E36) -> 1.0002053
A37: 1764 | B37: Egyéb működési célú kiadások | C37: =SUM('3d.m.'!C68) -> 1237474 | D37: =SUM('3d.m.'!D68) -> 1554775 | E37: =SUM('3d.m.'!E68) -> 1554225 | F37: =SUM('3d.m.'!F68) -> 1584675 | G37: =SUM(F37/E37) -> 1.0195918
A38: 1765 | B38: Beruházási kiadások | C38: =SUM('3d.m.'!C71) -> 8500 | D38: =SUM('3d.m.'!D71) -> 8500 | E38: =SUM('3d.m.'!E71) -> 8500 | F38: =SUM('3d.m.'!F71) -> 8000 | G38: =SUM(F38/E38) -> 0.94117647
A39: 1766 | B39: Egyéb felhalmozási célú kiadások | C39: =SUM('3d.m.'!C72) -> 207293 | D39: =SUM('3d.m.'!D72) -> 408308 | E39: =SUM('3d.m.'!E72) -> 426035 | F39: =SUM('3d.m.'!F72) -> 428535 | G39: =SUM(F39/E39) -> 1.0058681
A41: 1770 | B41: Önkormányzati Felújítási kiadások (4. sz. melléklet szerint) | C41: =SUM(C42:C48) -> 4692488 | D41: =SUM(D42:D48) -> 6867653 | E41: =SUM(E42:E48) -> 6705195 | F41: =SUM(F42:F48) -> 6611289 | G41: =SUM(F41/E41) -> 0.98599504
A42: 1771 | B42: Személyi juttatások | C42: ='4.mell.'!C95 -> 0 | D42: ='4.mell.'!D95 -> 0 | E42: ='4.mell.'!E95 -> 0 | F42: ='4.mell.'!F95 -> 1050
A43: 1772 | B43: Munkaadókat terhelő járulékok és szociális hozzájárulási adó | C43: ='4.mell.'!C96 -> 0 | D43: ='4.mell.'!D96 -> 0 | E43: ='4.mell.'!E96 -> 0 | F43: ='4.mell.'!F96 -> 140
A44: 1773 | B44: Dologi kiadások | C44: =SUM('4.mell.'!C97) -> 0 | D44: =SUM('4.mell.'!D97) -> 17040 | E44: =SUM('4.mell.'!E97) -> 76239 | F44: =SUM('4.mell.'!F97) -> 88139 | G44: =SUM(F44/E44) -> 1.1560881
A45: 1774 | B45: Egyéb működési célú kiadás | C45: =SUM('4.mell.'!I98) -> 0 | D45: =SUM('4.mell.'!J98) -> 0 | E45: =SUM('4.mell.'!K98) -> 0 | F45: =SUM('4.mell.'!L98) -> 0
A46: 1775 | B46: Beruházások | C46: =SUM('4.mell.'!C101) -> 1535518 | D46: =SUM('4.mell.'!D101) -> 1583036 | E46: =SUM('4.mell.'!E101) -> 1521570 | F46: =SUM('4.mell.'!F101) -> 1422114 | G46: =SUM(F46/E46) -> 0.93463594
A47: 1776 | B47: Felújítások | C47: =SUM('4.mell.'!C102) -> 3129971 | D47: =SUM('4.mell.'!D102) -> 5237578 | E47: =SUM('4.mell.'!E102) -> 5077387 | F47: =SUM('4.mell.'!F102) -> 5069847 | G47: =SUM(F47/E47) -> 0.99851498
...

Sheet 2.mell
A1: 2. sz. melléklet
A2: Költségvetési szervek 2024. évi költségvetése
G4: (eFt-ban)
A5: Sorsz. | B5: Megnevezés | C5: 2024. évi előirányzat 3/2024. | D5: 2024. évi előirányzat 10/2024. | E5: 2024. évi előirányzat 14/2024. | F5: 2024. évi előirányzat /2024. | G5: Index 6./5.
A8: 1. | B8: 2. | C8: 3. | D8: 4. | E8: 5. | F8: 6. | G8: 7.
A9: 2305 | B9: Csicsergő Óvoda /Thaly K. u. 38./
B10: Elvonások és befizetések bevételei
B11: Egyéb működési célú támogatások bevételei Áh-n belülről
B12: Működési célú támogatások Áh-n belülről összesen
B13: Szolgáltatások ellenértéke
B14: Egyéb szolgáltatás
B15: Bérleti díjak
B16: Közvetített szolgáltatások ellenértéke
B17: Ellátási díjak
B18: Kiszámlázott általános forgalmi adó
B19: Kamatbevételek és más nyereségjelegű bevételek
B20: Egyéb működési bevételek
B21: Működési bevételek összesen
... B25: Felhalmozási költségvetési bevételek mindösszesen
B26: Előző év költségvetési maradványának igénybevétele | C26: 0 | D26: 1310 | E26: 1310 | F26: 1310 | G26: =F26/E26 -> 1
B27: Irányító szervi támogatás | C27: 248344 | D27: =248344+260+2059+735+949 -> 252347 | E27: =252347+1216 -> 253563 | F27: =253563+14381 -> 267944 | G27: =F27/E27 -> 1.0567157
B28: Működési finanszírozási bevételek | C28: =SUM(C26:C27) -> 248344 | D28: =SUM(D26:D27) -> 253657 | E28: =SUM(E26:E27) -> 254873 | F28: =SUM(F26:F27) -> 269254 | G28: =F28/E28 -> 1.0564242
B29: Előző év költségvetési maradványának igénybevétele
B30: Felhalmozási finanszírozási bevételek
B31: Bevételek mindösszesen | C31: =SUM(C23+C25+C28+C30) -> 248344 | D31: =SUM(D23+D25+D28+D30) -> 253657 | E31: =SUM(E23+E25+E28+E30) -> 254873 | F31: =SUM(F23+F25+F28+F30) -> 269254 | G31: =F31/E31 -> 1.0564242
B32: Személyi juttatások | C32: 211018 | D32: =211018+217+650+840 -> 212725 | E32: =212725+1076 -> 213801 | F32: =213801+14251 -> 228052 | G32: =F32/E32 -> 1.0666554
B33: Munkaadókat terhelő járulékok és szociális hozzájárulási adó | C33: 32268 | D33: =32268+28+85+109 -> 32490 | E33: =32490+140 -> 32630 | F33: =32630+130 -> 32760 | G33: =F33/E33 -> 1.0039841
B34: Dologi kiadások | C34: 4500 | D34: =4500+1065+260+343 -> 6168 | E34: =4500+1065+260+343 -> 6168 | F34: =4500+1065+260+343 -> 6168 | G34: =F34/E34 -> 1
B35: Ellátottak pénzbeli juttatásai
B36: Egyéb működési célú kiadások
B37: Működési költségvetési kiadások mindösszesen | C37: =SUM(C32:C36) -> 247786 | D37: =SUM(D32:D36) -> 251383 | E37: =SUM(E32:E36) -> 252599 | F37: =SUM(F32:F36) -> 266980 | G37: =F37/E37 -> 1.0569321
B38: Beruházások (bútorok, berendezési tárgyak) | C38: 558 | D38: =558+1716 -> 2274 | E38: =558+1716 -> 2274 | F38: =558+1716 -> 2274 | G38: =F38/E38 -> 1
B39: Felújítások
B40: Egyéb felhalmozási célú kiadások
B41: Felhalmozási költségvetési kiadások mindösszesen | C41: =SUM(C38:C40) -> 558 | D41: =SUM(D38:D40) -> 2274 | E41: =SUM(E38:E40) -> 2274 | F41: =SUM(F38:F40) -> 2274 | G41: =F41/E41 -> 1
B42: Kiadások mindösszesen | C42: =SUM(C37+C41) -> 248344 | D42: =SUM(D37+D41) -> 253657 | E42: =SUM(E37+E41) -> 254873 | F42: =SUM(F37+F41) -> 269254 | G42: =F42/E42 -> 1.0564242
A43: 2309 | B43: Csudafa Óvoda /Óbester u. 9./
B44: Elvonások és befizetések bevételei
B45: Egyéb működési célú támogatások bevételei Áh-n belülről
B46: Működési célú támogatások Áh-n belülről összesen
...

Sheet 3a.m.
A1: 3/A sz. melléklet
A2: A Polgármesteri Hivatal kiadásai 2024.
G3: (eFt-ban)
C4: 2024. évi előirányzat 3/2024. | D4: 2024. évi előirányzat 10/2024. | E4: 2024. évi előirányzat 14/2024. | F4: 2024. évi előirányzat /2024. | G4: Index 6./5.
A5: Sorsz. | B5: Kiadás megnevezése
A7: 1. | B7: 2. | C7: 3. | D7: 4. | E7: 5. | F7: 6. | G7: 7.
A8: 3010 | B8: Üdülőhelyi szálláshely szolgáltatás | C8: =SUM(C18) -> 15450 | D8: =SUM(D18) -> 18225 | E8: =SUM(E18) -> 18225 | F8: =SUM(F18) -> 18225 | G8: =F8/E8 -> 1
A9: 3011 | B9: Balatonszéplaki Üdülő
B10: Személyi juttatások | C10: 3000 | D10: =3000+38 -> 3038 | E10: =3000+38 -> 3038 | F10: =3000+38 -> 3038 | G10: =F10/E10 -> 1
B11: Munkaadókat terhelő jár. és szociális hozzájár.adó | C11: 450 | D11: =450+14 -> 464 | E11: =450+14 -> 464 | F11: =450+14 -> 464 | G11: =F11/E11 -> 1
B12: Dologi kiadások és egyéb folyó kiadások | C12: 7000 | D12: =7000+818 -> 7818 | E12: =7000+818 -> 7818 | F12: =7000+818 -> 7818 | G12: =F12/E12 -> 1
B13: Ellátottak pénzbeli juttatásai
B14: Egyéb működési célú kiadások
B15: Beruházások | C15: 5000 | D15: 5000 | E15: 5000 | F15: 5000 | G15: =F15/E15 -> 1
B16: Felújítások | D16: 1905 | E16: 1905 | F16: 1905 | G16: =F16/E16 -> 1
B17: Egyéb felhalmozási célú kiadások
B18: Költségvetési kiadások | C18: =SUM(C10:C17) -> 15450 | D18: =SUM(D10:D17) -> 18225 | E18: =SUM(E10:E17) -> 18225 | F18: =SUM(F10:F17) -> 18225 | G18: =F18/E18 -> 1
A19: 3020 | B19: Általános közszolgáltatások | C19: =SUM(C29+C49) -> 3479982 | D19: =SUM(D29+D49) -> 3878374 | E19: =SUM(E29+E49) -> 3878374 | F19: =SUM(F29+F49) -> 3878374 | G19: =F19/E19 -> 1
A20: 3021 | B20: Polgármesteri Hivatal igazgatási kiadásai
B21: Személyi juttatások | C21: 2449449 | D21: =2449449+107382 -> 2556831 | E21: =2449449+107382 -> 2556831 | F21: =2449449+107382 -> 2556831 | G21: =F21/E21 -> 1
B22: Munkaadókat terhelő jár. és szociális hozzájár.adó | C22: 371533 | D22: =371533+31152 -> 402685 | E22: =371533+31152 -> 402685 | F22: =371533+31152 -> 402685 | G22: =F22/E22 -> 1
B23: Dologi kiadások és egyéb folyó kiadások | C23: 490000 | D23: =490000+122468 -> 612468 | E23: =490000+122468 -> 612468 | F23: =490000+122468 -> 612468 | G23: =F23/E23 -> 1
B24: Ellátottak pénzbeli juttatásai
B25: Egyéb működési célú kiadások
B26: Beruházások | C26: 15000 | D26: =15000+80969 -> 95969 | E26: =15000+80969 -> 95969 | F26: =15000+80969 -> 95969 | G26: =F26/E26 -> 1
B27: Felújítások
B28: Egyéb felhalmozási célú kiadások - Munkáltatói kölcsön | C28: 4000 | D28: 4000 | E28: 4000 | F28: 4000 | G28: =F28/E28 -> 1
B29: Költségvetési kiadások | C29: =SUM(C21:C28) -> 3329982 | D29: =SUM(D21:D28) -> 3671953 | E29: =SUM(E21:E28) -> 3671953 | F29: =SUM(F21:F28) -> 3671953 | G29: =F29/E29 -> 1
A30: 3027 | B30: EU-s és önkormányzati választás
B31: Személyi juttatások | C31: 42670 | D31: =42670+19288 -> 61958 | E31: =42670+19288 -> 61958 | F31: =61958+5952 -> 67910 | G31: =F31/E31 -> 1.0960651
B32: Munkaadókat terhelő jár. és szociális hozzájár.adó | C32: 6096 | D32: =6096+2924 -> 9020 | E32: =6096+2924 -> 9020 | F32: =9020+1745 -> 10765 | G32: =F32/E32 -> 1.193459
B33: Dologi kiadások és egyéb folyó kiadások | C33: 5000 | D33: =5000+6580 -> 11580 | E33: =5000+6580 -> 11580 | F33: =11580+2014 -> 13594 | G33: =F33/E33 -> 1.1739206
B34: Ellátottak pénzbeli juttatásai
B35: Egyéb működési célú kiadások
B36: Beruházások
B37: Felújítások
B38: Egyéb felhalmozási célú kiadások - Munkáltatói kölcsön
B39: Költségvetési kiadások | C39: =SUM(C31:C38) -> 53766 | D39: =SUM(D31:D38) -> 82558 | E39: =SUM(E31:E38) -> 82558 | F39: =SUM(F31:F38) -> 92269 | G39: =F39/E39 -> 1.1176264
A40: 3026 | B40: Informatikai működés és fejlesztés
B41: Személyi juttatások
...

Sheet 3c.m.
A1: 3/C. sz. melléklet
A2: Az önkormányzat költségvetésében szereplő 2024. évi kiadások
H4: (eFt-ban)
C5: 2024. évi előirányzat 3/2024. | D5: 2024. évi előirányzat 10/2024. | E5: 2024. évi előirányzat 14/2024. | F5: 2024. évi előirányzat /2024. | G5: Index 5./4. | H5: Felhasználást és beszámolást koordináló
A6: Sorsz. | B6: Kiadás megnevezése | H6: bizottság
A8: 1. | B8: 2. | C8: 3. | D8: 4. | E8: 5. | F8: 6. | G8: 7. | H8: 8.
A9: 3050 | B9: Egyéb kommunális feladatok | C9: =SUM(C17+C25+C34+C43+C52+C61) -> 198000 | D9: =SUM(D17+D25+D34+D43+D52+D61) -> 337957 | E9: =SUM(E17+E25+E34+E43+E52+E61) -> 337957 | F9: =SUM(F17+F25+F34+F43+F52+F61) -> 337957 | G9: =F9/E9 -> 1
A10: 3052 | B10: Termelői piac
B11: Személyi juttatások
B12: Munkaadókat terhelő jár. és szociális hozzájár.adó | H12: Városfejlesztési Bizottság
B13: Dologi kiadások és egyéb folyó kiadások | C13: 0 | D13: 0 | E13: 0 | F13: 0 | H13: (beszámolás)
B14: Ellátottak pénzbeli juttatásai
B15: Egyéb működési célú kiadások
B16: Felhalmozási költségvetési kiadások
B17: Költségvetési kiadások | C17: =SUM(C11:C16) -> 0 | D17: =SUM(D11:D16) -> 0 | E17: =SUM(E11:E16) -> 0 | F17: =SUM(F11:F16) -> 0
A18: 3054 | B18: Közterületi növényvédelem
B19: Személyi juttatások
B20: Munkaadókat terhelő jár. és szociális hozzájár.adó | H20: Városfejlesztési Bizottság
B21: Dologi kiadások és egyéb folyó kiadások | C21: 15000 | D21: =15000+1722 -> 16722 | E21: =15000+1722 -> 16722 | F21: =15000+1722 -> 16722 | G21: =F21/E21 -> 1 | H21: (beszámolás)
B22: Ellátottak pénzbeli juttatásai
B23: Egyéb működési célú kiadások
B24: Felhalmozási költségvetési kiadások
B25: Költségvetési kiadások | C25: =SUM(C21:C24) -> 15000 | D25: =SUM(D21:D24) -> 16722 | E25: =SUM(E21:E24) -> 16722 | F25: =SUM(F21:F24) -> 16722 | G25: =F25/E25 -> 1
A26: 3056 | B26: Közterületüzemeltetési egyéb feladatok
B27: Személyi juttatások | H27: Városfejlesztési Bizottság
B28: Munkaadókat terhelő jár. és szociális hozzájár.adó
B29: Dologi kiadások és egyéb folyó kiadások | C29: 5000 | D29: =5000+698+5000 -> 10698 | E29: =5000+698+5000 -> 10698 | F29: =10698-241 -> 10457 | G29: =F29/E29 -> 0.97747242
B30: Ellátottak pénzbeli juttatásai
B31: Egyéb működési célú kiadások
B32: Felújítási kiadások
B33: Beruházások | F33: 241
B34: Költségvetési kiadások | C34: =SUM(C29:C33) -> 5000 | D34: =SUM(D29:D33) -> 10698 | E34: =SUM(E29:E33) -> 10698 | F34: =SUM(F29:F33) -> 10698 | G34: =F34/E34 -> 1
A35: 3057 | B35: Fasorfenntartás
B36: Személyi juttatások | H36: Városfejlesztési Bizottság
B37: Munkaadókat terhelő jár. és szociális hozzájár.adó
B38: Dologi kiadások és egyéb folyó kiadások | C38: 116000 | D38: =116000+100800 -> 216800 | E38: =116000+100800 -> 216800 | F38: =116000+100800 -> 216800 | G38: =F38/E38 -> 1
B39: Ellátottak pénzbeli juttatásai
B40: Egyéb működési célú kiadások
B41: Felújítási kiadások
B42: Beruházások
...

Sheet 3d.m.
A2: 3/D. sz. melléklet
A3: Az önkormányzat költségvetésében szereplő támogatások 2024. évi kiadásai
H4: (eFt-ban)
C5: 2024. évi előirányzat 3/2024. | D5: 2024. évi előirányzat 10/2024. | E5: 2024. évi előirányzat 14/2024. | F5: 2024. évi előirányzat /2024. | G5: Index 5./4. | H5: Felhasználást és beszámolást koordináló
A6: Sorsz. | B6: Feladat megnevezése | H6: bizottság
A8: 1. | B8: 2. | C8: 3. | D8: 4. | E8: 5. | F8: 6. | G8: 7. | H8: 8.
B9: Egyéb általános szolgáltatások
A10: 3911 | B10: Társasházak támogatása | C10: 2293 | D10: =2293+615 -> 2908 | E10: =2908+17227 -> 20135 | F10: =2908+17227 -> 20135 | G10: =F10/E10 -> 1
A11: 3910 | B11: Összesen | C11: =SUM(C10:C10) -> 2293 | D11: =SUM(D10:D10) -> 2908 | E11: =SUM(E10:E10) -> 20135 | F11: =SUM(F10:F10) -> 20135 | G11: =F11/E11 -> 1
B12: Közrend és közbiztonság, közösségi szolgáltatások
A13: 3923 | B13: Polgárőr Egyesület támogatása | C13: 3000 | D13: =3000+2000 -> 5000 | E13: =3000+2000 -> 5000 | F13: =3000+2000 -> 5000 | G13: =F13/E13 -> 1
A14: 3924 | B14: IX. kerületi Rendőrkapitányság támogatása | C14: 9000 | D14: 9000 | E14: 9000 | F14: 9000 | G14: =F14/E14 -> 1
A15: 3925 | B15: FEV IX. Zrt. támogatása | C15: 179600 | D15: 179600 | E15: 179600 | F15: 179600 | G15: =F15/E15 -> 1 | H15: Városfejlesztési Bizottság,Gazdasági Bizottság (beszámolás)
A16: 3926 | B16: Tűzoltóság támogtása | C16: 2000 | D16: =2000+1700 -> 3700 | E16: =2000+1700 -> 3700 | F16: =2000+1700 -> 3700 | G16: =F16/E16 -> 1
A17: 3927 | B17: Faültetés támogatása | C17: 3000 | D17: 3000 | E17: 3000 | F17: =3000+2000 -> 5000 | G17: =F17/E17 -> 1.6666667 | H17: Városfejlesztési Bizottság
A18: 3928 | B18: Társasház felújítási pályázat | C18: =SUM(C22+C19) -> 221000 | D18: =SUM(D22+D19) -> 421765 | E18: =SUM(E22+E19) -> 421765 | F18: =SUM(F22+F19) -> 421765 | G18: =F18/E18 -> 1 | H18: Városfejlesztési Bizottság
B19: ebből:társasházak lépcsőházi kamerák támogatása | C19: =SUM(C20:C21) -> 21000 | D19: =SUM(D20:D21) -> 23065 | E19: =SUM(E20:E21) -> 23065 | F19: =SUM(F20:F21) -> 22565 | G19: =F19/E19 -> 0.97832213
B20: Dologi kiadások | C20: 12500 | D20: =12500+2065 -> 14565 | E20: =12500+2065 -> 14565 | F20: =12500+2065 -> 14565 | G20: =F20/E20 -> 1
B21: Beruházási kiadások | C21: 8500 | D21: 8500 | E21: 8500 | F21: =8500-500 -> 8000 | G21: =F21/E21 -> 0.94117647
B22: Egyéb felhalmozási célú kiadások | C22: 200000 | D22: =200000+198700 -> 398700 | E22: =200000+198700 -> 398700 | F22: =398700+500 -> 399200 | G22: =F22/E22 -> 1.0012541
A23: 3920 | B23: Összesen | C23: =C13+C14+C15+C16+C17+C18 -> 417600 | D23: =D13+D14+D15+D16+D17+D18 -> 622065 | E23: =E13+E14+E15+E16+E17+E18 -> 622065 | F23: =F13+F14+F15+F16+F17+F18 -> 624065 | G23: =F23/E23 -> 1.0032151
B24: Oktatás
A25: 3931 | B25: Bursa Hungarica | C25: 2000 | D25: 2000 | E25: 2000 | F25: 2000 | G25: =F25/E25 -> 1 | H25: Kulturális Bizottság (beszámolás)
A26: 3932 | B26: Deák Alapítvány | C26: 15000 | D26: 15000 | E26: 15000 | F26: 15000 | G26: =F26/E26 -> 1 | H26: Kulturális Bizottság (beszámolás)
A27: 3934 | B27: Tanoda támogatás | C27: 0 | D27: 0 | E27: 0 | F27: 0 | G27: =F27/E27 -> #DIV/0!
A28: 3935 | B28: GAPS Alapítvány | C28: 12154 | D28: 12154 | E28: 12154 | F28: 12154 | G28: =F28/E28 -> 1
A29: 3930 | B29: Összesen | C29: =SUM(C25:C28) -> 29154 | D29: =SUM(D25:D28) -> 29154 | E29: =SUM(E25:E28) -> 29154 | F29: =SUM(F25:F28) -> 29154 | G29: =F29/E29 -> 1
B30: Egészszégügy, szociális védelem
A31: 3941 | B31: FESZOFE kiemelkedően közhasznú Non-profit Kft működési tám. | C31: 943000 | D31: 943000 | E31: 943000 | F31: =943000+30000 -> 973000 | G31: =F31/E31 -> 1.0318134 | H31: Városfejl. Biz., Szoc. és Eügyi Biz., Gazdasági Biz. (beszámolás)
A32: 3943 | B32: Akadálymentesítési támogatás | H32: Szociális és egészségügyi Bizottság
B33: Személyi juttatás
B34: Munkaadókat terhelő járulékok
B35: Egyéb felhalmozási célú kiadások
A36: 3944 | B36: Orvosi rendelők energ. költs. Támogatása | G36: =F36/E36 -> #DIV/0!
A37: 3940 | B37: Összesen: | C37: =SUM(C31:C32)+C36 -> 943000 | D37: =SUM(D31:D32)+D36 -> 943000 | E37: =SUM(E31:E32)+E36 -> 943000 | F37: =SUM(F31:F32)+F36 -> 973000 | G37: =F37/E37 -> 1.0318134
B38: Szabadidő, sport, kultúra, vallás
A39: 3961 | B39: Zeneművészeti szervezetek támogatása | D39: 313826 | E39: 313826 | F39: 313826 | G39: =F39/E39 -> 1
A40: 3972 | B40: Kulturális tevékenység, egyházi és civil szerv.támog támogatása | C40: 45000 | D40: =45000+1475 -> 46475 | E40: =E41+E42+E43 -> 46475 | F40: =F41+F42+F43 -> 46475 | G40: =F40/E40 -> 1 | H40: Kulturális Bizottság, Szociális és Egészségügyi Bizottság
B41: Dologi kiadások | E41: 50 | F41: 50 | G41: =F41/E41 -> 1
B42: Egyéb működési célú kiadások | E42: =46475-550 -> 45925 | F42: =46475-550 -> 45925 | G42: =F42/E42 -> 1
...

Sheet 4.mell.
A1: 4. sz. melléklet
A2: 2024. évi felújítások (felújítási kiadások, egyéb felhalmozási célú kiadások és egyéb felújítási munkákhoz kapcsolódó kiadások)
H3: (eFt-ban)
C4: 2024. évi előirányzat 3/2024. | D4: 2024. évi előirányzat 10/2024. | E4: 2024. évi előirányzat 14/2024. | F4: 2024. évi előirányzat /2024. | G4: Index 6./5.
A5: Sorsz. | B5: Feladat megnevezése | H5: Felhasználást beszámolást koordináló
H6: bizottság
A7: 1. | B7: 2. | C7: 3. | D7: 4. | E7: 5. | F7: 6. | G7: 7. | H7: 8.
B8: I. Önkormányzati felújítások
B9: Egyéb kommunális feladatok
A10: 4010 | B10: Ifjúmunkás utca 28-30 Sportpályák felújítása | D10: 0 | E10: 0 | F10: 0
A11: 4012 | B11: Haller park felújítás | C11: =250000-200000 -> 50000 | D11: =50000+6947 -> 56947 | E11: =50000+6947 -> 56947 | F11: =F12+F13 -> 56947 | G11: =F11/E11 -> 1 | H11: Városfejlesztési Bizottság (beszámolás)
B12: Dologi kiadások | F12: 100
B13: Felújítási kiadások | F13: 56847
A14: 4013 | B14: Valéria tér felújítása | D14: =D15 -> 283 | E14: =E15 -> 283 | F14: =F15 -> 283 | G14: =F14/E14 -> 1
B15: Dologi kiadások | D15: 283 | E15: 283 | F15: 283 | G15: =F15/E15 -> 1
A16: 4014 | B16: Játszóterek, műfüves és sportpályák, fitness eszközök, zöldf. felúj., | C16: 124267 | D16: =124267+96539 -> 220806 | E16: =124267+96539 -> 220806 | F16: =124267+96539 -> 220806 | G16: =F16/E16 -> 1 | H16: Városfejlesztési Bizottság, József A. Városrészi Önk.
A17: 4015 | B17: Ifjúmunkás u. útburkolat felújítása | C17: 139501 | D17: 139501 | E17: 139501 | F17: 139501 | G17: =F17/E17 -> 1
A18: 4016 | B18: Thaly passzázs közvilágítás | C18: 10000 | D18: 10000 | E18: 10000 | F18: 10000 | G18: =F18/E18 -> 1
A19: 4018 | B19: Utak felújítása, javítása | C19: 117169 | D19: =117169+120000+30000 -> 267169 | E19: =117169+120000+30000 -> 267169 | F19: =117169+120000+30000 -> 267169 | G19: =F19/E19 -> 1
A20: 4019 | B20: Járdák felújítása | C20: =60000+60000 -> 120000 | D20: 120000 | E20: 120000 | F20: 120000 | G20: =F20/E20 -> 1
A21: 4020 | B21: "Törd a betont" | C21: 59988 | D21: =59988+2000 -> 61988 | E21: =E22+E23+E24 -> 61988 | F21: =F22+F23+F24 -> 61988 | G21: =F21/E21 -> 1
B22: Dologi kiadások | E22: 900 | F22: 900 | G22: =F22/E22 -> 1
B23: Beruházások | D23: 2000 | E23: 2000 | F23: =2000+140 -> 2140 | G23: =F23/E23 -> 1.07
B24: Felújítási kiadások | D24: 59988 | E24: =59988-900 -> 59088 | F24: =59088-140 -> 58948 | G24: =F24/E24 -> 0.99763065
A25: 4021 | B25: Egyéb közterületek felújítása, fejlesztése | C25: =25000+25000+13602+30000-50000 -> 43602 | D25: =D27+D28 -> 110842 | E25: =E27+E28 -> 110842 | F25: =F26+F27+F28 -> 110842 | G25: =F25/E25 -> 1
B26: Dologi kiadások | F26: 300
B27: Beruházások | D27: 9376 | E27: 9376 | F27: 9376 | G27: =F27/E27 -> 1
B28: Felújítási kiadások | D28: =43602+7864+50000 -> 101466 | E28: =43602+7864+50000 -> 101466 | F28: =101466-300 -> 101166 | G28: =F28/E28 -> 0.99704334
A29: 4022 | B29: Kutyafuttatók felújítása | C29: =30000+30000 -> 60000 | D29: =30000+30000 -> 60000 | E29: =30000+30000 -> 60000 | F29: =30000+30000 -> 60000 | G29: =F29/E29 -> 1
A30: 4010 | B30: Egyéb kommunális feladatok összesen | C30: =SUM(C11:C29) -> 724527 | D30: =D10+D11+D14+D16+D17+D18+D19+D20+D21+D25+D29 -> 1047536 | E30: =E10+E11+E14+E16+E17+E18+E19+E20+E21+E25+E29 -> 1047536 | F30: =F10+F11+F14+F16+F17+F18+F19+F20+F21+F25+F29 -> 1047536 | G30: =F30/E30 -> 1
B31: Önkormányzati vagyonnal való gazdálkodás - Ingatlanügyek
A32: 4111 | B32: Soroksári út 84- Koppány utca 3. Épületbontás
A33: 4114 | B33: Önkormányzati lakóházak tetőfelújítás | C33: 33002 | D33: 33002 | E33: 33002 | F33: 33002 | G33: =F33/E33 -> 1
A34: 4121 | B34: Felújításokkal kapcsolatos tervezések , MÁV csatorna tervezés | C34: =60000+61563-10000-20000 -> 91563 | D34: =D35+D36+D37 -> 152279 | E34: =E35+E36+E37 -> 152279 | F34: =F35+F36+F37 -> 152279 | G34: =F34/E34 -> 1 | H34: Városfejlesztési Bizottság, József A. Városrészi Önk.
B35: Dologi kiadások | D35: 6397 | E35: =6397+2100 -> 8497 | F35: =6397+2100 -> 8497 | G35: =F35/E35 -> 1
B36: Beruházások | D36: 4319 | E36: =4319+32000 -> 36319 | F36: =4319+32000 -> 36319 | G36: =F36/E36 -> 1
B37: Felújítási kiadások | D37: =91563+50000 -> 141563 | E37: =141563-34100 -> 107463 | F37: =141563-34100 -> 107463 | G37: =F37/E37 -> 1
A38: 4122 | B38: Balázs Béla utca 27/B, felújítás-tervezés | C38: 0 | D38: 1371 | E38: 1371 | F38: 1371 | G38: =F38/E38 -> 1
A39: 4123 | B39: Közbeszerzési beszerzésekhez kapcsolódó többletkiadások | C39: 0 | D39: 0 | E39: 0 | F39: 0
A40: 4124 | B40: Önkormányzati lakások komfortosítása | C40: 0 | D40: 5214 | E40: 5214 | F40: 5214 | G40: =F40/E40 -> 1
...

Sheet 5.mell. 
A1: 5. sz. melléklet
A2: 2024. évi beruházási, fejlesztési kiadások
H4: (eFt-ban)
C5: 2024. évi előirányzat 3/2024. | D5: 2024. évi előirányzat 10/2024. | E5: 2024. évi előirányzat 14/2024. | F5: 2024. évi előirányzat /2024. | G5: Index 6./5. | H5: Felhasználást és beszámolást koordináló
A6: Sorsz. | B6: Feladat megnevezése | H6: bizottság
A8: 1. | B8: 2. | C8: 3. | D8: 4. | E8: 5. | F8: 6. | G8: 7. | H8: 8.
B9: I. Önkormányzati beruházások összesen
B10: Egyéb kommunális feladatok
A11: 5002 | B11: Ifjúmunkás utca 32. Fitnesz park | D11: 45694 | E11: 45694 | F11: 45694 | G11: =F11/E11 -> 1
A12: 5003 | B12: MÁV lakótelep parkoló | C12: 45000 | D12: 45000 | E12: 45000 | F12: 45000 | G12: =F12/E12 -> 1
A13: 5004 | B13: MÁV csatornázás | D13: 50000 | E13: 50000 | F13: 50000 | G13: =F13/E13 -> 1
A14: 5005 | B14: Közlekedésbiztonsági fejlesztés | C14: 30000 | D14: =30000+30000 -> 60000 | E14: =30000+30000 -> 60000 | F14: =30000+30000 -> 60000 | G14: =F14/E14 -> 1
A15: 5006 | B15: Napfény u. - Gyáli sarok fásítás | C15: 10000 | D15: 10000 | E15: =E16+E17 -> 10000 | F15: =F16+F17 -> 10000 | G15: =F15/E15 -> 1
B16: Beruházások | E16: =10000-10000 -> 0 | F16: =10000-10000 -> 0
B17: Egyéb felhalmozási célú kiadások | E17: 10000 | F17: 10000 | G17: =F17/E17 -> 1
A18: 5008 | B18: Tinódi parkba illemhelyiség | C18: 35560 | D18: 35560 | E18: 35560 | F18: 35560 | G18: =F18/E18 -> 1
A19: 5009 | B19: Boráros téri lift tervezése | C19: 20000 | D19: 20000 | E19: 20000 | F19: 20000 | G19: =F19/E19 -> 1
A20: 5010 | B20: Elektromos rásegítésű teherszállító kerékpár
A21: 5011 | B21: Haller parkba illemhelyiség építése | C21: =59747+20000 -> 79747 | D21: =59747+20000 -> 79747 | E21: =79747-11971 -> 67776 | F21: =79747-11971 -> 67776 | G21: =F21/E21 -> 1
A22: 5012 | B22: Belső-Ferencváros akadálymentesítés | C22: 199000 | D22: 199000 | E22: 199000 | F22: 199000 | G22: =F22/E22 -> 1
A23: 5013 | B23: Zöldfelületi kataszter, fakataszter elkészítése | D23: =D24 -> 5939 | E23: =E24 -> 8058 | F23: =F24 -> 8058 | G23: =F23/E23 -> 1 | H23: Városfejlesztési Biz., József A. Városrészi Önk. (beszámolás)
B24: Dologi kiadások | D24: 5939 | E24: =5939+2119 -> 8058 | F24: =5939+2119 -> 8058 | G24: =F24/E24 -> 1
A25: 5014 | B25: Faültetés | C25: =10000+10000+20000 -> 40000 | D25: =10000+10000+20000 -> 40000 | E25: =10000+10000+20000 -> 40000 | F25: =10000+10000+20000 -> 40000 | G25: =F25/E25 -> 1 | H25: Városfejlesztési Biz., József A. Városrészi Önk.
A26: 5015 | B26: Kerékpáros infr. tervezés, kiépítés, fejlesztés, okosbicikli tárolók | C26: 15000 | D26: =15000+124 -> 15124 | E26: =E27+E28 -> 15124 | F26: =F27+F28 -> 15124 | G26: =F26/E26 -> 1 | H26: Városfejlesztési Biz., József A. Városrészi Önk.
B27: Dologi kiadások | E27: 410 | F27: 410 | G27: =F27/E27 -> 1
B28: Beruházások | E28: =15124-410 -> 14714 | F28: =15124-410 -> 14714 | G28: =F28/E28 -> 1
A29: 5016 | B29: Közterületi takarítógépek beszerzése | H29: Városfejlesztési Bizottság
A30: 5018 | B30: Boráros téri lámpás zebra
A31: 5019 | B31: Pöttyös utcai metró felszíni rendezés | C31: 364178 | D31: 364178 | E31: 364178 | F31: 364178 | G31: =F31/E31 -> 1
B32: Dologi kiadások | F32: 300
B33: Beruházások | F33: 363878
A34: 5010 | B34: Összesen: | C34: =SUM(C12:C31) -> 838485 | D34: =D11+D12+D13+D14+D15+D18+D19+D21+D22+D23+D25+D26+D31 -> 970242 | E34: =E11+E12+E13+E14+E15+E18+E19+E21+E22+E23+E25+E26+E31 -> 960390 | F34: =F11+F12+F13+F14+F15+F18+F19+F21+F22+F23+F25+F26+F31 -> 960390 | G34: =F34/E34 -> 1
B35: Önkormányzati vagyonnal való gazdálkodás
A36: 5020 | B36: Köztéri nyilvános illemhelyek kialakítása
A37: 5022 | B37: Epreserdő utcában parkolóhelyek kialakítása | C37: 0 | D37: 0 | E37: 0 | F37: 0
A38: 5023 | B38: Ecseri úti metró megálló felszíni rendezése | C38: 1094589 | D38: 1094589 | E38: =E39+E40 -> 1094589 | F38: =F39+F40 -> 1151312 | G38: =F38/E38 -> 1.0518213
B39: Dologi kiadások | E39: 16002 | F39: 16002 | G39: =F39/E39 -> 1
B40: Beruházások | E40: =1094589-16002 -> 1078587 | F40: =1094589-16002+56723 -> 1135310 | G40: =F40/E40 -> 1.0525901
A41: 5024 | B41: Munkásszálló kialakítása | D41: =D42 -> 4660 | E41: =E42 -> 4660 | F41: =F42 -> 4660 | G41: =F41/E41 -> 1
B42: Dologi kiadások | D42: 4660 | E42: 4660 | F42: 4660 | G42: =F42/E42 -> 1
...

Sheet 6.mell. 
A1: 6.sz. melléklet
A3: Az önkormányzat költségvetésében szereplő 2024. évi tartalékok
F6: eFt
A7: Sorsz. | B7: Megnevezés | C7: 2024. évi előirányzat 3/2024. | D7: 2024. évi előirányzat 10/2024. | E7: 2024. évi előirányzat 14/2024. | F7: 2024. évi előirányzat /2024.
A10: 1. | B10: 2. | C10: 3. | D10: 4. | E10: 4. | F10: 5.
A12: 6110 | B12: Általános tartalék - egyéb működési célú kiadás | C12: 16404 | D12: =16404+325700+2972593-3264697 -> 50000 | E12: =50000+48036-5000-49016-2000 -> 42020 | F12: =42020+14873+59330-9500-56723 -> 50000
A14: 6120 | B14: Céltartalék - egyéb működés célú kiadás | C14: =SUM(C16+C20) -> 27583 | D14: =SUM(D16+D20) -> 76173 | E14: =SUM(E16+E20) -> 56173 | F14: =SUM(F16+F20) -> 56173
B16: ebből: Működési célú céltartalék | C16: =SUM(C17) -> 0 | D16: =SUM(D17) -> 0 | E16: =SUM(E17) -> 0 | F16: =SUM(F17) -> 0
A17: 6125 | B17: Bérfejlesztés 2024
B20: ebből: Felhalmozási célú céltartalék | C20: =SUM(C21:C25) -> 27583 | D20: =SUM(D21:D25) -> 76173 | E20: =SUM(E21:E25) -> 56173 | F20: =SUM(F21:F25) -> 56173
A21: 6135 | B21: Parkoló Alap | C21: 27583 | D21: 27583 | E21: =27583-20000 -> 7583 | F21: 7583
A22: 6137 | B22: FIÜK beruházási feladatokra céltartalék
A23: 6141 | B23: AVICO Riverbay telekátlkítási megállapodás | C23: 0 | D23: 48590 | E23: 48590 | F23: 48590
A24: 6142 | B24: Fejlesztési céltartalék
A26: 6100 | B26: Mindösszesen | C26: =SUM(C16+C20+C12) -> 43987 | D26: =SUM(D16+D20+D12) -> 126173 | E26: =SUM(E16+E20+E12) -> 98193 | F26: =SUM(F16+F20+F12) -> 106173

Sheet 7.mell
B2: 7. sz. melléklet
B4: Többéves kihatással járó kötelezettségek
B6: Fejlesztési célú hitelállomány kimutatása
E7: eFt
B8: Év | C8: Tőke/ kamat | D8: 19383 UniCredit Bank | E8: Összesen
B11: 2024. | C11: Tőketörl. | D11: 12000 | E11: =SUM(D11) -> 12000
C12: Kamat | D12: 292 | E12: 292
B14: További kötelezettségek | H14: eFt
B16: Megnevezés | D16: 2024 | E16: 2025 | F16: 2026 | G16: 2027 | H16: 2028
B17: WIFI4EU | D17: 113 | E17: 120 | F17: 120
B18: WIFI4EU AP-k üzemeltetése | D18: 1006 | E18: 1006 | F18: 1006
B19: SMS rendszer | D19: 280 | E19: 280 | F19: 280
B20: Magyar telekom internet előfiz. | D20: 317 | E20: 317
B21: Multifunkcionális nyomtatók üzemelt. | D21: 4550
B22: Computrend Kft. | E22: 22000 | F22: 22000
B23: Tanúsított irat-és dokumentumkezelő licencbérlet | E23: 33000
B24: Informatikai rendszer támogatása | D24: 9000 | E24: 9000
B25: Digitális földtani alaptérkép | D25: 212 | E25: 212
B26: Digitális közműtérkép | D26: 1500 | E26: 1800
B27: IP telefon szolg.díja | D27: 4000 | E27: 4000
B28: Asztali nyomtatók üzemelt. | D28: 3000 | E28: 7380
B29: KAPU térinformatika | D29: 4445 | E29: 4100
B30: Adatvédelmi tistv. GDPR | D30: 2743 | E30: 2743
B31: IT- Informatika Biztonság | D31: 2134 | E31: 2134
B32: Ásványvíz beszerzés | D32: 5100 | E32: 2300
B33: Mobil flotta beszerzés | D33: 7500 | E33: 7500
B34: Tisztítószer beszerzés | D34: 7300 | E34: 5200
B35: Hivatali szállítás (taxi) | D35: 2000 | E35: 2000
... B43: Térfelügyeleit kamararendszer kameráinak karbantartása (156 db +7 db) | D43: 11085 | E43: 4565
B44: Balázs Béla u. 27. épületfelújítás | D44: 931974
B45: Praktiker | D45: 3700 | E45: 1300
B46: Hivatali parkolás bérlés | D46: 14000 | E46: 14000
B47: Épület és vagyon biztosítás | D47: 11000 | E47: 11000
B48: Könyvvizsgálati díj | D48: 4445 | E48: 7620 | F48: 7620
B49: ÁFA szakértői díj | D49: 3800 | E49: 2800
B50: Semmelweis Egyetem bérl.díj Közter-f. | D50: 694 | E50: 694 | F50: 694
B51: Moravcsik Alapítvány | D51: 5760 | E51: 5760
B52: Ferencvárosi Kosárlabda Egyesület | D52: 2500 | E52: 2500
B53: Ferencvárosi Torna Club | D53: 7000 | E53: 7000
B54: FTC Vizilabda Utánpótlás | D54: 3000 | E54: 3000
...

Sheet 8.mell. 
A1: 8. sz. melléklet
A3: Az Európai Unió-s forrásokkal támogatott fejlesztések tervezett 2024. évi adatairól
A7: Sorsz. | B7: Megnevezés | D7: Tervezett költségvetési adatok | I7: 2024. évi előirányzat 3/2024. | J7: 2024. évi előirányzat 10/2024. | K7: 2024. évi előirányzat 14/2024. | L7: 2024. évi előirányzat /2024.
A9: 1. | B9: VEKOP-7 3 4-17-2017-00011 | D9: Bevétel | E9: Támogatás államháztartáson belülről -működési | K9: 750 | L9: 750
E10: Támogatás államháztartáson belülről -felhalmozási
D11: Kiadások | E11: Személyi juttatások | J11: ='3c.m.'!D399 -> 76 | K11: ='3c.m.'!E399 -> 76 | L11: ='3c.m.'!F399 -> 76
E12: Munkaadókat terhelő járulékok és szocho. | J12: ='3c.m.'!D400 -> 11 | K12: ='3c.m.'!E400 -> 11 | L12: ='3c.m.'!F400 -> 11
E13: Dologi kiadások | J13: ='3c.m.'!D401 -> 100 | K13: ='3c.m.'!E401 -> 100 | L13: ='3c.m.'!F401 -> 100
E14: Egyéb működési célú kiadások
E15: Beruházási kiadások
E16: Felújítási kiadások
E17: ebből önkormányzati hozzájárulás
A18: 2. | B18: EUCF | D18: Bevétel | E18: Támogatás államháztartáson kívülről -működési | I18: ='1b.mell '!C76 -> 0 | J18: ='1b.mell '!D76 -> 0 | K18: 22306 | L18: 22306
E19: Támogatás államháztartáson kívülről -felhalmozási
D20: Kiadások | E20: Személyi juttatások
E21: Munkaadókat terhelő járulékok és szocho.
E22: Dologi kiadások | J22: ='3c.m.'!D419 -> 18605 | K22: ='3c.m.'!E419 -> 18605 | L22: ='3c.m.'!F419 -> 18605
E23: Egyéb működési célú kiadások
E24: Beruházási kiadások
E25: Felújítási kiadások
E26: ebből önkormányzati hozzájárulás
A27: 3. | B27: NEXT LEVEL Parking | D27: Bevétel | E27: Támogatás államháztartáson kívülről -működési | K27: 17820 | L27: 17820
E28: Támogatás államháztartáson kívülről -felhalmozási
D29: Kiadások | E29: Személyi juttatások | K29: 15700 | L29: ='3c.m.'!F426 -> 13045
E30: Munkaadókat terhelő járulékok és szocho. | J30: ='3c.m.'!D427 -> 12 | K30: ='3c.m.'!E427 -> 2052 | L30: ='3c.m.'!F427 -> 1707
E31: Dologi kiadások | J31: ='3c.m.'!D428 -> 280 | K31: ='3c.m.'!E428 -> 360 | L31: ='3c.m.'!F428 -> 3360
E32: Egyéb működési célú kiadások
E33: Beruházási kiadások
E34: Felújítási kiadások
E35: ebből önkormányzati hozzájárulás
A36: Összesen | D36: Bevétel | E36: Támogatás államháztartáson belülről -működési | I36: 0 | J36: 0 | K36: =K9 -> 750 | L36: =L9 -> 750
E37: Támogatás államháztartáson belülről -felhalmozási
E38: Támogatás államháztartáson kívülről -működési | K38: =K18+K27 -> 40126 | L38: =L18+L27 -> 40126
E39: Támogatás államháztartáson kívülről -felhalmozási
D40: Kiadások | E40: Személyi juttatások | I40: =I20 -> 0 | J40: =J11+J20+J29 -> 76 | K40: =K11+K20+K29 -> 15776 | L40: =L11+L20+L29 -> 13121
E41: Munkaadókat terhelő járulékok és szocho. | I41: =I21 -> 0 | J41: =J12+J21+J30 -> 23 | K41: =K12+K21+K30 -> 2063 | L41: =L12+L21+L30 -> 1718
E42: Dologi kiadások | I42: =I22 -> 0 | J42: =J13+J22+J31 -> 18985 | K42: =K13+K22+K31 -> 19065 | L42: =L13+L22+L31 -> 22065
E43: Egyéb működési célú kiadások | I43: =I23 -> 0 | J43: =J14+J23+J32 -> 0 | K43: =K14+K23+K32 -> 0 | L43: =L14+L23+L32 -> 0
E44: Ellátottak pénzbeli juttatásai | I44: =I24 -> 0 | J44: =J15+J24+J33 -> 0 | K44: =K15+K24+K33 -> 0 | L44: =L15+L24+L33 -> 0
E45: Felújítási kiadások | I45: =I25 -> 0 | J45: =J16+J25+J34 -> 0 | K45: =K16+K25+K34 -> 0 | L45: =L16+L25+L34 -> 0
...

Sheet 9.mell. 
B2: 9. számú melléklet
B4: 2024. évi Polgármesteri Hivatal és Intézményi engedélyezett létszámadatok
A8: Ssz. | B8: Intézmény megnevezése (Polgármesteri Hivatalnál Irodánként) | E8: Engedélye-zett létszám összesen 2024. év /2024. | F8: Engedélyezett létszám
F9: Szakmai létszám | H9: Egyéb létszám | J9: Közfoglalkoz-tatottak létszáma
F10: Teljes munkaidős | G10: Részmun-kaidős | H10: Teljes munkaidős | I10: Részmun-kaidős
B12: Polgármesteri Hivatal összesen
A14: 1. | B14: Adóiroda | E14: =SUM(F14+G14+H14+I14) -> 17 | F14: 12 | G14: 3 | H14: 1 | I14: 1
A16: 2. | B16: Belső ellenőrzési csoport | E16: =SUM(F16+G16+H16+I16) -> 3 | F16: 3
A18: 3. | B18: Főépítészi és Városrendezési csoport | E18: =SUM(F18+G18+H18+I18) -> 4 | F18: 4
A20: 4. | B20: Hatósági Iroda | E20: =SUM(F20+G20+H20+I20) -> 17 | F20: 16 | G20: 1
A22: 5. | B22: Humánszolgáltatási Iroda | E22: =SUM(F22+G22+H22+I22) -> 31 | F22: 29 | H22: 2
A24: 6. | B24: Közszolgáltatási Iroda | E24: =SUM(F24+G24+H24+I24) -> 23 | F24: 18 | H24: 5
A26: 7. | B26: Jegyzői kabinet | E26: =SUM(F26+G26+H26+I26) -> 35 | F26: 35
A28: 8. | B28: Pénzügyi Iroda | E28: =SUM(F28+G28+H28+I28) -> 25 | F28: 25
A30: 9. | B30: Polgármesteri Kabinet (ebből 1 fő Polgármester, 2 fő Alpolgármester az Önkormányzat létszámába tartozik) | E30: =SUM(F30+G30+H30+I30) -> 15 | F30: 15
A32: 11. | B32: Üzemeltetési Iroda | E32: =SUM(F32+G32+H32+I32) -> 36 | F32: 24 | H32: 12
A34: 12. | B34: Vagyonkezelési Iroda | E34: =SUM(F34+G34+H34+I34) -> 20 | F34: 19 | H34: 1
A36: 13. | B36: Városüzemeltetési Iroda | E36: =SUM(F36+G36+H36+I36) -> 18 | F36: 17 | H36: 1
A38: 14. | B38: Közterület-felügyeleti Iroda | E38: =SUM(F38+G38+H38+I38) -> 55 | F38: 41 | H38: 14
B40: Mindösszesen | E40: =SUM(E14:E39) -> 299 | F40: =SUM(F14:F39) -> 258 | G40: =SUM(G14:G39) -> 4 | H40: =SUM(H14:H39) -> 36 | I40: =SUM(I14:I39) -> 1
A49: 15. | B49: Csicsergő Óvoda | E49: =SUM(F49+G49+H49+I49) -> 32 | F49: 32
A51: 16. | B51: Csudafa Óvoda | E51: =SUM(F51+G51+H51+I51) -> 31 | F51: 31
A53: 17. | B53: Epres Óvoda | E53: =SUM(F53+G53+H53+I53) -> 16 | F53: 16
A55: 18. | B55: Kerekerdő Óvoda | E55: =SUM(F55+G55+H55+I55) -> 61 | F55: 61
A57: 19. | B57: Kicsi Bocs Óvoda | E57: =SUM(F57+G57+H57+I57) -> 32 | F57: 32
A59: 20. | B59: Liliom Óvoda | E59: =SUM(F59+G59+H59+I59) -> 25 | F59: 25
A61: 21. | B61: Méhecske Óvoda | E61: =SUM(F61+G61+H61+I61) -> 16 | F61: 16
A63: 22. | B63: Napfény Óvoda | E63: =SUM(F63+G63+H63+I63) -> 16 | F63: 16
A65: 23. | B65: Ugrifüles Óvoda | E65: =SUM(F65+G65+H65+I65) -> 16 | F65: 16
A67: 24. | B67: Ferencvárosi Intézmény Üzemeltetés Központ | E67: =SUM(F67+G67+H67+I67) -> 164 | F67: 164
A69: 25. | B69: Fvi Egyesített Bölcsödék | E69: =SUM(F69+G69+H69+I69) -> 115 | F69: 69 | G69: 1 | H69: 45
A71: 26. | B71: FESZGYI | E71: =SUM(F71+G71+H71+I71) -> 158 | F71: 123 | G71: =9+2 -> 11 | H71: 22 | I71: 2
A73: 27. | B73: FMK | E73: =SUM(F73+G73+H73+I73) -> 25 | F73: 25
A75: 28. | B75: Pinceszínház | E75: =SUM(F75+G75+H75+I75) -> 15 | F75: 15
A77: 29. | B77: Ferencvárosi Egészségügyi Szolgálat
B79: Összesen nevelési, szoc., kult, intézmények | E79: =SUM(E49:E76) -> 722 | F79: =SUM(F49:F76) -> 641 | G79: =SUM(G49:G74) -> 12 | H79: =SUM(H49:H74) -> 67 | I79: =SUM(I49:I74) -> 2 | J79: =SUM(J49:J74) -> 0
B81: Mindösszesen: | E81: =SUM(E79+E40) -> 1021 | F81: =SUM(F79+F40) -> 899 | G81: =SUM(G79+G40) -> 16 | H81: =SUM(H79+H40) -> 103 | I81: =SUM(I79+I40) -> 3 | J81: =SUM(J79+J40) -> 0

Sheet 10.mell 
A2: 10. sz. melléklet
A3: 2024. évi közvetett támogatások
I7: (eFt-ban)
A8: Sorsz. | B8: A támogatás jellege | F8: Adókedvezmény | H8: Egyéb kedvezmény
F9: jogcím | G9: összeg | H9: jogcím | I9: összeg
A10: 1. | B10: Építményadó | F10: elengedés | G10: 260 | H10: részletfizetés | I10: 156480
A11: 2. | B11: Telekadó | F11: elengedés | H11: részletfizetés | I11: 21435
A12: 3. | B12: Ellátottak térítési díja gyermekétkeztetés | H12: méltányosság | I12: 112
A13: 4. | B13: Ellátottak térítési díja személyes gondoskodás | H13: méltányosság | I13: 13000
A14: 5. | B14: Helyiség bérleti díj (nettó) | H14: közérdekű bérbeadás | I14: 101102

Sheet 11.mell
A3: 11. sz. melléklet
B4: A helyi önkormányzat kötelező feladatai ellátásának költségvetési forrásai és kiadásai
B5: 2024. év
N7: eFt
B8: Kötelező feladatok (Mötv. 23. § (5) bekezdés alapján) | C8: 2024. évi előirányzat /2024. | D8: Költségvetési bevételi előirányzat | E8: Önkormányzatok működési támogatása, elvonások és befizetések | F8: Közhatalmi bevételek | G8: Saját bevétel | H8: Támogatás Áht-n belülről | J8: Átvett pénzeszköz | L8: Előző évi mar. igénybev. | M8: Felhalm. Bev. | N8: Hitelfel- vétel, kölcsön visszat. , tévi megel. Visszaf.
G9: Működési bevételek | H9: Műk. Célú | I9: Felhal. Célú | J9: Műk. Célú | K9: Felhalm. Célú
A10: 1. | B10: Helyi közutak, közterek és parkok kezelése, fejlesztése és üzemeltetése | C10: =SUM(C11:C35) -> 1977675 | D10: =SUM(E10:M10) -> 1977675 | F10: 160683 | G10: 211539 | L10: =L11+L12+L13+L14+L15+L16+L17+L18+L19+L21+L22+L23+L24+L25+L26+L27+L28+L29+L30+L31+L32+L33+L34+L35+744846 -> 1605453
B11: 3054 Kerületi növényvédelem | C11: =SUM('3c.m.'!F25) -> 16722 | L11: 1722
B12: 3056 Közterületüzemeltetési egyéb feladatok | C12: =SUM('3c.m.'!F34) -> 10698 | L12: 698
B13: 3057 Fasorfenntartás | C13: =SUM('3c.m.'!F43) -> 216800 | L13: 100800
B14: 3058 Erdőgazdálkodás | C14: =SUM('3c.m.'!F52) -> 23997 | L14: 11997
B15: 3061 Köztutak üzemeltetése | C15: =SUM('3c.m.'!F70) -> 2110 | L15: 110
B16: 3071 Köztisztasági feladatok | C16: =SUM('3c.m.'!F78) -> 25017 | L16: 17
B17: 3112 Játszóterek karbantartása | C17: =SUM('3c.m.'!F105) -> 60614 | L17: 20614
B18: 3205 Környezetvédelem | C18: =SUM('3c.m.'!F279) -> 92923 | L18: 28423
B19: 3216 FESZOFE Nonprofit Kft | C19: =SUM('3c.m.'!F362) -> 369910 | L19: 51910
B20: 4010 Ifjúmunkás utca 28-30 Sportpályák felújítása | C20: ='4.mell.'!F10 -> 0
B21: 4012 Haller park | C21: =SUM('4.mell.'!F11) -> 56947 | L21: 6947
B22: 4013 Valéria tér felújítása | C22: ='4.mell.'!F14 -> 283 | L22: 283
B23: 4014 Játszóterek, műfüves és sportpályák, fitness eszközök, zöldf.felúj., | C23: =SUM('4.mell.'!F16) -> 220806 | L23: 124267
B24: 4015 Ifjúmunkás utca útburkolat felújítása | C24: ='4.mell.'!F17 -> 139501 | L24: 139501
B25: 4016 Thaly passzázs közvilágítás | C25: ='4.mell.'!F18 -> 10000
