Workbook
Name adósság: 0
Name beruh: #REF!
Name beruh: #REF!
Name beruh: #REF!
Name beruh: #REF!
Name beruh: #REF!
Name beruh: #REF!
Name beruh: #REF!
Name beruh: #REF!
Name beruh: #REF!
Name beruh: #REF!
Name beruh: #REF!
Name beruh: #REF!
Name beruh: #REF!
Name beruh: #REF!
Name beruh: #REF!
Name beruh: #REF!
Name beruh: #REF!
Name beruh: #REF!
Name beruházás: #REF!
Name beruházás: #REF!
Name beruházás: #REF!
Name beruházás: #REF!
Name beruházás: #REF!
Name beruházás: #REF!
Name beruházás: #REF!
Name beruházás: #REF!
Name beruházás: #REF!
Name beruházás: #REF!
Name beruházás: #REF!
Name beruházás: #REF!
Name beruházás: #REF!
Name beruházás: #REF!
Name beruházás: #REF!
Name beruházás: #REF!
Name beruházás: #REF!
Name beruházás: #REF!
Name cs8_sz_melleklet_Dim01: "="
Name cs8_sz_melleklet_Dim02: "="
Name cs8_sz_melleklet_Dim03: "="
Name cs8_sz_melleklet_Dim04: "="
Name cs8_sz_melleklet_Dim05: "="
Name cs8_sz_melleklet_Dim06: "="
Name cs8_sz_melleklet_Dim07: "="
Name cs8_sz_melleklet_Dim08: "="
Name cs8_sz_melleklet_Dim09: "="
Name cs8_sz_melleklet_Dim10: "="
Name cs8_sz_melleklet_Dim11: "="
Name cs8_sz_melleklet_Dim12: "="
Name cs8_sz_mellekletAnchor: #REF!
Name cs8_sz_mellekletAnchor: #REF!
Name cs8_sz_mellekletAnchor: #REF!
Name cs8_sz_mellekletAnchor: #REF!
Name cs8_sz_mellekletAnchor: #REF!
Name cs8_sz_mellekletAnchor: #REF!
Name cs8_sz_mellekletAnchor: #REF!
Name cs8_sz_mellekletAnchor: #REF!
Name cs8_sz_mellekletAnchor: #REF!
Name cs8_sz_mellekletAnchor: #REF!
Name cs8_sz_mellekletAnchor: #REF!

Sheet 1.mell.
A1: 1. melléklet
A2: Működési-felhalmozási bevételek-kiadások mérlegszerű bemutatása
N4: adatok eFt-ban
A5: Bevétel | B5: 2025. évi előirányzat 5/2025. | C5: 2025. évi előirányzat 14/2025. | D5: 2025. évi előirányzat 18/2025. | E5: 2025. évi előirányzat 22/2025. | F5: 2025. évi előirányzat 1/2026. | G5: 2025. évi I-XII. havi teljesítés /2026. | H5: Kiadások | I5: 2025. évi előirányzat 5/2025. | J5: 2025. évi előirányzat 14/2025. | K5: 2025. évi előirányzat 18/2025. | L5: 2025. évi előirányzat 22/2025. | M5: 2025. évi előirányzat 1/2026. | N5: 2025. évi I-XII. havi teljesítés /2026.
H7: Személyi juttatások | I7: =SUM('3.mell.'!C133) -> 10611654 | J7: =SUM('3.mell.'!D133) -> 10834270 | K7: =SUM('3.mell.'!E133) -> 10993760 | L7: =SUM('3.mell.'!F133) -> 11428463 | M7: =SUM('3.mell.'!G133) -> 11447013 | N7: =SUM('3.mell.'!H133) -> 11212681
A8: Önkormányzatok működési támogatásai | B8: =SUM('2.mell. '!C214) -> 4179621 | C8: =SUM('2.mell. '!D214) -> 4610231 | D8: =SUM('2.mell. '!E214) -> 4712365 | E8: =SUM('2.mell. '!F214) -> 4824674 | F8: =SUM('2.mell. '!G214) -> 4911388 | G8: =SUM('2.mell. '!H214) -> 4908920 | H8: Munkaadókat terh. járulékok és szociális hozzájárulási adó | I8: =SUM('3.mell.'!C134) -> 1387720 | J8: =SUM('3.mell.'!D134) -> 1459903 | K8: =SUM('3.mell.'!E134) -> 1480305 | L8: =SUM('3.mell.'!F134) -> 1533390 | M8: =SUM('3.mell.'!G134) -> 1551189 | N8: =SUM('3.mell.'!H134) -> 1423960
A9: Elvonások és befizetések bevételei | B9: =SUM('2.mell. '!C17) -> 0 | C9: =SUM('2.mell. '!D17) -> 0 | D9: =SUM('2.mell. '!E17) -> 0 | E9: =SUM('2.mell. '!F17) -> 0 | F9: =SUM('2.mell. '!G17) -> 0 | G9: =SUM('2.mell. '!H17) -> 0 | H9: Dologi kiadások | I9: =SUM('3.mell.'!C135) -> 8807988 | J9: =SUM('3.mell.'!D135) -> 11316679 | K9: =SUM('3.mell.'!E135) -> 11594264 | L9: =SUM('3.mell.'!F135) -> 12027313 | M9: =SUM('3.mell.'!G135) -> 12265736 | N9: =SUM('3.mell.'!H135) -> 9677548
A10: Egyéb működési célú tám.bev. Áh-n belülről | B10: =SUM('2.mell. '!C217) -> 2641465 | C10: =SUM('2.mell. '!D217) -> 2682165 | D10: =SUM('2.mell. '!E217) -> 2687165 | E10: =SUM('2.mell. '!F217) -> 2702940 | F10: =SUM('2.mell. '!G217) -> 2760273 | G10: =SUM('2.mell. '!H217) -> 2760351 | H10: Ellátottak pénzbeli juttatásai | I10: =SUM('3.mell.'!C136) -> 205345 | J10: =SUM('3.mell.'!D136) -> 263297 | K10: =SUM('3.mell.'!E136) -> 265344 | L10: =SUM('3.mell.'!F136) -> 270344 | M10: =SUM('3.mell.'!G136) -> 270344 | N10: =SUM('3.mell.'!H136) -> 212672
A11: "Egészséges Budapest Program" Integr. Alapell. Járób. szakell. Központ megv. | B11: =SUM('2.mell. '!C216) -> 0 | C11: =SUM('2.mell. '!D216) -> 0 | D11: =SUM('2.mell. '!E216) -> 0 | E11: =SUM('2.mell. '!F216) -> 0 | F11: =SUM('2.mell. '!G216) -> 0 | G11: =SUM('2.mell. '!H216) -> 0
A12: Egyéb műk. célú támog.bevételei Áh-n belülről - EU-s pály. KEHOP-1.2.1-18-2018-00006 | B12: =SUM('2.mell. '!C218) -> 0 | C12: =SUM('2.mell. '!D218) -> 0 | D12: =SUM('2.mell. '!E218) -> 0 | E12: =SUM('2.mell. '!F218) -> 0 | F12: =SUM('2.mell. '!G218) -> 0 | G12: =SUM('2.mell. '!H218) -> 0 | H12: Egyéb működési célú kiadások | I12: =SUM('3.mell.'!C137) -> 4842759 | J12: =SUM('3.mell.'!D137) -> 5319316 | K12: =SUM('3.mell.'!E137) -> 5579003 | L12: =SUM('3.mell.'!F137) -> 5151942 | M12: =SUM('3.mell.'!G137) -> 6653033 | N12: =SUM('3.mell.'!H137) -> 4662076
A13: Egyéb műk. célú támog.bevételei Áh-n belülről - VEKOP-7 3 4-17-2017-00011 | B13: =SUM('2.mell. '!C219) -> 0 | C13: =SUM('2.mell. '!D219) -> 0 | D13: =SUM('2.mell. '!E219) -> 0 | E13: =SUM('2.mell. '!F219) -> 0 | F13: =SUM('2.mell. '!G219) -> 0 | G13: =SUM('2.mell. '!H219) -> 0 | H13: ebből: Általános tartalék | I13: ='10.mell. '!C12 -> 116739 | J13: ='10.mell. '!D12 -> 196301 | K13: ='10.mell. '!E12 -> 134926 | L13: ='10.mell. '!F12 -> 100000 | M13: ='10.mell. '!G12 -> 1416582 | N13: ='10.mell. '!H12 -> 0
H14: Céltartalék 6. sz. melléklet szerint | I14: ='10.mell. '!C14 -> 500000 | J14: ='10.mell. '!D19+'10.mell. '!D16 -> 500000 | K14: ='10.mell. '!E19+'10.mell. '!E16 -> 814917 | L14: ='10.mell. '!F19+'10.mell. '!F16 -> 387362 | M14: ='10.mell. '!G19+'10.mell. '!G16 -> 532170 | N14: ='10.mell. '!H19+'10.mell. '!H16 -> 0
A15: Működési célú támogatások Államháztartáson belülről összesen | B15: =SUM(B8:B14) -> 6821086 | C15: =SUM(C8:C14) -> 7292396 | D15: =SUM(D8:D14) -> 7399530 | E15: =SUM(E8:E14) -> 7527614 | F15: =SUM(F8:F14) -> 7671661 | G15: =SUM(G8:G14) -> 7669271
A16: Vagyoni típusú adók (Helyi adó) | B16: =SUM('2.mell. '!C221) -> 7272555 | C16: =SUM('2.mell. '!D221) -> 7272555 | D16: =SUM('2.mell. '!E221) -> 7272555 | E16: =SUM('2.mell. '!F221) -> 7272555 | F16: =SUM('2.mell. '!G221) -> 7686639 | G16: =SUM('2.mell. '!H221) -> 7686639
A17: Termékek és szolgáltatások adói | B17: =SUM('2.mell. '!C222) -> 10057538 | C17: =SUM('2.mell. '!D222) -> 10057538 | D17: =SUM('2.mell. '!E222) -> 10057538 | E17: =SUM('2.mell. '!F222) -> 10057538 | F17: =SUM('2.mell. '!G222) -> 10321341 | G17: =SUM('2.mell. '!H222) -> 10418364
A18: Egyéb közhatalmi bevételek | B18: =SUM('2.mell. '!C223) -> 1078041 | C18: =SUM('2.mell. '!D223) -> 1078041 | D18: =SUM('2.mell. '!E223) -> 1078041 | E18: =SUM('2.mell. '!F223) -> 1078041 | F18: =SUM('2.mell. '!G223) -> 1377013 | G18: =SUM('2.mell. '!H223) -> 1408845
A19: Közhatalmi bevételek összesen | B19: =SUM(B16:B18) -> 18408134 | C19: =SUM(C16:C18) -> 18408134 | D19: =SUM(D16:D18) -> 18408134 | E19: =SUM(E16:E18) -> 18408134 | F19: =SUM(F16:F18) -> 19384993 | G19: =SUM(G16:G18) -> 19513848
A20: Készletértékesítés ellenértéke | B20: =SUM('2.mell. '!C225) -> 50 | C20: =SUM('2.mell. '!D225) -> 50 | D20: =SUM('2.mell. '!E225) -> 776 | E20: =SUM('2.mell. '!F225) -> 776 | F20: =SUM('2.mell. '!G225) -> 976 | G20: =SUM('2.mell. '!H225) -> 976
A21: Szolgáltatások ellenértéke | B21: =SUM('2.mell. '!C226) -> 2408369 | C21: =SUM('2.mell. '!D226) -> 2405869 | D21: =SUM('2.mell. '!E226) -> 2435569 | E21: =SUM('2.mell. '!F226) -> 2467697 | F21: =SUM('2.mell. '!G226) -> 2654887 | G21: =SUM('2.mell. '!H226) -> 2655734
A22: Közvetített szolgáltatások ellenértéke | B22: =SUM('2.mell. '!C227) -> 212884 | C22: =SUM('2.mell. '!D227) -> 212999 | D22: =SUM('2.mell. '!E227) -> 220593 | E22: =SUM('2.mell. '!F227) -> 222714 | F22: =SUM('2.mell. '!G227) -> 243765 | G22: =SUM('2.mell. '!H227) -> 243807
A23: Tulajdonosi bevétel | B23: =SUM('2.mell. '!C228) -> 0 | C23: =SUM('2.mell. '!D228) -> 0 | D23: =SUM('2.mell. '!E228) -> 0 | E23: =SUM('2.mell. '!F228) -> 0 | F23: =SUM('2.mell. '!G228) -> 0 | G23: =SUM('2.mell. '!H228) -> 0
A24: Ellátási díjak | B24: =SUM('2.mell. '!C229) -> 196051 | C24: =SUM('2.mell. '!D229) -> 198551 | D24: =SUM('2.mell. '!E229) -> 198551 | E24: =SUM('2.mell. '!F229) -> 198551 | F24: =SUM('2.mell. '!G229) -> 250749 | G24: =SUM('2.mell. '!H229) -> 249565
A25: Kiszámlázott általános forgalmi adó | B25: =SUM('2.mell. '!C230) -> 681262 | C25: =SUM('2.mell. '!D230) -> 1588381 | D25: =SUM('2.mell. '!E230) -> 1588381 | E25: =SUM('2.mell. '!F230) -> 1595229 | F25: =SUM('2.mell. '!G230) -> 1704621 | G25: =SUM('2.mell. '!H230) -> 1704902
A26: Általános forgalmi adó visszatérítése | B26: =SUM('2.mell. '!C231) -> 18000 | C26: =SUM('2.mell. '!D231) -> 18000 | D26: =SUM('2.mell. '!E231) -> 52357 | E26: =SUM('2.mell. '!F231) -> 75977 | F26: =SUM('2.mell. '!G231) -> 96890 | G26: =SUM('2.mell. '!H231) -> 96890
A27: Kamatbevételek és más nyereségjellegű bevételek | B27: =SUM('2.mell. '!C232) -> 150000 | C27: =SUM('2.mell. '!D232) -> 150000 | D27: =SUM('2.mell. '!E232) -> 150004 | E27: =SUM('2.mell. '!F232) -> 150004 | F27: =SUM('2.mell. '!G232) -> 263496 | G27: =SUM('2.mell. '!H232) -> 261685
A28: Részesedések értékesítéséhez kapcsolódó realizált nyereség
A29: Biztosító által fizetett kártérítés | B29: ='2.mell. '!C233 -> 0 | C29: ='2.mell. '!D233 -> 0 | D29: ='2.mell. '!E233 -> 296 | E29: ='2.mell. '!F233 -> 296 | F29: ='2.mell. '!G233 -> 376 | G29: ='2.mell. '!H233 -> 376
A30: Egyéb működési bevételek | B30: =SUM('2.mell. '!C234) -> 71415 | C30: =SUM('2.mell. '!D234) -> 3554115 | D30: =SUM('2.mell. '!E234) -> 3569352 | E30: =SUM('2.mell. '!F234) -> 3575450 | F30: =SUM('2.mell. '!G234) -> 3609378 | G30: =SUM('2.mell. '!H234) -> 3644841
A31: Működési bevételek összesen | B31: =SUM(B20:B30) -> 3738031 | C31: =SUM(C20:C30) -> 8127965 | D31: =SUM(D20:D30) -> 8215879 | E31: =SUM(E20:E30) -> 8286694 | F31: =SUM(F20:F30) -> 8825138 | G31: =SUM(G20:G30) -> 8858776
A32: Egyéb működési célú átvett pénzeszköz | B32: =SUM('2.mell. '!C236) -> 0 | C32: =SUM('2.mell. '!D236) -> 0 | D32: =SUM('2.mell. '!E236) -> 44249 | E32: =SUM('2.mell. '!F236) -> 47049 | F32: =SUM('2.mell. '!G236) -> 57381 | G32: =SUM('2.mell. '!H236) -> 16355
A33: Működési célú átvett pénzeszközök összesen | B33: =SUM(B32) -> 0 | C33: =SUM(C32) -> 0 | D33: =SUM(D32) -> 44249 | E33: =SUM(E32) -> 47049 | F33: =SUM(F32) -> 57381 | G33: =SUM(G32) -> 16355
A34: Működési költségvetési bevételek mindösszesen | B34: =SUM(B33,B31,B19,B15) -> 28967251 | C34: =SUM(C33,C31,C19,C15) -> 33828495 | D34: =SUM(D33,D31,D19,D15) -> 34067792 | E34: =SUM(E33,E31,E19,E15) -> 34269491 | F34: =SUM(F33,F31,F19,F15) -> 35939173 | G34: =SUM(G33,G31,G19,G15) -> 36058250 | H34: Működési költségvetési kiadások mindösszesen | I34: =SUM(I7:I12) -> 25855466 | J34: =SUM(J7:J12) -> 29193465 | K34: =SUM(K7:K12) -> 29912676 | L34: =SUM(L7:L12) -> 30411452 | M34: =SUM(M7:M12) -> 32187315 | N34: =SUM(N7:N12) -> 27188937
A35: Felhalmozási célú önkormányzati támogatások | B35: =SUM('2.mell. '!C239) -> 1500000 | C35: =SUM('2.mell. '!D239) -> 1500000 | D35: =SUM('2.mell. '!E239) -> 1500000 | E35: =SUM('2.mell. '!F239) -> 1500000 | F35: =SUM('2.mell. '!G239) -> 1500000 | G35: =SUM('2.mell. '!H239) -> 750000
A36: "Egészséges Budapest Program" Integrélt Alapell. Járób. szakell. Közp. megv. | B36: =SUM('2.mell. '!C240) -> 0 | C36: =SUM('2.mell. '!D240) -> 0 | D36: =SUM('2.mell. '!E240) -> 0 | E36: =SUM('2.mell. '!F240) -> 0 | F36: =SUM('2.mell. '!G240) -> 0 | G36: =SUM('2.mell. '!H240) -> 0
A37: Ferencvárosi lakótömb rehabilitációjának I. üteme | B37: =SUM('2.mell. '!C241) -> 0 | C37: =SUM('2.mell. '!D241) -> 0 | D37: =SUM('2.mell. '!E241) -> 0 | E37: =SUM('2.mell. '!F241) -> 0 | F37: =SUM('2.mell. '!G241) -> 0 | G37: =SUM('2.mell. '!H241) -> 0 | H37: Beruházások | I37: =SUM('3.mell.'!C140) -> 4607090 | J37: =SUM('3.mell.'!D140) -> 5384399 | K37: =SUM('3.mell.'!E140) -> 5405951 | L37: =SUM('3.mell.'!F140) -> 5381322 | M37: =SUM('3.mell.'!G140) -> 5427937 | N37: =SUM('3.mell.'!H140) -> 2002404
A38: Egyéb felhalmozási célú támog.bevételei ÁH-n belülről - Fővárosi Önkormányzattól | B38: =SUM('2.mell. '!C242) -> 0 | C38: =SUM('2.mell. '!D242) -> 0 | D38: =SUM('2.mell. '!E242) -> 0 | E38: =SUM('2.mell. '!F242) -> 0 | F38: =SUM('2.mell. '!G242) -> 0 | G38: =SUM('2.mell. '!H242) -> 0 | H38: Felújítások | I38: =SUM('3.mell.'!C141) -> 4027276 | J38: =SUM('3.mell.'!D141) -> 8212690 | K38: =SUM('3.mell.'!E141) -> 8545679 | L38: =SUM('3.mell.'!F141) -> 8346783 | M38: =SUM('3.mell.'!G141) -> 8277417 | N38: =SUM('3.mell.'!H141) -> 2061051
A39: Egyéb felhalmozási célú támog.bevételei ÁH-n belülről | B39: =SUM('2.mell. '!C243) -> 0 | C39: =SUM('2.mell. '!D243) -> 0 | D39: =SUM('2.mell. '!E243) -> 0 | E39: =SUM('2.mell. '!F243) -> 1530 | F39: =SUM('2.mell. '!G243) -> 1530 | G39: =SUM('2.mell. '!H243) -> 1530 | H39: Egyéb felhalmozási célú kiadások | I39: =SUM('3.mell.'!C142) -> 1730691 | J39: =SUM('3.mell.'!D142) -> 2316754 | K39: =SUM('3.mell.'!E142) -> 2323694 | L39: =SUM('3.mell.'!F142) -> 2554212 | M39: =SUM('3.mell.'!G142) -> 2553612 | N39: =SUM('3.mell.'!H142) -> 1736341
A40: Felhalmozási célú támogatások Államháztartáson belülről összesen | B40: =SUM(B35:B39) -> 1500000 | C40: =SUM(C35:C39) -> 1500000 | D40: =SUM(D35:D39) -> 1500000 | E40: =SUM(E35:E39) -> 1501530 | F40: =SUM(F35:F39) -> 1501530 | G40: =SUM(G35:G39) -> 751530
A41: Ingatlanok értékesítése | B41: =SUM('2.mell. '!C245) -> 200000 | C41: =SUM('2.mell. '!D245) -> 200000 | D41: =SUM('2.mell. '!E245) -> 629867 | E41: =SUM('2.mell. '!F245) -> 932407 | F41: =SUM('2.mell. '!G245) -> 1013059 | G41: =SUM('2.mell. '!H245) -> 1110158
A42: Egyéb tárgyi eszköz értékesítése | B42: =SUM('2.mell. '!C246) -> 0 | C42: =SUM('2.mell. '!D246) -> 0 | D42: =SUM('2.mell. '!E246) -> 0 | E42: =SUM('2.mell. '!F246) -> 0 | F42: =SUM('2.mell. '!G246) -> 583 | G42: =SUM('2.mell. '!H246) -> 583
A43: Részesedések értékesítése, részesedések megszűnéséhez kapcsolódó bevételek
A44: Felhalmozási bevételek összesen | B44: =SUM(B41:B42) -> 200000 | C44: =SUM(C41:C42) -> 200000 | D44: =SUM(D41:D42) -> 629867 | E44: =SUM(E41:E42) -> 932407 | F44: =SUM(F41:F42) -> 1013642 | G44: =SUM(G41:G42) -> 1110741
A45: Felhalmozási célú visszatérítendő tám. kölcsönök visszatérülései államháztartáson kívülről | B45: =SUM('2.mell. '!C248) -> 18000 | C45: =SUM('2.mell. '!D248) -> 18000 | D45: =SUM('2.mell. '!E248) -> 18000 | E45: =SUM('2.mell. '!F248) -> 18000 | F45: =SUM('2.mell. '!G248) -> 19439 | G45: =SUM('2.mell. '!H248) -> 18568
A46: Egyéb felhalmozási célú átvett pénzeszközök | B46: =SUM('2.mell. '!C249+'2.mell. '!C250) -> 0 | C46: =SUM('2.mell. '!D249+'2.mell. '!D250) -> 10000 | D46: =SUM('2.mell. '!E249+'2.mell. '!E250) -> 419899 | E46: =SUM('2.mell. '!F249+'2.mell. '!F250) -> 419899 | F46: =SUM('2.mell. '!G249+'2.mell. '!G250) -> 420055 | G46: =SUM('2.mell. '!H249+'2.mell. '!H250) -> 410156
A47: Felhalmozási célú átvett pénzeszközök összesen | B47: =SUM(B45:B46) -> 18000 | C47: =SUM(C45:C46) -> 28000 | D47: =SUM(D45:D46) -> 437899 | E47: =SUM(E45:E46) -> 437899 | F47: =SUM(F45:F46) -> 439494 | G47: =SUM(G45:G46) -> 428724
A48: Felhalmozási költségvetési bevételek mindösszesen | B48: =SUM(B47,B44,B40) -> 1718000 | C48: =SUM(C47,C44,C40) -> 1728000 | D48: =SUM(D47,D44,D40) -> 2567766 | E48: =SUM(E47,E44,E40) -> 2871836 | F48: =SUM(F47,F44,F40) -> 2954666 | G48: =SUM(G47,G44,G40) -> 2290995 | H48: Felhalmozási költségvetési kiadások mindösszesen | I48: =SUM(I35:I39) -> 10365057 | J48: =SUM(J35:J39) -> 15913843 | K48: =SUM(K35:K39) -> 16275324 | L48: =SUM(L35:L39) -> 16282317 | M48: =SUM(M35:M39) -> 16258966 | N48: =SUM(N35:N39) -> 5799796
A49: Előző év költségvetési maradványának igénybevétele | B49: =SUM('2.mell. '!C253) -> 138592 | C49: =SUM('2.mell. '!D253) -> 2029108 | D49: =SUM('2.mell. '!E253) -> 2030737 | E49: =SUM('2.mell. '!F253) -> 2030737 | F49: =SUM('2.mell. '!G253) -> 2030737 | G49: =SUM('2.mell. '!H253) -> 2030737 | H49: Államháztartáson belüli megelőlegezések tárgyéven belül | I49: ='3.mell.'!C144 -> 0 | J49: ='3.mell.'!D144 -> 255701 | K49: ='3.mell.'!E144 -> 1390931 | L49: ='3.mell.'!F144 -> 1838270 | M49: ='3.mell.'!G144 -> 2117195 | N49: ='3.mell.'!H144 -> 1945734
A50: Államháztartáson belüli megelőlegezések tárgyéven belül | B50: =SUM('2.mell. '!C255) -> 0 | C50: =SUM('2.mell. '!D255) -> 255701 | D50: =SUM('2.mell. '!E255) -> 1390931 | E50: =SUM('2.mell. '!F255) -> 1838270 | F50: =SUM('2.mell. '!G255) -> 2117195 | G50: =SUM('2.mell. '!H255) -> 2117193 | H50: Államháztartáson belüli megelőlegezések visszafizetése | I50: =SUM('3.mell.'!C147) -> 138592 | J50: =SUM('3.mell.'!D147) -> 138592 | K50: =SUM('3.mell.'!E147) -> 138592 | L50: =SUM('3.mell.'!F147) -> 138592 | M50: =SUM('3.mell.'!G147) -> 138592 | N50: =SUM('3.mell.'!H147) -> 138592
A51: Irányító szervi támogatás | B51: =SUM('2.mell. '!C254) -> 13247915 | C51: =SUM('2.mell. '!D254) -> 14494193 | D51: =SUM('2.mell. '!E254) -> 14620378 | E51: =SUM('2.mell. '!F254) -> 15081258 | F51: =SUM('2.mell. '!G254) -> 15144194 | G51: =SUM('2.mell. '!H254) -> 13831839 | H51: Irányító szervi támogatások folyósítása | I51: =SUM('3.mell.'!C145) -> 13247915 | J51: =SUM('3.mell.'!D145) -> 14494193 | K51: =SUM('3.mell.'!E145) -> 14620378 | L51: =SUM('3.mell.'!F145) -> 15081258 | M51: =SUM('3.mell.'!G145) -> 15144194 | N51: =SUM('3.mell.'!H145) -> 13831838
A52: Államkötvény vásárlás bevételei | B52: ='2.mell. '!C256 -> 0 | C52: ='2.mell. '!D256 -> 0 | D52: ='2.mell. '!E256 -> 0 | E52: ='2.mell. '!F256 -> 0 | F52: ='2.mell. '!G256 -> 15500000 | G52: ='2.mell. '!H256 -> 4000000 | H52: Államkötvény vásárlás kiadásai | I52: ='3.mell.'!C146 -> 0 | J52: ='3.mell.'!D146 -> 0 | K52: ='3.mell.'!E146 -> 0 | L52: ='3.mell.'!F146 -> 0 | M52: ='3.mell.'!G146 -> 15500000 | N52: ='3.mell.'!H146 -> 15500000
A53: Vállalkozási maradvány | B53: ='2.mell. '!C257 -> 0 | C53: ='2.mell. '!D257 -> 0 | D53: ='2.mell. '!E257 -> 0 | E53: ='2.mell. '!F257 -> 0 | F53: ='2.mell. '!G257 -> 0 | G53: ='2.mell. '!H257 -> 0
A54: Lekötött betétek | G54: 28683814 | H54: Lekötött betétek | N54: 29385668
A55: Működési finanszírozási bevételek | B55: =SUM(B49:B54) -> 13386507 | C55: =SUM(C49:C54) -> 16779002 | D55: =SUM(D49:D54) -> 18042046 | E55: =SUM(E49:E54) -> 18950265 | F55: =SUM(F49:F54) -> 34792126 | G55: =SUM(G49:G54) -> 50663583 | H55: Működési finanszírozási kiadások | I55: =SUM(I49:I52) -> 13386507 | J55: =SUM(J49:J52) -> 14888486 | K55: =SUM(K49:K52) -> 16149901 | L55: =SUM(L49:L52) -> 17058120 | M55: =SUM(M49:M52) -> 32899981 | N55: =SUM(N49:N52) -> 31416164
A56: Előző év költségvetési maradványának igénybevétele | B56: =SUM('2.mell. '!C259) -> 5535272 | C56: =SUM('2.mell. '!D259) -> 7660297 | D56: =SUM('2.mell. '!E259) -> 7660297 | E56: =SUM('2.mell. '!F259) -> 7660297 | F56: =SUM('2.mell. '!G259) -> 7660297 | G56: =SUM('2.mell. '!H259) -> 7660297 | H56: Hitel-, kölcsöntörlesztés államháztartáson kívülre | I56: =SUM('3.mell.'!C149) -> 0 | J56: =SUM('3.mell.'!D149) -> 0 | K56: =SUM('3.mell.'!E149) -> 0 | L56: =SUM('3.mell.'!F149) -> 0 | M56: =SUM('3.mell.'!G149) -> 0 | N56: =SUM('3.mell.'!H149) -> 0
A57: Felhalmozási finanszírozási bevételek összesen | B57: =SUM(B56:B56) -> 5535272 | C57: =SUM(C56:C56) -> 7660297 | D57: =SUM(D56:D56) -> 7660297 | E57: =SUM(E56:E56) -> 7660297 | F57: =SUM(F56:F56) -> 7660297 | G57: =SUM(G56:G56) -> 7660297 | H57: Felhalmozási finanszírozási kiadások mindösszesen | I57: =SUM(I56:I56) -> 0 | J57: =SUM(J56:J56) -> 0 | K57: =SUM(K56:K56) -> 0 | L57: =SUM(L56:L56) -> 0 | M57: =SUM(M56:M56) -> 0 | N57: =SUM(N56:N56) -> 0
A59: BEVÉTELEK MINDÖSSZ.:(Irányítószervi támogatás, lekötött betét nélkül) | B59: =SUM(B34+B48+B56+B49+B52+B54+B50+B53) -> 36359115 | C59: =SUM(C34+C48+C56+C49+C52+C54+C50+C53) -> 45501601 | D59: =SUM(D34+D48+D56+D49+D52+D54+D50+D53) -> 47717523 | E59: =SUM(E34+E48+E56+E49+E52+E54+E50+E53) -> 48670631 | F59: =SUM(F34+F48+F56+F49+F52+F54+F50+F53) -> 66202068 | G59: =SUM(G34+G48+G56+G49+G52+G50+G53) -> 54157472 | H59: KIADÁSOK MINDÖSSZ.:(Irányítószervi tám., lekötött bet. nélkül) | I59: =SUM(I34+I48+I56+I50+I52)+I49 -> 36359115 | J59: =SUM(J34+J48+J56+J50+J52)+J49 -> 45501601 | K59: =SUM(K34+K48+K56+K50+K52)+K49 -> 47717523 | L59: =SUM(L34+L48+L56+L50+L52)+L49 -> 48670631 | M59: =SUM(M34+M48+M56+M50+M52)+M49 -> 66202068 | N59: =SUM(N34+N48+N56+N50+N52)+N49 -> 50573059

Sheet 2.mell. 
A1: 2. melléklet
A2: Az önkormányzat 2025. évi bevételei
I4: adatok eFt-ban
A5: Soszám | B5: Bevételek | C5: 2025. évi előirányzat 5/2025. | D5: 2025. évi előirányzat 14/2025. | E5: 2025. évi előirányzat 18/2025. | F5: 2025. évi előirányzat 22/2025. | G5: 2025. évi előirányzat 1/2026. | H5: 2025. évi I-XII. havi teljesítés /2026. | I5: Index 8./7.
A7: 1. | B7: 2. | C7: 3. | D7: 4. | E7: 5. | F7: 6. | G7: 7. | H7: 8. | I7: 9.
B8: I. Helyi Önkormányzat bevételei
A10: 1010 | B10: Önkormányzatok működési támogatásai | C10: =SUM(C11:C16) -> 4179621 | D10: =SUM(D11:D16) -> 4610231 | E10: =SUM(E11:E16) -> 4712365 | F10: =SUM(F11:F16) -> 4824674 | G10: =SUM(G11:G16) -> 4911388 | H10: =SUM(H11:H16) -> 4908920 | I10: =H10/G10 -> 0.99949749
A11: 1011 | B11: - Helyi önkormányzatok működésének általános támogatása | C11: 903394 | D11: =903394+33987 -> 937381 | E11: =903394+33987 -> 937381 | F11: =903394+33987 -> 937381 | G11: =903394+33987 -> 937381 | H11: 937381 | I11: =H11/G11 -> 1
A12: 1012 | B12: - Települési önkormányzatok egyes köznevelési feladatainak támogatása | C12: 1654015 | D12: 1654015 | E12: =1654015+54368 -> 1708383 | F12: =1654015+54368+11278 -> 1719661 | G12: =1654015+54368+11278 -> 1719661 | H12: 1719661 | I12: =H12/G12 -> 1
A13: 1013 | B13: - Települési önkormányzatok szociális, gyermekjóléti és gyermekétkeztési feladatainak támogatása | C13: 1592165 | D13: =1592165+61940 -> 1654105 | E13: =1654105+47766 -> 1701871 | F13: =1654105+47766+70220 -> 1772091 | G13: =1654105+47766+70220+86714 -> 1858805 | H13: 1858805 | I13: =H13/G13 -> 1
A14: 1014 | B14: - Települési önkormányzatok kulturális feladatainak támogatása | C14: 30047 | D14: =30047+313826 -> 343873 | E14: =30047+313826 -> 343873 | F14: =30047+313826+30811 -> 374684 | G14: =30047+313826+30811 -> 374684 | H14: 374684 | I14: =H14/G14 -> 1
A15: 1015 | B15: - Működési célú költségvetési támogatások és kiegészítő támogatások
A16: 1016 | B16: - Elszámolásból származó bevételek | D16: 20857 | E16: 20857 | F16: 20857 | G16: 20857 | H16: 18389 | I16: =H16/G16 -> 0.88167042
A17: 1020 | B17: Elvonások és befizetések bevételei
A18: 1029 | B18: "Egészséges Budapest Program" Integrélt Alapell. Járóbeteg szakell. Központ megv. | C18: 0 | D18: 0 | E18: 0 | F18: 0 | G18: 0 | H18: 0
A19: 1030 | B19: Egyéb működési célú támogatások bevételei államháztartáson belülről | G19: =8005+1400 -> 9405 | H19: 9483
A20: 1031 | B20: Egyéb műk. célú támog.bevételei Áh-n belülről - EU-s pályázat KEHOP-1.2.1-18-2018-00006
A21: 1032 | B21: VEKOP-7 3 4-17-2017-00011 József Attila
B22: Működési célú támogatások államháztartáson belülről összesen | C22: =SUM(C10+C21+C20+C18+C19) -> 4179621 | D22: =SUM(D10+D21+D20+D18+D19) -> 4610231 | E22: =SUM(E10+E21+E20+E18+E19) -> 4712365 | F22: =SUM(F10+F21+F20+F18+F19) -> 4824674 | G22: =SUM(G10+G21+G20+G18+G19) -> 4920793 | H22: =SUM(H10+H21+H20+H18+H19) -> 4918403 | I22: =H22/G22 -> 0.99951431
A24: 1040 | B24: Vagyoni típusú adók (Helyi adó) | C24: =SUM(C25:C26) -> 7272555 | D24: =SUM(D25:D26) -> 7272555 | E24: =SUM(E25:E26) -> 7272555 | F24: =SUM(F25:F26) -> 7272555 | G24: =SUM(G25:G26) -> 7686639 | H24: =SUM(H25:H26) -> 7686639 | I24: =H24/G24 -> 1
A25: 1041 | B25: Építményadó | C25: 6375549 | D25: 6375549 | E25: 6375549 | F25: 6375549 | G25: =6375549+583049 -> 6958598 | H25: 6958598 | I25: =H25/G25 -> 1
A26: 1042 | B26: Telekadó | C26: 897006 | D26: 897006 | E26: 897006 | F26: 897006 | G26: =897006-168965 -> 728041 | H26: 728041 | I26: =H26/G26 -> 1
A27: 1050 | B27: Termékek és szolgáltatások adói | C27: =SUM(C28:C30) -> 10057538 | D27: =SUM(D28:D30) -> 10057538 | E27: =SUM(E28:E30) -> 10057538 | F27: =SUM(F28:F30) -> 10057538 | G27: =SUM(G28:G30) -> 10321341 | H27: =SUM(H28:H30) -> 10418364 | I27: =H27/G27 -> 1.0094002
A28: 1051 | B28: Iparűzési adó | C28: 9357538 | D28: 9357538 | E28: 9357538 | F28: 9357538 | G28: =9357538+133743 -> 9491281 | H28: 9588304 | I28: =H28/G28 -> 1.0102223
A29: 1052 | B29: Belföldi gépjárművek adójának a helyi önkormányzatot megillető része
A30: 1053 | B30: Idegenforgalmi adó | C30: 700000 | D30: 700000 | E30: 700000 | F30: 700000 | G30: =700000+130060 -> 830060 | H30: 830060 | I30: =H30/G30 -> 1
A31: 1070 | B31: Egyéb közhatalmi bevételek | C31: =SUM(C32:C42) -> 1036541 | D31: =SUM(D32:D42) -> 1036541 | E31: =SUM(E32:E42) -> 1036541 | F31: =SUM(F32:F42) -> 1036541 | G31: =SUM(G32:G42) -> 1347534 | H31: =SUM(H32:H42) -> 1379200 | I31: =H31/G31 -> 1.0234992
A32: 1071 | B32: Igazgatásszolgáltatási díj | C32: 2000 | D32: 2000 | E32: 2000 | F32: 2000 | G32: =2000-1569 -> 431 | H32: 431 | I32: =H32/G32 -> 1
A33: 1072 | B33: Talajterhelési díj | G33: 4151 | H33: 4151
A34: 1073 | B34: Környezetvédelmi bírság | G34: 203686 | H34: 203686
A35: 1074 | B35: Szabálysértési bírság
A36: 1075 | B36: Helyi adó pótlék, bírság | C36: 30000 | D36: 30000 | E36: 30000 | F36: 30000 | G36: =30000+28530 -> 58530 | H36: 58530 | I36: =H36/G36 -> 1
A37: 1076 | B37: Iparűzési adó pótlék, bírság | C37: 26641 | D37: 26641 | E37: 26641 | F37: 26641 | G37: 26641 | H37: 35972 | I37: =H37/G37 -> 1.3502496
A38: 1077 | B38: Parkolási bírság, pótdíj | C38: 565900 | D38: 565900 | E38: 565900 | F38: 565900 | G38: =565900+8500 -> 574400 | H38: 574401 | I38: =H38/G38 -> 1.0000017
A39: 1078 | B39: Egyéb bírságból származó bevétel | C39: 5000 | D39: 5000 | E39: 5000 | F39: 5000 | G39: =5000+5897 -> 10897 | H39: 10897 | I39: =H39/G39 -> 1
A40: 1079 | B40: Közigazgatási bírság | C40: 7000 | D40: 7000 | E40: 7000 | F40: 7000 | G40: =7000+5367 -> 12367 | H40: 12368 | I40: =H40/G40 -> 1.0000809
A41: 1081 | B41: Közterületfoglalási díj | C41: 400000 | D41: 400000 | E41: 400000 | F41: 400000 | G41: =400000-7569 -> 392431 | H41: 414764 | I41: =H41/G41 -> 1.0569094
A42: 1211 | B42: Parkolóhely megváltás | G42: 64000 | H42: 64000
B43: Közhatalmi bevételek összesen | C43: =SUM(C24+C27+C31) -> 18366634 | D43: =SUM(D24+D27+D31) -> 18366634 | E43: =SUM(E24+E27+E31) -> 18366634 | F43: =SUM(F24+F27+F31) -> 18366634 | G43: =SUM(G24+G27+G31) -> 19355514 | H43: =SUM(H24+H27+H31) -> 19484203 | I43: =H43/G43 -> 1.0066487
A45: 1090 | B45: Szolgáltatások ellenértéke | C45: =SUM(C46:C54) -> 2140682 | D45: =SUM(D46:D54) -> 2140682 | E45: =SUM(E46:E54) -> 2140682 | F45: =SUM(F46:F54) -> 2140682 | G45: =SUM(G46:G54) -> 2306036 | H45: =SUM(H46:H54) -> 2306810 | I45: =H45/G45 -> 1.0003356
A46: 1091 | B46: - Közterületfoglalási díj
A47: 1092 | B47: - Parkolási díj, ügyviteli költség | C47: 1339600 | D47: 1339600 | E47: 1339600 | F47: 1339600 | G47: =1339600+118990 -> 1458590 | H47: 1458590 | I47: =H47/G47 -> 1
A48: 1093 | B48: - Egyéb szolgáltatás | C48: 6000 | D48: 6000 | E48: 6000 | F48: 6000 | G48: =6000+2409 -> 8409 | H48: 8409 | I48: =H48/G48 -> 1
A49: 1094 | B49: - Bérleti díjak | C49: 25000 | D49: 25000 | E49: 25000 | F49: 25000 | G49: =25000-12810 -> 12190 | H49: 12190 | I49: =H49/G49 -> 1
A50: 1095 | B50: - Lakbér bevételek | C50: 380000 | D50: 380000 | E50: 380000 | F50: 380000 | G50: =380000+37117 -> 417117 | H50: 417117 | I50: =H50/G50 -> 1
A51: 1096 | B51: - Helyiség bérleti díj | C51: 350082 | D51: 350082 | E51: 350082 | F51: 350082 | G51: =350082+6042 -> 356124 | H51: 356124 | I51: =H51/G51 -> 1
A52: 1097 | B52: - Helyiség megszerzési díj | G52: 5057 | H52: 5057 | I52: =H52/G52 -> 1
A53: 1098 | B53: - Nyomvonal létesítés kártalanítás | G53: 14395 | H53: 14395 | I53: =H53/G53 -> 1
A54: 1099 | B54: - Munkásszálló bérleti díj | C54: 40000 | D54: 40000 | E54: 40000 | F54: 40000 | G54: =40000-5846 -> 34154 | H54: 34928 | I54: =H54/G54 -> 1.0226621
A55: 1100 | B55: Közvetített szolgáltatások ellenértéke | C55: =SUM(C56:C58) -> 169500 | D55: =SUM(D56:D58) -> 169500 | E55: =SUM(E56:E58) -> 169500 | F55: =SUM(F56:F58) -> 169500 | G55: =SUM(G56:G58) -> 174819 | H55: =SUM(H56:H58) -> 174860 | I55: =H55/G55 -> 1.0002345
A56: 1101 | B56: - Önkormányzat közvetített szolgáltatások ellenértéke | C56: 10000 | D56: 10000 | E56: 10000 | F56: 10000 | G56: =10000-4326 -> 5674 | H56: 5715 | I56: =H56/G56 -> 1.0072259
A57: 1102 | B57: - Vagyonkezeléssel kapcsolatos közvetített szolgáltatások ellenértéke | C57: 90000 | D57: 90000 | E57: 90000 | F57: 90000 | G57: =90000-6006 -> 83994 | H57: 83994 | I57: =H57/G57 -> 1
A58: 1103 | B58: - Parkolással kapcsolatos közvetített szolgáltatások ellenértéke | C58: 69500 | D58: 69500 | E58: 69500 | F58: 69500 | G58: =69500+15651 -> 85151 | H58: 85151 | I58: =H58/G58 -> 1
A59: 1105 | B59: Tulajdonosi bevételek
A60: 1110 | B60: Ellátási díjak | H60: 6
A61: 1120 | B61: Kiszámlázott általános forgalmi adó | C61: =SUM(C62:C64) -> 581792 | D61: =SUM(D62:D64) -> 1488911 | E61: =SUM(E62:E64) -> 1488911 | F61: =SUM(F62:F64) -> 1488911 | G61: =SUM(G62:G64) -> 1570762 | H61: =SUM(H62:H64) -> 1570973 | I61: =H61/G61 -> 1.0001343
A62: 1121 | B62: - Önkormányzat ÁFA | C62: 21870 | D62: =21870+907119 -> 928989 | E62: =21870+907119 -> 928989 | F62: =21870+907119 -> 928989 | G62: =21870+907119+835 -> 929824 | H62: 930035 | I62: =H62/G62 -> 1.0002269
A63: 1122 | B63: - Vagyonkezelési és városfejlesztési feladatokkal kapcsolatos ÁFA | C63: 221422 | D63: 221422 | E63: 221422 | F63: 221422 | G63: =221422+2831 -> 224253 | H63: 224254 | I63: =H63/G63 -> 1.0000045
A64: 1123 | B64: - Parkolási feladatokkal kapcsolatos ÁFA | C64: 338500 | D64: 338500 | E64: 338500 | F64: 338500 | G64: =338500+78185 -> 416685 | H64: 416684 | I64: =H64/G64 -> 0.9999976
A65: 1130 | B65: Általános forgalmi adó visszatérítése
A66: 1140 | B66: Kamatbevételek és más nyereségjellegű bevételek | C66: =C67 -> 150000 | D66: =D67 -> 150000 | E66: =E67 -> 150000 | F66: =F67 -> 150000 | G66: =G67 -> 263388 | H66: =H67 -> 261574 | I66: =H66/G66 -> 0.99311282
A67: 1141 | B67: - Önkormányzat kamat | C67: 150000 | D67: 150000 | E67: 150000 | F67: 150000 | G67: =150000+113388 -> 263388 | H67: 261574 | I67: =H67/G67 -> 0.99311282
A68: 1152 | B68: Biztosító által fizetett kártérítés
A69: 1150 | B69: Egyéb működési bevételek | C69: 10000 | D69: =10000+3482700 -> 3492700 | E69: =10000+3482700 -> 3492700 | F69: =10000+3482700 -> 3492700 | G69: =10000+3482700+16473 -> 3509173 | H69: 3544635 | I69: =H69/G69 -> 1.0101055
A70: 1151 | B70: Egyéb működési bevételek - Parkolási feladatokkal kapcsolatban | C70: 30500 | D70: 30500 | E70: 30500 | F70: 30500 | G70: =30500+3028 -> 33528 | H70: 33528 | I70: =H70/G70 -> 1
B71: Működési bevételek összesen | C71: =SUM(C66+C69+C65+C61+C60+C55+C45+C59+C70)+C68 -> 3082474 | D71: =SUM(D66+D69+D65+D61+D60+D55+D45+D59+D70)+D68 -> 7472293 | E71: =SUM(E66+E69+E65+E61+E60+E55+E45+E59+E70)+E68 -> 7472293 | F71: =SUM(F66+F69+F65+F61+F60+F55+F45+F59+F70)+F68 -> 7472293 | G71: =SUM(G66+G69+G65+G61+G60+G55+G45+G59+G70)+G68 -> 7857706 | H71: =SUM(H66+H69+H65+H61+H60+H55+H45+H59+H70)+H68 -> 7892386 | I71: =H71/G71 -> 1.0044135
A73: 1160 | B73: Egyéb működési célú átvett pénzeszköz | G73: =3283+2158 -> 5441 | H73: 6191 | I73: =H73/G73 -> 1.1378423
A74: 1160 | B74: Zwack Unicum Nyrt. Általános kulturális feladatok támogatása | G74: 1700 | H74: 1500 | I74: =H74/G74 -> 0.88235294
A75: 1160 | B75: Fővárosi Szociális Közalapítvány DPT 2025-6/TO Drogprevenciós programok támogatása | G75: 2582 | H75: 2582 | I75: =H75/G75 -> 1
A76: 1161 | B76: "Krízis Alap" bevétel
A77: 1162 | B77: NEXT LEVEL Parking pályázat | C77: 0 | D77: 0 | E77: 41576 | F77: 41576 | G77: 41576 | H77: 0 | I77: =H77/G77 -> 0
A78: 1163 | B78: Ferencvárosi Humanitárius Alap | G78: =2000+62 -> 2062 | H78: 2062 | I78: =H78/G78 -> 1
A79: 1164 | B79: CLAP Gyermekek helyi ügyekben való részvétele | C79: 0 | D79: 0 | E79: 2673 | F79: 2673 | G79: =2673-1378-178+103 -> 1220 | H79: 1220 | I79: =H79/G79 -> 1
A80: 1165 | B80: HERO pályázat | C80: 0 | D80: 0 | E80: 0 | F80: 0 | G80: 0 | H80: 0
A81: 1169 | B81: EUCF pályázat
B82: Működési célú átvett pénzeszközök összesen | C82: =SUM(C73:C81) -> 0 | D82: =SUM(D73:D81) -> 0 | E82: =SUM(E73:E81) -> 44249 | F82: =SUM(F73:F81) -> 44249 | G82: =SUM(G73:G81) -> 54581 | H82: =SUM(H73:H81) -> 13555 | I82: =H82/G82 -> 0.24834649
B84: Működési költségvetési bevételek mindösszesen | C84: =SUM(C71+C43+C22+C82) -> 25628729 | D84: =SUM(D71+D43+D22+D82) -> 30449158 | E84: =SUM(E71+E43+E22+E82) -> 30595541 | F84: =SUM(F71+F43+F22+F82) -> 30707850 | G84: =SUM(G71+G43+G22+G82) -> 32188594 | H84: =SUM(H71+H43+H22+H82) -> 32308547 | I84: =H84/G84 -> 1.0037266
A86: 1165 | B86: Felhalmozási célú önkormányzati támogatások Óvodafejlesztés | C86: 1500000 | D86: 1500000 | E86: 1500000 | F86: 1500000 | G86: 1500000 | H86: 750000 | I86: =H86/G86 -> 0.5
A87: 1166 | B87: "Egészséges Budapest Program" Integrélt Alapell. Járóbeteg szakell. Központ megv. | C87: 0 | D87: 0 | E87: 0 | F87: 0 | G87: 0 | H87: 0
A88: 1170 | B88: Egyéb felhalmozási célú támog.bevételei Áh-n belülről - EU-s pályázatok kapcsán
A89: 1180 | B89: Egyéb felhalmozási célú támog.bevételei Áh-n belülről - Fővárosi Önkormányzattól | C89: =SUM(C90:C92) -> 0 | D89: =SUM(D90:D92) -> 0 | E89: =SUM(E90:E92) -> 0 | F89: =SUM(F90:F92) -> 0 | G89: =SUM(G90:G92) -> 0 | H89: =SUM(H90:H92) -> 0
A90: 1182 | B90: Bakáts projekt
A91: 1183 | B91: TÉR-KÖZ 2018
A92: 1186 | B92: Fedett, zárható kerékpártárolók társasházak, lakótelepek környékén
A93: 1187 | B93: FESZ részesedés
A94: 1185 | B94: Egyéb felhalmozási célú támogatás bevételei
B95: Felhalmozási célú támogatások államháztartáson belülről összesen | C95: =SUM(C88+C89+C86+C8+C745+C87)+C93+C94 -> 1500000 | D95: =SUM(D88+D89+D86+D8+D745+D87)+D93+D94 -> 1500000 | E95: =SUM(E88+E89+E86+E8+E745+E87)+E93+E94 -> 1500000 | F95: =SUM(F88+F89+F86+F8+F745+F87)+F93+F94 -> 1500000 | G95: =SUM(G88+G89+G86+G8+G745+G87)+G93+G94 -> 1500000 | H95: =SUM(H88+H89+H86+H8+H745+H87)+H93+H94 -> 750000 | I95: =H95/G95 -> 0.5
A97: 1190 | B97: Ingatlanok értékesítése | C97: =SUM(C98+C99+C100) -> 200000 | D97: =SUM(D98+D99+D100) -> 200000 | E97: =SUM(E98+E99+E100) -> 629867 | F97: =SUM(F98+F99+F100) -> 932407 | G97: =SUM(G98+G99+G100) -> 1013059 | H97: =SUM(H98+H99+H100) -> 1110158 | I97: =H97/G97 -> 1.0958473
A98: 1191 | B98: Földterület, telek, ingatlan értékesítése | G98: 27255 | H98: 39378 | I98: =H98/G98 -> 1.4447991
A99: 1194 | B99: Helyiség értékesítés | E99: 429867 | F99: =429867+302540 -> 732407 | G99: =429867+302540+3995 -> 736402 | H99: 842765 | I99: =H99/G99 -> 1.1444361
A100: 1195 | B100: Önkormányzati lakások értékesítése | C100: 200000 | D100: 200000 | E100: 200000 | F100: 200000 | G100: =200000+49402 -> 249402 | H100: 228015 | I100: =H100/G100 -> 0.91424688
B101: Felhalmozási bevételek összesen | C101: =SUM(C97) -> 200000 | D101: =SUM(D97) -> 200000 | E101: =SUM(E97) -> 629867 | F101: =SUM(F97) -> 932407 | G101: =SUM(G97) -> 1013059 | H101: =SUM(H97) -> 1110158 | I101: =H101/G101 -> 1.0958473
A102: 1200 | B102: Felhalmozási célú visszatérítendő tám., kölcsönök visszatérülései államháztartáson kívülről | C102: =SUM(C103:C104) -> 15000 | D102: =SUM(D103:D104) -> 15000 | E102: =SUM(E103:E104) -> 15000 | F102: =SUM(F103:F104) -> 15000 | G102: =SUM(G103:G104) -> 16439 | H102: =SUM(H103:H104) -> 16439 | I102: =H102/G102 -> 1
A103: 1201 | B103: Helyi támogatás, házmesterek visszafizetése
A104: 1202 | B104: Társasházak befizetései | C104: 15000 | D104: 15000 | E104: 15000 | F104: 15000 | G104: =15000+1439 -> 16439 | H104: 16439 | I104: =H104/G104 -> 1
A105: 1209 | B105: NEXT LEVEL Parking pályázat | E105: 9899 | F105: 9899 | G105: 9899 | H105: 0 | I105: =H105/G105 -> 0
A106: 1210 | B106: Egyéb felhalmozási célú átvett pénzeszközök | D106: 10000 | E106: =10000+400000 -> 410000 | F106: =10000+400000 -> 410000 | G106: =10000+400000+156 -> 410156 | H106: 410156 | I106: =H106/G106 -> 1
A107: 1211 | B107: Parkolóhely megváltás
B108: Felhalmozási célú átvett pénzeszközök összesen | C108: =SUM(C102+C106+C107+C105) -> 15000 | D108: =SUM(D102+D106+D107+D105) -> 25000 | E108: =SUM(E102+E106+E107+E105) -> 434899 | F108: =SUM(F102+F106+F107+F105) -> 434899 | G108: =SUM(G102+G106+G107+G105) -> 436494 | H108: =SUM(H102+H106+H107+H105) -> 426595 | I108: =H108/G108 -> 0.97732157
B110: Felhalmozási költségvetési bevételek mindösszesen | C110: =SUM(C95+C101+C108) -> 1715000 | D110: =SUM(D95+D101+D108) -> 1725000 | E110: =SUM(E95+E101+E108) -> 2564766 | F110: =SUM(F95+F101+F108) -> 2867306 | G110: =SUM(G95+G101+G108) -> 2949553 | H110: =SUM(H95+H101+H108) -> 2286753 | I110: =H110/G110 -> 0.77528798
...

Sheet 3.mell.
A1: 3. melléklet
A2: Az önkormányzat 2025. évi kiadásai
I4: adatok eFt-ban
C5: 2025. évi előirányzat 5/2025. | D5: 2025. évi előirányzat 14/2025. | E5: 2025. évi előirányzat 18/2025. | F5: 2025. évi előirányzat 22/2025. | G5: 2025. évi előirányzat 1/2026. | H5: 2025. évi I-XII. havi teljesítés /2026. | I5: Index 8./7.
A6: Soszám | B6: Megnevezés
A8: 1. | B8: 2. | C8: 3. | D8: 4. | E8: 5. | F8: 6. | G8: 7. | H8: 8. | I8: 9.
B9: I. Polgármesteri Hivatal kiadásai
A11: 1710 | B11: Polgármesteri Hivatal kiadása (5. melléklet szerint) | C11: =SUM(C12:C19) -> 3901058 | D11: =SUM(D12:D19) -> 4340442 | E11: =SUM(E12:E19) -> 4340442 | F11: =SUM(F12:F19) -> 4575246 | G11: =SUM(G12:G19) -> 4597560 | H11: =SUM(H12:H19) -> 4100633 | I11: =SUM(H11/G11) -> 0.89191506
A12: 1711 | B12: Személyi juttatások | C12: =SUM('5.mell.'!C52) -> 2563391 | D12: =SUM('5.mell.'!D52) -> 2665485 | E12: =SUM('5.mell.'!E52) -> 2667485 | F12: =SUM('5.mell.'!F52) -> 2877485 | G12: =SUM('5.mell.'!G52) -> 2910832 | H12: =SUM('5.mell.'!H52) -> 2804847 | I12: =SUM(H12/G12) -> 0.96358945
A13: 1712 | B13: Munkaadókat terhelő járulékok és szociális hozzájárulási adó | C13: =SUM('5.mell.'!C53) -> 384329 | D13: =SUM('5.mell.'!D53) -> 414535 | E13: =SUM('5.mell.'!E53) -> 414795 | F13: =SUM('5.mell.'!F53) -> 439599 | G13: =SUM('5.mell.'!G53) -> 453166 | H13: =SUM('5.mell.'!H53) -> 403960 | I13: =SUM(H13/G13) -> 0.89141727
A14: 1713 | B14: Dologi kiadások | C14: =SUM('5.mell.'!C54) -> 676338 | D14: =SUM('5.mell.'!D54) -> 921366 | E14: =SUM('5.mell.'!E54) -> 909106 | F14: =SUM('5.mell.'!F54) -> 872849 | G14: =SUM('5.mell.'!G54) -> 896849 | H14: =SUM('5.mell.'!H54) -> 664572 | I14: =SUM(H14/G14) -> 0.74100768
A15: 1714 | B15: Ellátottak pénzbeli juttatásai | C15: =SUM('5.mell.'!C55) -> 0 | D15: =SUM('5.mell.'!D55) -> 0 | E15: =SUM('5.mell.'!E55) -> 0 | F15: =SUM('5.mell.'!F55) -> 0 | G15: =SUM('5.mell.'!G55) -> 0 | H15: =SUM('5.mell.'!H55) -> 0
A16: 1715 | B16: Egyéb működési célú kiadások | C16: ='5.mell.'!C56 -> 0 | D16: ='5.mell.'!D56 -> 0 | E16: ='5.mell.'!E56 -> 0 | F16: ='5.mell.'!F56 -> 0 | G16: ='5.mell.'!G56 -> 0 | H16: ='5.mell.'!H56 -> 0
A17: 1716 | B17: Beruházások | C17: =SUM('5.mell.'!C60) -> 213000 | D17: =SUM('5.mell.'!D60) -> 274056 | E17: =SUM('5.mell.'!E60) -> 284056 | F17: =SUM('5.mell.'!F60) -> 320313 | G17: =SUM('5.mell.'!G60) -> 254613 | H17: =SUM('5.mell.'!H60) -> 161460 | I17: =SUM(H17/G17) -> 0.63413887
A18: 1717 | B18: Felújítások | C18: =SUM('5.mell.'!C59) -> 61000 | D18: =SUM('5.mell.'!D59) -> 61000 | E18: =SUM('5.mell.'!E59) -> 61000 | F18: =SUM('5.mell.'!F59) -> 61000 | G18: =SUM('5.mell.'!G59) -> 78100 | H18: =SUM('5.mell.'!H59) -> 64794 | I18: =SUM(H18/G18) -> 0.82962868
A19: 1718 | B19: Egyéb felhalmozási célú kiadások - Munkáltatói kölcsön | C19: =SUM('5.mell.'!C61) -> 3000 | D19: =SUM('5.mell.'!D61) -> 4000 | E19: =SUM('5.mell.'!E61) -> 4000 | F19: =SUM('5.mell.'!F61) -> 4000 | G19: =SUM('5.mell.'!G61) -> 4000 | H19: =SUM('5.mell.'!H61) -> 1000 | I19: =SUM(H19/G19) -> 0.25
B21: II. Önkormányzat kiadásai
A23: 1750 | B23: Önkormányzat költségvetésben szereplő kiadások (6. melléklet szerint) | C23: =SUM(C24:C32) -> 6698893 | D23: =SUM(D24:D32) -> 8010236 | E23: =SUM(E24:E32) -> 8167003 | F23: =SUM(F24:F32) -> 8540753 | G23: =SUM(G24:G32) -> 8542967 | H23: =SUM(H24:H32) -> 6749021 | I23: =SUM(H23/G23) -> 0.79000902
A24: 1751 | B24: Személyi juttatások | C24: =SUM('6.mell.'!C898) -> 346934 | D24: =SUM('6.mell.'!D898) -> 357226 | E24: =SUM('6.mell.'!E898) -> 407736 | F24: =SUM('6.mell.'!F898) -> 399286 | G24: =SUM('6.mell.'!G898) -> 384721 | H24: =SUM('6.mell.'!H898) -> 354606 | I24: =SUM(H24/G24) -> 0.9217225
A25: 1752 | B25: Munkaadókat terhelő járulékok és szociális hozzájárulási adó | C25: =SUM('6.mell.'!C899) -> 51887 | D25: =SUM('6.mell.'!D899) -> 59760 | E25: =SUM('6.mell.'!E899) -> 65773 | F25: =SUM('6.mell.'!F899) -> 62283 | G25: =SUM('6.mell.'!G899) -> 60002 | H25: =SUM('6.mell.'!H899) -> 47583 | I25: =SUM(H25/G25) -> 0.79302357
A26: 1753 | B26: Dologi kiadások | C26: =SUM('6.mell.'!C900) -> 4529943 | D26: =SUM('6.mell.'!D900) -> 5275177 | E26: =SUM('6.mell.'!E900) -> 5342331 | F26: =SUM('6.mell.'!F900) -> 5481061 | G26: =SUM('6.mell.'!G900) -> 5477686 | H26: =SUM('6.mell.'!H900) -> 4471654 | I26: =SUM(H26/G26) -> 0.81633997
A27: 1754 | B27: Ellátottak pénzbeli juttatásai | C27: =SUM('6.mell.'!C901) -> 205000 | D27: =SUM('6.mell.'!D901) -> 262952 | E27: =SUM('6.mell.'!E901) -> 264999 | F27: =SUM('6.mell.'!F901) -> 269999 | G27: =SUM('6.mell.'!G901) -> 269999 | H27: =SUM('6.mell.'!H901) -> 212420 | I27: =SUM(H27/G27) -> 0.78674365
A28: 1755 | B28: Egyéb működési célú kiadások | C28: =SUM('6.mell.'!C902) -> 75600 | D28: =SUM('6.mell.'!D902) -> 122988 | E28: =SUM('6.mell.'!E902) -> 128231 | F28: =SUM('6.mell.'!F902) -> 145701 | G28: =SUM('6.mell.'!G902) -> 146951 | H28: =SUM('6.mell.'!H902) -> 116110 | I28: =SUM(H28/G28) -> 0.79012732
A29: 1756 | B29: Beruházások | C29: =SUM('6.mell.'!C905) -> 26400 | D29: =SUM('6.mell.'!D905) -> 79904 | E29: =SUM('6.mell.'!E905) -> 98264 | F29: =SUM('6.mell.'!F905) -> 120986 | G29: =SUM('6.mell.'!G905) -> 141171 | H29: =SUM('6.mell.'!H905) -> 41525 | I29: =SUM(H29/G29) -> 0.29414681
A30: 1757 | B30: Felújítások | C30: =SUM('6.mell.'!C906) -> 0 | D30: =SUM('6.mell.'!D906) -> 0 | E30: =SUM('6.mell.'!E906) -> 0 | F30: =SUM('6.mell.'!F906) -> 0 | G30: =SUM('6.mell.'!G906) -> 0 | H30: =SUM('6.mell.'!H906) -> 0
A31: 1758 | B31: Egyéb felhalmozási célú kiadások | C31: =SUM('6.mell.'!C907) -> 1463129 | D31: =SUM('6.mell.'!D907) -> 1852229 | E31: =SUM('6.mell.'!E907) -> 1859669 | F31: =SUM('6.mell.'!F907) -> 2061437 | G31: =SUM('6.mell.'!G907) -> 2062437 | H31: =SUM('6.mell.'!H907) -> 1505123 | I31: =SUM(H31/G31) -> 0.7297789
A33: 1760 | B33: Önkormányzat ktsv. szereplő Támogatások (7. melléklet szerint) | C33: =SUM(C34:C40) -> 1665520 | D33: =SUM(D34:D40) -> 2215590 | E33: =SUM(E34:E40) -> 2216385 | F33: =SUM(F34:F40) -> 2236085 | G33: =SUM(G34:G40) -> 2236085 | H33: =SUM(H34:H40) -> 1995408 | I33: =SUM(H33/G33) -> 0.89236679
A34: 1761 | B34: Személyi juttatások | C34: =SUM('7.mell.'!C65) -> 4513 | D34: =SUM('7.mell.'!D65) -> 5325 | E34: =SUM('7.mell.'!E65) -> 6467 | F34: =SUM('7.mell.'!F65) -> 6467 | G34: =SUM('7.mell.'!G65) -> 6467 | H34: =SUM('7.mell.'!H65) -> 5228 | I34: =SUM(H34/G34) -> 0.80841194
A35: 1762 | B35: Munkaadókat terhelő járulékok és szociális hozzájárulási adó | C35: =SUM('7.mell.'!C66) -> 587 | D35: =SUM('7.mell.'!D66) -> 770 | E35: =SUM('7.mell.'!E66) -> 923 | F35: =SUM('7.mell.'!F66) -> 923 | G35: =SUM('7.mell.'!G66) -> 923 | H35: =SUM('7.mell.'!H66) -> 636 | I35: =SUM(H35/G35) -> 0.68905742
A36: 1763 | B36: Dologi kiadások | C36: =SUM('7.mell.'!C67) -> 14000 | D36: =SUM('7.mell.'!D67) -> 15431 | E36: =SUM('7.mell.'!E67) -> 15431 | F36: =SUM('7.mell.'!F67) -> 15431 | G36: =SUM('7.mell.'!G67) -> 15431 | H36: =SUM('7.mell.'!H67) -> 6695 | I36: =SUM(H36/G36) -> 0.43386689
A37: 1764 | B37: Egyéb működési célú kiadások | C37: =SUM('7.mell.'!C68) -> 1405420 | D37: =SUM('7.mell.'!D68) -> 1752101 | E37: =SUM('7.mell.'!E68) -> 1752101 | F37: =SUM('7.mell.'!F68) -> 1770051 | G37: =SUM('7.mell.'!G68) -> 1772051 | H37: =SUM('7.mell.'!H68) -> 1763156 | I37: =SUM(H37/G37) -> 0.99498039
A38: 1765 | B38: Beruházási kiadások | C38: =SUM('7.mell.'!C71) -> 8000 | D38: =SUM('7.mell.'!D71) -> 13000 | E38: =SUM('7.mell.'!E71) -> 13000 | F38: =SUM('7.mell.'!F71) -> 13000 | G38: =SUM('7.mell.'!G71) -> 13000 | H38: =SUM('7.mell.'!H71) -> 4294 | I38: =SUM(H38/G38) -> 0.33030769
A39: 1766 | B39: Egyéb felhalmozási célú kiadások | C39: =SUM('7.mell.'!C72) -> 233000 | D39: =SUM('7.mell.'!D72) -> 428963 | E39: =SUM('7.mell.'!E72) -> 428463 | F39: =SUM('7.mell.'!F72) -> 430213 | G39: =SUM('7.mell.'!G72) -> 428213 | H39: =SUM('7.mell.'!H72) -> 215399 | I39: =SUM(H39/G39) -> 0.50301836
A41: 1770 | B41: Önkormányzati Felújítási kiadások (8. sz. melléklet szerint) | C41: =SUM(C42:C48) -> 3578624 | D41: =SUM(D42:D48) -> 7630749 | E41: =SUM(E42:E48) -> 8030239 | F41: =SUM(F42:F48) -> 8045239 | G41: =SUM(G42:G48) -> 8045239 | H41: =SUM(H42:H48) -> 1760233 | I41: =SUM(H41/G41) -> 0.21879188
A42: 1771 | B42: Személyi juttatások | C42: ='8.mell.'!C106 -> 0 | D42: ='8.mell.'!D106 -> 1256 | E42: ='8.mell.'!E106 -> 1256 | F42: ='8.mell.'!F106 -> 1256 | G42: ='8.mell.'!G106 -> 1256 | H42: ='8.mell.'!H106 -> 1156 | I42: =SUM(H42/G42) -> 0.92038217
A43: 1772 | B43: Munkaadókat terhelő járulékok és szociális hozzájárulási adó | C43: ='8.mell.'!C107 -> 0 | D43: ='8.mell.'!D107 -> 299 | E43: ='8.mell.'!E107 -> 299 | F43: ='8.mell.'!F107 -> 299 | G43: ='8.mell.'!G107 -> 299 | H43: ='8.mell.'!H107 -> 173 | I43: =SUM(H43/G43) -> 0.57859532
A44: 1773 | B44: Dologi kiadások | C44: =SUM('8.mell.'!C108) -> 0 | D44: =SUM('8.mell.'!D108) -> 3857 | E44: =SUM('8.mell.'!E108) -> 61374 | F44: =SUM('8.mell.'!F108) -> 319375 | G44: =SUM('8.mell.'!G108) -> 329676 | H44: =SUM('8.mell.'!H108) -> 48065 | I44: =SUM(H44/G44) -> 0.14579466
A45: 1774 | B45: Egyéb működési célú kiadás | C45: =SUM('8.mell.'!M109) -> 0 | D45: =SUM('8.mell.'!N109) -> 0 | E45: =SUM('8.mell.'!O109) -> 0 | F45: =SUM('8.mell.'!P109) -> 0 | G45: =SUM('8.mell.'!Q109) -> 0 | H45: =SUM('8.mell.'!R109) -> 0
A46: 1775 | B46: Beruházások | C46: =SUM('8.mell.'!C112) -> 0 | D46: =SUM('8.mell.'!D112) -> 92730 | E46: =SUM('8.mell.'!E112) -> 144075 | F46: =SUM('8.mell.'!F112) -> 165625 | G46: =SUM('8.mell.'!G112) -> 174225 | H46: =SUM('8.mell.'!H112) -> 98472 | I46: =SUM(H46/G46) -> 0.56520017
A47: 1776 | B47: Felújítások | C47: =SUM('8.mell.'!C113) -> 3547062 | D47: =SUM('8.mell.'!D113) -> 7501045 | E47: =SUM('8.mell.'!E113) -> 7791673 | F47: =SUM('8.mell.'!F113) -> 7527122 | G47: =SUM('8.mell.'!G113) -> 7507821 | H47: =SUM('8.mell.'!H113) -> 1597548 | I47: =SUM(H47/G47) -> 0.21278451
A48: 1777 | B48: Egyéb felhalmozási célú kiadások | C48: =SUM('8.mell.'!C114) -> 31562 | D48: =SUM('8.mell.'!D114) -> 31562 | E48: =SUM('8.mell.'!E114) -> 31562 | F48: =SUM('8.mell.'!F114) -> 31562 | G48: =SUM('8.mell.'!G114) -> 31962 | H48: =SUM('8.mell.'!H114) -> 14819 | I48: =SUM(H48/G48) -> 0.46364433
A50: 1780 | B50: Önkormányzati Fejlesztési, beruházási kiadások (9. sz. melléklet szerint) | C50: =SUM(C51:C57) -> 4011519 | D50: =SUM(D51:D57) -> 4273728 | E50: =SUM(E51:E57) -> 4271021 | F50: =SUM(F51:F57) -> 4279021 | G50: =SUM(G51:G57) -> 4279021 | H50: =SUM(H51:H57) -> 1280995 | I50: =SUM(H50/G50) -> 0.29936637
A51: 1781 | B51: Személyi juttatások | C51: =SUM('9.mell '!R72) -> 0 | D51: =SUM('9.mell '!S72) -> 0 | E51: ='9.mell '!E72 -> 900 | F51: ='9.mell '!F72 -> 900 | G51: ='9.mell '!G72 -> 900 | H51: ='9.mell '!H72 -> 679
A52: 1782 | B52: Munkaadókat terhelő járulékok és szociális hozzájárulási adó | C52: =SUM('9.mell '!R73) -> 0 | D52: =SUM('9.mell '!S73) -> 0 | E52: ='9.mell '!E73 -> 117 | F52: ='9.mell '!F73 -> 117 | G52: ='9.mell '!G73 -> 117 | H52: ='9.mell '!H73 -> 0
A53: 1783 | B53: Dologi kiadások | C53: =SUM('9.mell '!C74) -> 0 | D53: =SUM('9.mell '!D74) -> 6908 | E53: =SUM('9.mell '!E74) -> 52358 | F53: =SUM('9.mell '!F74) -> 69149 | G53: =SUM('9.mell '!G74) -> 73399 | H53: =SUM('9.mell '!H74) -> 48858 | I53: =SUM(H53/G53) -> 0.6656494
A54: 1784 | B54: Egyéb működési célú kiadás | C54: =SUM('9.mell '!R75) -> 0 | D54: =SUM('9.mell '!S75) -> 0 | E54: =SUM('9.mell '!T75) -> 0 | F54: =SUM('9.mell '!U75) -> 0 | G54: =SUM('9.mell '!V75) -> 0 | H54: =SUM('9.mell '!H75) -> 0
A55: 1785 | B55: Beruházások | C55: =SUM('9.mell '!C79) -> 4011519 | D55: =SUM('9.mell '!D79) -> 4266820 | E55: =SUM('9.mell '!E79) -> 4217646 | F55: =SUM('9.mell '!F79) -> 4181855 | G55: =SUM('9.mell '!G79) -> 4177605 | H55: =SUM('9.mell '!H79) -> 1231458 | I55: =SUM(H55/G55) -> 0.29477607
A56: 1786 | B56: Felújítások
A57: 1787 | B57: Egyéb felhalmozási célú kiadások | C57: ='9.mell '!C80 -> 0 | D57: ='9.mell '!D80 -> 0 | E57: ='9.mell '!E80 -> 0 | F57: ='9.mell '!F80 -> 27000 | G57: ='9.mell '!G80 -> 27000 | H57: ='9.mell '!H80 -> 0 | I57: =SUM(H57/G57) -> 0
A59: 1790 | B59: Felhalmozási célú visszatérítendő tám., kölcsönönök törlesztése államháztartáson belülre
A60: 1795 | B60: Márton 5./a
A62: 1801 | B62: Kamat kiadás, banki költségek, tranzakciós díjak - Dologi kiadások | C62: 65000 | D62: =65000+314 -> 65314 | E62: =65314+38000 -> 103314 | F62: =65314+38000 -> 103314 | G62: =65314+38000+50000 -> 153314 | H62: 113787 | I62: =SUM(H62/G62) -> 0.74218271
A64: 1802 | B64: Fővárosi IPA visszafizetése - Dologi kiadások | C64: 17631 | D64: 17631 | E64: 17631 | F64: 17631 | G64: 17631 | H64: 17631 | I64: =SUM(H64/G64) -> 1
A66: 1803 | B66: Szolidaritási hozzájárulási adó - Egyéb működési célú kiadások | C66: 2745000 | D66: =2745000+389 -> 2745389 | E66: =2745000+389 -> 2745389 | F66: =2745000+389 -> 2745389 | G66: =2745000+389 -> 2745389 | H66: 2745389 | I66: =SUM(H66/G66) -> 1
A68: 1804 | B68: Fizetendő általános forgalmi adó - Dologi kiadások | C68: 250000 | D68: =250000+907119 -> 1157119 | E68: =1157119+14077 -> 1171196 | F68: =1157119+14077 -> 1171196 | G68: =1157119+14077-50000 -> 1121196 | H68: 986816 | I68: =SUM(H68/G68) -> 0.88014584
A70: 1806 | B70: Elvonások és befizetések | C70: =C71 -> 0 | D70: =D71 -> 2468 | E70: =E71 -> 2468 | F70: =F71 -> 2468 | G70: =G71 -> 2468 | H70: =H71 -> 0 | I70: =SUM(H70/G70) -> 0
B71: - Egyéb működési célú kiadások | D71: 2468 | E71: 2468 | F71: 2468 | G71: 2468 | H71: 0 | I71: =SUM(H71/G71) -> 0
A72: 1807 | B72: Elvonások és befizetések | C72: =C73 -> 0 | D72: =D73 -> 0 | E72: =E73 -> 0 | F72: =F73 -> 0 | G72: =G73 -> 0 | H72: =H73 -> 0
B73: - Egyéb felhalmozási célú kiadások
A75: 1809 | B75: Parkolóhely megváltása | C75: =C76 -> 0 | D75: =D76 -> 0 | E75: =E76 -> 0 | F75: =F76 -> 0 | G75: =G76 -> 0 | H75: =H76 -> 0
B76: - Egyéb felhalmozási célú kiadások
A78: 1810 | B78: Területfejlesztési Alap befizetések (IPA adóbevétei többlet miatt) | C78: =C79 -> 0 | D78: =D79 -> 0 | E78: =E79 -> 0 | F78: =F79 -> 0 | G78: =G79 -> 36451 | H78: =H79 -> 36450 | I78: =SUM(H78/G78) -> 0.99997257
B79: - Egyéb működési célú kiadások | G79: 36451 | H79: 36450 | I79: =SUM(H79/G79) -> 0.99997257
A81: 1812 | B81: Általános tartalék - Egyéb működési célú kiadás | C81: =SUM('10.mell. '!C12) -> 116739 | D81: =SUM('10.mell. '!D12) -> 196301 | E81: =SUM('10.mell. '!E12) -> 134926 | F81: =SUM('10.mell. '!F12) -> 100000 | G81: =SUM('10.mell. '!G12) -> 1416582 | H81: 0 | I81: =SUM(H81/G81) -> 0
A82: 1813 | B82: Céltartalék - Egyéb működési célú kiadás | C82: =SUM('10.mell. '!C14) -> 500000 | D82: =SUM('10.mell. '!D14) -> 500000 | E82: =SUM('10.mell. '!E14) -> 814917 | F82: =SUM('10.mell. '!F14) -> 387362 | G82: =SUM('10.mell. '!G14) -> 532170 | H82: 0 | I82: =SUM(H82/G82) -> 0
A83: 1816 | B83: Tartalék összesen | C83: =SUM('10.mell. '!C25) -> 616739 | D83: =SUM('10.mell. '!D25) -> 696301 | E83: =SUM('10.mell. '!E25) -> 949843 | F83: =SUM('10.mell. '!F25) -> 487362 | G83: =SUM('10.mell. '!G25) -> 1948752 | H83: 0 | I83: =SUM(H83/G83) -> 0
B85: Működési költségvetési kiadások
A86: 1821 | B86: Személyi juttatások | C86: =SUM(C12+C24+C34+C42+C51) -> 2914838 | D86: =SUM(D12+D24+D34+D42+D51) -> 3029292 | E86: =SUM(E12+E24+E34+E42+E51) -> 3083844 | F86: =SUM(F12+F24+F34+F42+F51) -> 3285394 | G86: =SUM(G12+G24+G34+G42+G51) -> 3304176 | H86: =SUM(H12+H24+H34+H42+H51) -> 3166516 | I86: =SUM(H86/G86) -> 0.95833757
A87: 1822 | B87: Munkaadókat terhelő járulékok és szociális hozzájárulási adó | C87: =SUM(C13+C25+C35+C43+C52) -> 436803 | D87: =SUM(D13+D25+D35+D43+D52) -> 475364 | E87: =SUM(E13+E25+E35+E43+E52) -> 481907 | F87: =SUM(F13+F25+F35+F43+F52) -> 503221 | G87: =SUM(G13+G25+G35+G43+G52) -> 514507 | H87: =SUM(H13+H25+H35+H43+H52) -> 452352 | I87: =SUM(H87/G87) -> 0.87919504
A88: 1823 | B88: Dologi kiadások | C88: =SUM(C14+C26+C36+C44+C53+C62+C64+C68) -> 5552912 | D88: =SUM(D14+D26+D36+D44+D53+D62+D64+D68) -> 7462803 | E88: =SUM(E14+E26+E36+E44+E53+E62+E64+E68) -> 7672741 | F88: =SUM(F14+F26+F36+F44+F53+F62+F64+F68) -> 8050006 | G88: =SUM(G14+G26+G36+G44+G53+G62+G64+G68) -> 8085182 | H88: =SUM(H14+H26+H36+H44+H53+H62+H64+H68) -> 6358078 | I88: =SUM(H88/G88) -> 0.7863865
A89: 1824 | B89: Ellátottak pénzbeli juttatásai | C89: =SUM(C15+C27) -> 205000 | D89: =SUM(D15+D27) -> 262952 | E89: =SUM(E15+E27) -> 264999 | F89: =SUM(F15+F27) -> 269999 | G89: =SUM(G15+G27) -> 269999 | H89: =SUM(H15+H27) -> 212420 | I89: =SUM(H89/G89) -> 0.78674365
A90: 1825 | B90: Egyéb működési célú kiadások | C90: =SUM(C16+C28+C37+C45+C54+C66+C70+C78+C81+C82) -> 4842759 | D90: =SUM(D16+D28+D37+D45+D54+D66+D70+D78+D81+D82) -> 5319247 | E90: =SUM(E16+E28+E37+E45+E54+E66+E70+E78+E81+E82) -> 5578032 | F90: =SUM(F16+F28+F37+F45+F54+F66+F70+F78+F81+F82) -> 5150971 | G90: =SUM(G16+G28+G37+G45+G54+G66+G70+G78+G81+G82) -> 6652062 | H90: =SUM(H16+H28+H37+H45+H54+H66+H70+H78+H81+H82) -> 4661105 | I90: =SUM(H90/G90) -> 0.70070078
B91: ebből tartalék: | C91: =SUM(C83) -> 616739 | D91: =SUM(D83) -> 696301 | E91: =SUM(E83) -> 949843 | F91: =SUM(F83) -> 487362 | G91: =SUM(G83) -> 1948752 | H91: =SUM(H83) -> 0 | I91: =SUM(H91/G91) -> 0
A92: 1820 | B92: Működési költségvetési kiadások mindösszesen | C92: =SUM(C86:C91)-C91 -> 13952312 | D92: =SUM(D86:D91)-D91 -> 16549658 | E92: =SUM(E86:E91)-E91 -> 17081523 | F92: =SUM(F86:F91)-F91 -> 17259591 | G92: =SUM(G86:G91)-G91 -> 18825926 | H92: =SUM(H86:H91)-H91 -> 14850471 | I92: =SUM(H92/G92) -> 0.78883084
B94: Felhalmozási költségvetési kiadások
A95: 1831 | B95: Beruházások | C95: =SUM(C17+C29+C46+C55+C38) -> 4258919 | D95: =SUM(D17+D29+D46+D55+D38) -> 4726510 | E95: =SUM(E17+E29+E46+E55+E38) -> 4757041 | F95: =SUM(F17+F29+F46+F55+F38) -> 4801779 | G95: =SUM(G17+G29+G46+G55+G38) -> 4760614 | H95: =SUM(H17+H29+H46+H55+H38) -> 1537209 | I95: =SUM(H95/G95) -> 0.32290142
A96: 1832 | B96: Felújítások | C96: =SUM(C18+C30+C47+C56) -> 3608062 | D96: =SUM(D18+D30+D47+D56) -> 7562045 | E96: =SUM(E18+E30+E47+E56) -> 7852673 | F96: =SUM(F18+F30+F47+F56) -> 7588122 | G96: =SUM(G18+G30+G47+G56) -> 7585921 | H96: =SUM(H18+H30+H47+H56) -> 1662342 | I96: =SUM(H96/G96) -> 0.21913516
A97: 1833 | B97: Egyéb felhalmozási célú kiadások | C97: =SUM(C31+C48+C39+C57+C59+C19+C72+C75) -> 1730691 | D97: =SUM(D31+D48+D39+D57+D59+D19+D72+D75) -> 2316754 | E97: =SUM(E31+E48+E39+E57+E59+E19+E72+E75) -> 2323694 | F97: =SUM(F31+F48+F39+F57+F59+F19+F72+F75) -> 2554212 | G97: =SUM(G31+G48+G39+G57+G59+G19+G72+G75) -> 2553612 | H97: =SUM(H31+H48+H39+H57+H59+H19+H72+H75) -> 1736341 | I97: =SUM(H97/G97) -> 0.6799549
A98: 1830 | B98: Felhalmozási költségvetés kiadások mindösszesen | C98: =SUM(C95:C97) -> 9597672 | D98: =SUM(D95:D97) -> 14605309 | E98: =SUM(E95:E97) -> 14933408 | F98: =SUM(F95:F97) -> 14944113 | G98: =SUM(G95:G97) -> 14900147 | H98: =SUM(H95:H97) -> 4935892 | I98: =SUM(H98/G98) -> 0.33126465
A100: 1842 | B100: Tárgyévi finanszírozási megelőlegezések | D100: 255701 | E100: =255701+1135230 -> 1390931 | F100: =255701+1135230+447339 -> 1838270 | G100: =255701+1135230+447339+107465+171460 -> 2117195 | H100: 1945734 | I100: =SUM(H100/G100) -> 0.91901502
A101: 1843 | B101: Államháztartáson belüli megelőlegezések visszafizetése | C101: 138592 | D101: 138592 | E101: 138592 | F101: 138592 | G101: =138592 -> 138592 | H101: 138592 | I101: =SUM(H101/G101) -> 1
A102: 1844 | B102: Belföldi értékpapírok kiadásai | G102: 15500000 | H102: 15500000 | I102: =SUM(H102/G102) -> 1
A103: 1845 | B103: Irányító szervi támogatás folyosítása | C103: =SUM(C104:C106) -> 13247915 | D103: =SUM(D104:D106) -> 14494193 | E103: =SUM(E104:E106) -> 14620378 | F103: =SUM(F104:F106) -> 15081258 | G103: =SUM(G104:G106) -> 15144194 | H103: =SUM(H104:H106) -> 13831838 | I103: =SUM(H103/G103) -> 0.91334263
A104: 1846 | B104: Költségvetési szervek támogatása | C104: =SUM('4.mell.'!C744) -> 8677395 | D104: =SUM('4.mell.'!D744) -> 9858544 | E104: =SUM('4.mell.'!E744) -> 9984729 | F104: =SUM('4.mell.'!F744) -> 10208165 | G104: =SUM('4.mell.'!G744) -> 10249786 | H104: =SUM('4.mell.'!H744) -> 9233925 | I104: =SUM(H104/G104) -> 0.90088954
A105: 1847 | B105: Költségvetési szervek étkezés támogatása | C105: =SUM('4.mell.'!C745) -> 743572 | D105: =SUM('4.mell.'!D745) -> 743572 | E105: =SUM('4.mell.'!E745) -> 743572 | F105: =SUM('4.mell.'!F745) -> 746212 | G105: =SUM('4.mell.'!G745) -> 746212 | H105: =SUM('4.mell.'!H745) -> 698402 | I105: =SUM(H105/G105) -> 0.93592974
A106: 1849 | B106: Polgármesteri Hivatal támogatása | C106: =SUM('2.mell. '!C161) -> 3826948 | D106: =SUM('2.mell. '!D161) -> 3892077 | E106: =SUM('2.mell. '!E161) -> 3892077 | F106: =SUM('2.mell. '!F161) -> 4126881 | G106: =SUM('2.mell. '!G161) -> 4148196 | H106: =SUM('2.mell. '!H161) -> 3899511 | I106: =SUM(H106/G106) -> 0.94004984
A107: 1840 | B107: Működési finanszírozási kiadások | C107: =SUM(C103+C101+C102)+C100 -> 13386507 | D107: =SUM(D103+D101+D102)+D100 -> 14888486 | E107: =SUM(E103+E101+E102)+E100 -> 16149901 | F107: =SUM(F103+F101+F102)+F100 -> 17058120 | G107: =SUM(G103+G101+G102)+G100 -> 32899981 | H107: =SUM(H103+H101+H102)+H100 -> 31416164 | I107: =SUM(H107/G107) -> 0.95489915
A109: 1851 | B109: Hitel-, kölcsön törlesztése államháztartáson kívülre
A110: 1865 | B110: Felhalmozási finanszírozási kiadások | C110: =SUM(C109) -> 0 | D110: =SUM(D109) -> 0 | E110: =SUM(E109) -> 0 | F110: =SUM(F109) -> 0 | G110: =SUM(G109) -> 0 | H110: =SUM(H109) -> 0
A112: 1870 | B112: PH és Önkormányzat költségvetési kiadásai mindössz: | C112: =SUM(C110+C107+C98+C92) -> 36936491 | D112: =SUM(D110+D107+D98+D92) -> 46043453 | E112: =SUM(E110+E107+E98+E92) -> 48164832 | F112: =SUM(F110+F107+F98+F92) -> 49261824 | G112: =SUM(G110+G107+G98+G92) -> 66626054 | H112: =SUM(H110+H107+H98+H92) -> 51202527 | I112: =SUM(H112/G112) -> 0.76850607
B114: III. Költségvetési szervek kiadásai (4.sz.melléklet szerint)
B116: Működési költségvetési kiadások
A117: 1911 | B117: Személyi juttatások | C117: =SUM('4.mell.'!C750) -> 7696816 | D117: =SUM('4.mell.'!D750) -> 7804978 | E117: =SUM('4.mell.'!E750) -> 7909916 | F117: =SUM('4.mell.'!F750) -> 8143069 | G117: =SUM('4.mell.'!G750) -> 8142837 | H117: =SUM('4.mell.'!H750) -> 8046165 | I117: =SUM(H117/G117) -> 0.98812797
A118: 1912 | B118: Munkaadókat terhelő járulékok és szociális hozzájárulási adó | C118: =SUM('4.mell.'!C751) -> 950917 | D118: =SUM('4.mell.'!D751) -> 984539 | E118: =SUM('4.mell.'!E751) -> 998398 | F118: =SUM('4.mell.'!F751) -> 1030169 | G118: =SUM('4.mell.'!G751) -> 1036682 | H118: =SUM('4.mell.'!H751) -> 971608 | I118: =SUM(H118/G118) -> 0.93722858
A119: 1913 | B119: Dologi kiadások | C119: =SUM('4.mell.'!C752) -> 3255076 | D119: =SUM('4.mell.'!D752) -> 3853876 | E119: =SUM('4.mell.'!E752) -> 3921523 | F119: =SUM('4.mell.'!F752) -> 3977307 | G119: =SUM('4.mell.'!G752) -> 4180554 | H119: =SUM('4.mell.'!H752) -> 3319470 | I119: =SUM(H119/G119) -> 0.79402634
A120: 1915 | B120: Ellátottak pénzbeli juttatási | C120: =SUM('4.mell.'!C753) -> 345 | D120: =SUM('4.mell.'!D753) -> 345 | E120: =SUM('4.mell.'!E753) -> 345 | F120: =SUM('4.mell.'!F753) -> 345 | G120: =SUM('4.mell.'!G753) -> 345 | H120: =SUM('4.mell.'!H753) -> 252 | I120: =SUM(H120/G120) -> 0.73043478
A121: 1916 | B121: Egyéb működési célú kiadások | C121: =SUM('4.mell.'!C754) -> 0 | D121: =SUM('4.mell.'!D754) -> 69 | E121: =SUM('4.mell.'!E754) -> 971 | F121: =SUM('4.mell.'!F754) -> 971 | G121: =SUM('4.mell.'!G754) -> 971 | H121: =SUM('4.mell.'!H754) -> 971 | I121: =SUM(H121/G121) -> 1
A122: 1910 | B122: Működési költségvetési kiadások mindösszesen | C122: =SUM(C117:C121) -> 11903154 | D122: =SUM(D117:D121) -> 12643807 | E122: =SUM(E117:E121) -> 12831153 | F122: =SUM(F117:F121) -> 13151861 | G122: =SUM(G117:G121) -> 13361389 | H122: =SUM(H117:H121) -> 12338466 | I122: =SUM(H122/G122) -> 0.92344187
B123: Felhalmozási költségvetési kiadások
A124: 1921 | B124: Beruházások | C124: =SUM('4.mell.'!C756) -> 348171 | D124: =SUM('4.mell.'!D756) -> 657889 | E124: =SUM('4.mell.'!E756) -> 648910 | F124: =SUM('4.mell.'!F756) -> 579543 | G124: =SUM('4.mell.'!G756) -> 667323 | H124: =SUM('4.mell.'!H756) -> 465195 | I124: =SUM(H124/G124) -> 0.6971062
...

Sheet 4.mell.
A1: 4. melléklet
A2: Költségvetési szervek 2025. évi költségvetése
I4: adatok eFt-ban
A5: Sorsz. | B5: Megnevezés | C5: 2025. évi előirányzat 5/2025. | D5: 2025. évi előirányzat 14/2025. | E5: 2025. évi előirányzat 18/2025. | F5: 2025. évi előirányzat 22/2025. | G5: 2025. évi előirányzat 1/2026. | H5: 2025. évi I-XII. havi teljesítés /2026. | I5: Index 8./7.
A8: 1. | B8: 2. | C8: 3. | D8: 4. | E8: 5. | F8: 6. | G8: 7. | H8: 8. | I8: 9.
A9: 2305 | B9: Csicsergő Óvoda /Thaly K. u. 38./
B10: Elvonások és befizetések bevételei
B11: Egyéb működési célú támogatások bevételei Áh-n belülről | F11: 1050 | G11: =1050+500 -> 1550 | H11: 1550 | I11: =H11/G11 -> 1
B12: Működési célú támogatások Áh-n belülről összesen | F12: 1050 | G12: =1050+500 -> 1550 | H12: =SUM(H10:H11) -> 1550 | I12: =H12/G12 -> 1
B13: Szolgáltatások ellenértéke
B14: Egyéb szolgáltatás
B15: Bérleti díjak
B16: Közvetített szolgáltatások ellenértéke
B17: Ellátási díjak
B18: Kiszámlázott általános forgalmi adó
B19: Kamatbevételek és más nyereségjelegű bevételek
B20: Egyéb működési bevételek | D20: 115 | E20: 115 | F20: 115 | G20: =115+5 -> 120 | H20: 120 | I20: =H20/G20 -> 1
B21: Működési bevételek összesen | D21: 115 | E21: 115 | F21: 115 | G21: =115+5 -> 120 | H21: =SUM(H14:H20) -> 120 | I21: =H21/G21 -> 1
B22: Egyéb működési célú átvett pénzeszköz
B23: Működési költségvetési bevételek mindösszesen | D23: 115 | E23: 115 | F23: =115+1050 -> 1165 | G23: =G12+G21 -> 1670 | H23: =H12+H21 -> 1670 | I23: =H23/G23 -> 1
B24: Egyéb felhalmozási célú támogatások bevételei államháztartáson belülről
B25: Felhalmozási költségvetési bevételek mindösszesen
B26: Előző év költségvetési maradványának igénybevétele | D26: 1500 | E26: 1500 | F26: 1500 | G26: 1500 | H26: 1500 | I26: =H26/G26 -> 1
B27: Irányító szervi támogatás | C27: 309566 | D27: =309566+1353 -> 310919 | E27: =310919+1535 -> 312454 | F27: =310919+1535+14814 -> 327268 | G27: =310919+1535+14814 -> 327268 | H27: 317448 | I27: =H27/G27 -> 0.96999401
B28: Működési finanszírozási bevételek | C28: =SUM(C26:C27) -> 309566 | D28: =SUM(D26:D27) -> 312419 | E28: =SUM(E26:E27) -> 313954 | F28: =SUM(F26:F27) -> 328768 | G28: =SUM(G26:G27) -> 328768 | H28: =SUM(H26:H27) -> 318948 | I28: =H28/G28 -> 0.97013091
B29: Előző év költségvetési maradványának igénybevétele
B30: Felhalmozási finanszírozási bevételek
B31: Bevételek mindösszesen | C31: =SUM(C23+C25+C28+C30) -> 309566 | D31: =SUM(D23+D25+D28+D30) -> 312534 | E31: =SUM(E23+E25+E28+E30) -> 314069 | F31: =SUM(F23+F25+F28+F30) -> 329933 | G31: =SUM(G23+G25+G28+G30) -> 330438 | H31: =SUM(H23+H25+H28+H30) -> 320618 | I31: =H31/G31 -> 0.97028187
B32: Személyi juttatások | C32: 261925 | D32: =261925+202 -> 262127 | E32: =262127+960 -> 263087 | F32: =262127+960+14814 -> 277901 | G32: =262127+960+14814 -> 277901 | H32: 274728 | I32: =H32/G32 -> 0.98858226
B33: Munkaadókat terhelő járulékok és szociális hozzájárulási adó | C33: 39353 | D33: =39353+1022 -> 40375 | E33: =40375+125 -> 40500 | F33: =40375+125 -> 40500 | G33: =40375+125 -> 40500 | H33: 36386 | I33: =H33/G33 -> 0.89841975
B34: Dologi kiadások | C34: 6472 | D34: =6472+276+1353+115 -> 8216 | E34: =6472+276+1353+115 -> 8216 | F34: =6472+276+1353+115+1050 -> 9266 | G34: =6472+276+1353+115+1050+505 -> 9771 | H34: 4989 | I34: =H34/G34 -> 0.51059257
B35: Ellátottak pénzbeli juttatásai
B36: Egyéb működési célú kiadások
B37: Működési költségvetési kiadások mindösszesen | C37: =SUM(C32:C36) -> 307750 | D37: =SUM(D32:D36) -> 310718 | E37: =SUM(E32:E36) -> 311803 | F37: =SUM(F32:F36) -> 327667 | G37: =SUM(G32:G36) -> 328172 | H37: =SUM(H32:H36) -> 316103 | I37: =H37/G37 -> 0.96322355
B38: Beruházások (bútorok, berendezési tárgyak) | C38: 1816 | D38: 1816 | E38: =1816+450 -> 2266 | F38: =1816+450 -> 2266 | G38: =1816+450 -> 2266 | H38: 1619 | I38: =H38/G38 -> 0.71447485
B39: Felújítások
B40: Egyéb felhalmozási célú kiadások
B41: Felhalmozási költségvetési kiadások mindösszesen | C41: =SUM(C38:C40) -> 1816 | D41: =SUM(D38:D40) -> 1816 | E41: =SUM(E38:E40) -> 2266 | F41: =SUM(F38:F40) -> 2266 | G41: =SUM(G38:G40) -> 2266 | H41: =SUM(H38:H40) -> 1619 | I41: =H41/G41 -> 0.71447485
B42: Kiadások mindösszesen | C42: =SUM(C37+C41) -> 309566 | D42: =SUM(D37+D41) -> 312534 | E42: =SUM(E37+E41) -> 314069 | F42: =SUM(F37+F41) -> 329933 | G42: =SUM(G37+G41) -> 330438 | H42: =SUM(H37+H41) -> 317722 | I42: =H42/G42 -> 0.96151774
A43: 2309 | B43: Csudafa Óvoda /Óbester u. 9./
B44: Elvonások és befizetések bevételei
B45: Egyéb működési célú támogatások bevételei Áh-n belülről | F45: 700 | G45: =700+130 -> 830 | H45: 830 | I45: =H45/G45 -> 1
B46: Működési célú támogatások Áh-n belülről összesen | F46: 700 | G46: =700+130 -> 830 | H46: =SUM(H45) -> 830 | I46: =H46/G46 -> 1
B47: Szolgáltatások ellenértéke
B48: Egyéb szolgáltatás
B49: Bérleti díjak
B50: Közvetített szolgáltatások ellenértéke
B51: Ellátási díjak
B52: Kiszámlázott általános forgalmi adó
B53: Általános forgalmi adó visszatérítése
B54: Kamatbevételek és más nyereségjelegű bevételek
B55: Egyéb működési bevételek
B56: Működési bevételek összesen
B57: Egyéb működési célú átvett pénzeszköz
B58: Működési költségvetési bevételek mindösszesen | F58: 700 | G58: =700+130 -> 830 | H58: =H56+H46 -> 830 | I58: =H58/G58 -> 1
B59: Egyéb felhalmozási célú támogatások bevételei államháztartáson belülről
B60: Felhalmozási költségvetési bevételek mindösszesen
B61: Előző év költségvetési maradványának igénybevétele | D61: 1032 | E61: 1032 | F61: 1032 | G61: 1032 | H61: 1032 | I61: =H61/G61 -> 1
B62: Irányító szervi támogatás | C62: 304509 | D62: =304509+808+7600 -> 312917 | E62: =312917+1085 -> 314002 | F62: =312917+1085+8341 -> 322343 | G62: =312917+1085+8341 -> 322343 | H62: 312098 | I62: =H62/G62 -> 0.96821709
B63: Működési finanszírozási bevételek | C63: =SUM(C61:C62) -> 304509 | D63: =SUM(D61:D62) -> 313949 | E63: =SUM(E61:E62) -> 315034 | F63: =SUM(F61:F62) -> 323375 | G63: =SUM(G61:G62) -> 323375 | H63: =SUM(H61:H62) -> 313130 | I63: =H63/G63 -> 0.96831852
B64: Előző év költségvetési maradványának igénybevétele
B65: Felhalmozási finanszírozási bevételek
B66: Bevételek mindösszesen | C66: =SUM(C58+C60+C63+C65) -> 304509 | D66: =SUM(D58+D60+D63+D65) -> 313949 | E66: =SUM(E58+E60+E63+E65) -> 315034 | F66: =SUM(F58+F60+F63+F65) -> 324075 | G66: =SUM(G58+G60+G63+G65) -> 324205 | H66: =SUM(H58+H60+H63+H65) -> 313960 | I66: =H66/G66 -> 0.96839962
B67: Személyi juttatások | C67: 257442 | D67: =257442+153+6436 -> 264031 | E67: =264031+960 -> 264991 | F67: =264031+960+8341 -> 273332 | G67: =264031+960+8341 -> 273332 | H67: 269447 | I67: =H67/G67 -> 0.98578652
B68: Munkaadókat terhelő járulékok és szociális hozzájárulási adó | C68: 38291 | D68: =38291+842+1164 -> 40297 | E68: =40297+125 -> 40422 | F68: =40297+125 -> 40422 | G68: =40297+125 -> 40422 | H68: 34885 | I68: =H68/G68 -> 0.86302014
B69: Dologi kiadások | C69: 5982 | D69: =5982+37+808 -> 6827 | E69: =5982+37+808 -> 6827 | F69: =5982+37+808+700 -> 7527 | G69: =5982+37+808+700+130 -> 7657 | H69: 6787 | I69: =H69/G69 -> 0.88637848
B70: Ellátottak pénzbeli juttatásai
B71: Egyéb működési célú kiadások
B72: Működési költségvetési kiadások mindösszesen | C72: =SUM(C67:C71) -> 301715 | D72: =SUM(D67:D71) -> 311155 | E72: =SUM(E67:E71) -> 312240 | F72: =SUM(F67:F71) -> 321281 | G72: =SUM(G67:G71) -> 321411 | H72: =SUM(H67:H71) -> 311119 | I72: =H72/G72 -> 0.96797869
B73: Beruházások (bútorok, berendezési tárgyak) | C73: 2794 | D73: 2794 | E73: 2794 | F73: 2794 | G73: 2794 | H73: 1966 | I73: =H73/G73 -> 0.70365068
B74: Felújítások
B75: Egyéb felhalmozási célú kiadások
B76: Felhalmozási költségvetési kiadások mindösszesen | C76: =SUM(C73:C75) -> 2794 | D76: =SUM(D73:D75) -> 2794 | E76: =SUM(E73:E75) -> 2794 | F76: =SUM(F73:F75) -> 2794 | G76: =SUM(G73:G75) -> 2794 | H76: =SUM(H73:H75) -> 1966 | I76: =H76/G76 -> 0.70365068
B77: Kiadások mindösszesen | C77: =SUM(C72+C76) -> 304509 | D77: =SUM(D72+D76) -> 313949 | E77: =SUM(E72+E76) -> 315034 | F77: =SUM(F72+F76) -> 324075 | G77: =SUM(G72+G76) -> 324205 | H77: =SUM(H72+H76) -> 313085 | I77: =H77/G77 -> 0.96570071
A78: 2310 | B78: Epres Óvoda /Epreserdő u. 10./
B79: Elvonások és befizetések bevételei
B80: Egyéb működési célú támogatások bevételei Áh-n belülről | F80: 1590 | G80: =1590+80 -> 1670 | H80: 1670 | I80: =H80/G80 -> 1
B81: Működési célú támogatások Áh-n belülről összesen | F81: 1590 | G81: =1590+80 -> 1670 | H81: =SUM(H80) -> 1670 | I81: =H81/G81 -> 1
B82: Szolgáltatások ellenértéke
B83: Egyéb szolgáltatás
B84: Bérleti díjak
B85: Közvetített szolgáltatások ellenértéke
B86: Ellátási díjak
B87: Kiszámlázott általános forgalmi adó
B88: Kamatbevételek és más nyereségjelegű bevételek
B89: Egyéb működési bevételek | G89: 1 | H89: 1 | I89: =H89/G89 -> 1
B90: Működési bevételek összesen | G90: 1 | H90: =SUM(H83:H89) -> 1 | I90: =H90/G90 -> 1
B91: Egyéb működési célú átvett pénzeszköz
B92: Működési költségvetési bevételek mindösszesen | F92: 1590 | G92: =1590+81 -> 1671 | H92: =H81+H90 -> 1671 | I92: =H92/G92 -> 1
B93: Egyéb felhalmozási célú támogatások bevételei államháztartáson belülről | F93: 300 | G93: 300 | H93: 300 | I93: =H93/G93 -> 1
B94: Felhalmozási költségvetési bevételek mindösszesen | F94: 300 | G94: 300 | H94: =H93 -> 300 | I94: =H94/G94 -> 1
B95: Előző év költségvetési maradványának igénybevétele | D95: 100 | E95: 100 | F95: 100 | G95: 100 | H95: 100 | I95: =H95/G95 -> 1
B96: Irányító szervi támogatás | C96: 147465 | D96: =147465+807+10493 -> 158765 | E96: =158765+1375 -> 160140 | F96: =158765+1375+6951 -> 167091 | G96: =158765+1375+6951 -> 167091 | H96: 160546 | I96: =H96/G96 -> 0.96082973
B97: Működési finanszírozási bevételek | C97: =SUM(C95:C96) -> 147465 | D97: =SUM(D95:D96) -> 158865 | E97: =SUM(E95:E96) -> 160240 | F97: =SUM(F95:F96) -> 167191 | G97: =SUM(G95:G96) -> 167191 | H97: =SUM(H95:H96) -> 160646 | I97: =H97/G97 -> 0.96085316
B98: Előző év költségvetési maradványának igénybevétele
B99: Felhalmozási finanszírozási bevételek
B100: Bevételek mindösszesen | C100: =SUM(C92+C94+C97+C99) -> 147465 | D100: =SUM(D92+D94+D97+D99) -> 158865 | E100: =SUM(E92+E94+E97+E99) -> 160240 | F100: =SUM(F92+F94+F97+F99) -> 169081 | G100: =SUM(G92+G94+G97+G99) -> 169162 | H100: =SUM(H92+H94+H97+H99) -> 162617 | I100: =H100/G100 -> 0.96130928
B101: Személyi juttatások | C101: 123659 | D101: =123659+80+400+9286 -> 133425 | E101: =133425+420 -> 133845 | F101: =133425+420+6951 -> 140796 | G101: =133425+420+6951 -> 140796 | H101: 137467 | I101: =H101/G101 -> 0.97635586
B102: Munkaadókat terhelő járulékok és szociális hozzájárulási adó | C102: 16643 | D102: =16643+20+275+1207 -> 18145 | E102: =18145+55 -> 18200 | F102: =18145+55 -> 18200 | G102: =18145+55 -> 18200 | H102: 15597 | I102: =H102/G102 -> 0.85697802
B103: Dologi kiadások | C103: 4369 | D103: =4369+132 -> 4501 | E103: =4369+132 -> 4501 | F103: =4369+132+1590 -> 6091 | G103: =4369+132+1590+81 -> 6172 | H103: 3714 | I103: =H103/G103 -> 0.60174984
...

Sheet 5.mell.
A1: 5. melléklet
A2: A Polgármesteri Hivatal kiadásai 2025.
I3: adatok eFt-ban
C4: 2025. évi előirányzat 5/2025. | D4: 2025. évi előirányzat 14/2025. | E4: 2025. évi előirányzat 18/2025. | F4: 2025. évi előirányzat 22/2025. | G4: 2025. évi előirányzat 1/2026. | H4: 2025. évi I-XII. havi teljesítés /2026. | I4: Index 8./7.
A5: Sorsz. | B5: Kiadás megnevezése
A7: 1. | B7: 2. | C7: 3. | D7: 4. | E7: 5. | F7: 6. | G7: 7. | H7: 8. | I7: 9.
A8: 3010 | B8: Üdülőhelyi szálláshely szolgáltatás | C8: =SUM(C18) -> 68450 | D8: =SUM(D18) -> 71403 | E8: =SUM(E18) -> 71403 | F8: =SUM(F18) -> 88903 | G8: =SUM(G18) -> 88903 | H8: =SUM(H18) -> 69741 | I8: =H8/G8 -> 0.78446172
A9: 3011 | B9: Balatonszéplaki Üdülő
B10: Személyi juttatások | C10: 3000 | D10: =3000+494 -> 3494 | E10: =3494+2000 -> 5494 | F10: =3494+2000 -> 5494 | G10: =3494+2000 -> 5494 | H10: 4436 | I10: =H10/G10 -> 0.80742628
B11: Munkaadókat terhelő jár. és szociális hozzájár.adó | C11: 450 | D11: =450+25 -> 475 | E11: =475+260 -> 735 | F11: =475+260 -> 735 | G11: =475+260 -> 735 | H11: 662 | I11: =H11/G11 -> 0.90068027
B12: Dologi kiadások és egyéb folyó kiadások | C12: 16000 | D12: =16000+2434 -> 18434 | E12: =18434-2260 -> 16174 | F12: =18434-2260 -> 16174 | G12: =18434-2260 -> 16174 | H12: 6014 | I12: =H12/G12 -> 0.37183133
B13: Ellátottak pénzbeli juttatásai
B14: Egyéb működési célú kiadások
B15: Beruházások | C15: 13000 | D15: 13000 | E15: 13000 | F15: =13000+2000 -> 15000 | G15: =13000+2000-4000 -> 11000 | H15: 3260 | I15: =H15/G15 -> 0.29636364
B16: Felújítások | C16: 36000 | D16: 36000 | E16: 36000 | F16: =36000+15500 -> 51500 | G16: =36000+15500+4000 -> 55500 | H16: 55369 | I16: =H16/G16 -> 0.99763964
B17: Egyéb felhalmozási célú kiadások
B18: Költségvetési kiadások | C18: =SUM(C10:C17) -> 68450 | D18: =SUM(D10:D17) -> 71403 | E18: =SUM(E10:E17) -> 71403 | F18: =SUM(F10:F17) -> 88903 | G18: =SUM(G10:G17) -> 88903 | H18: =SUM(H10:H17) -> 69741 | I18: =H18/G18 -> 0.78446172
A19: 3020 | B19: Általános közszolgáltatások | C19: =SUM(C29+C49) -> 3832608 | D19: =SUM(D29+D49) -> 4269039 | E19: =SUM(E29+E49) -> 4269039 | F19: =SUM(F29+F49) -> 4486343 | G19: =SUM(G29+G49) -> 4507658 | H19: =SUM(H29+H49) -> 4029893 | I19: =H19/G19 -> 0.89401037
A20: 3021 | B20: Polgármesteri Hivatal igazgatási kiadásai
B21: Személyi juttatások | C21: 2560391 | D21: =2560391+101600 -> 2661991 | E21: =2560391+101600 -> 2661991 | F21: =2560391+101600+210000 -> 2871991 | G21: =2560391+101600+210000+13600+988+17874 -> 2904453 | H21: =2780664+988+17874 -> 2799526 | I21: =H21/G21 -> 0.96387375
B22: Munkaadókat terhelő jár. és szociális hozzájár.adó | C22: 383879 | D22: =383879+30181 -> 414060 | E22: =383879+30181 -> 414060 | F22: =383879+30181+24804 -> 438864 | G22: =383879+30181+24804+11000+129+2324 -> 452317 | H22: =400732+129+2323 -> 403184 | I22: =H22/G22 -> 0.89137485
B23: Dologi kiadások és egyéb folyó kiadások | C23: 490000 | D23: =490000+81222+93479 -> 664701 | E23: =490000+81222+93479 -> 664701 | F23: =490000+81222+93479-48175 -> 616526 | G23: =490000+81222+93479-48175+24000 -> 640526 | H23: 505386 | I23: =H23/G23 -> 0.78901715
B24: Ellátottak pénzbeli juttatásai
B25: Egyéb működési célú kiadások
B26: Beruházások | C26: 150000 | D26: =150000+2026 -> 152026 | E26: =150000+2026 -> 152026 | F26: =150000+2026-2000 -> 150026 | G26: =150000+2026-2000-61700 -> 88326 | H26: 38424 | I26: =H26/G26 -> 0.43502479
B27: Felújítások | C27: 25000 | D27: 25000 | E27: 25000 | F27: =25000-15500 -> 9500 | G27: =25000-15500+13100 -> 22600 | H27: 9425 | I27: =H27/G27 -> 0.4170354
B28: Egyéb felhalmozási célú kiadások - Munkáltatói kölcsön | C28: 3000 | D28: =3000+1000 -> 4000 | E28: =3000+1000 -> 4000 | F28: =3000+1000 -> 4000 | G28: =3000+1000 -> 4000 | H28: 1000 | I28: =H28/G28 -> 0.25
B29: Költségvetési kiadások | C29: =SUM(C21:C28) -> 3612270 | D29: =SUM(D21:D28) -> 3921778 | E29: =SUM(E21:E28) -> 3921778 | F29: =SUM(F21:F28) -> 4090907 | G29: =SUM(G21:G28) -> 4112222 | H29: =SUM(H21:H28) -> 3756945 | I29: =H29/G29 -> 0.91360462
A30: 3027 | B30: EU-s és önkormányzati választás
B31: Személyi juttatások | G31: 885 | H31: 885 | I31: =H31/G31 -> 1
B32: Munkaadókat terhelő jár. és szociális hozzájár.adó | G32: 114 | H32: 114 | I32: =H32/G32 -> 1
B33: Dologi kiadások és egyéb folyó kiadások
B34: Ellátottak pénzbeli juttatásai
B35: Egyéb működési célú kiadások
B36: Beruházások
B37: Felújítások
B38: Egyéb felhalmozási célú kiadások
B39: Költségvetési kiadások | G39: =G31+G32 -> 999 | H39: =H31+H32 -> 999 | I39: =H39/G39 -> 1
A40: 3026 | B40: Informatikai működés és fejlesztés
B41: Személyi juttatások
B42: Munkaadókat terhelő jár. és szociális hozzájár.adó
B43: Dologi kiadások és egyéb folyó kiadások | C43: 170338 | D43: =170338+24139+43754 -> 238231 | E43: =238231-10000 -> 228231 | F43: =238231-10000-13500+25418 -> 240149 | G43: =238231-10000-13500+25418 -> 240149 | H43: 153172 | I43: =H43/G43 -> 0.63782069
B44: Ellátottak pénzbeli juttatásai
B45: Egyéb működési célú kiadások
B46: Beruházások | C46: 50000 | D46: =50000+41530+17500 -> 109030 | E46: =109030+10000 -> 119030 | F46: =109030+10000+13500+22757 -> 155287 | G46: =109030+10000+13500+22757 -> 155287 | H46: 119776 | I46: =H46/G46 -> 0.7713202
B47: Felújítások
B48: Egyéb felhalmozási célú kiadások
B49: Költségvetési kiadások | C49: =SUM(C40:C46) -> 220338 | D49: =SUM(D40:D46) -> 347261 | E49: =SUM(E40:E46) -> 347261 | F49: =SUM(F40:F46) -> 395436 | G49: =SUM(G40:G46) -> 395436 | H49: =SUM(H40:H46) -> 272948 | I49: =H49/G49 -> 0.6902457
A50: 3000 | B50: Polgármesteri Hivatal összesen:
B51: Működési költségvetési kiadások
B52: Személyi juttatások | C52: =SUM(C21+C10+C31) -> 2563391 | D52: =SUM(D21+D10+D31) -> 2665485 | E52: =SUM(E21+E10+E31) -> 2667485 | F52: =SUM(F21+F10+F31) -> 2877485 | G52: =SUM(G21+G10+G31) -> 2910832 | H52: =SUM(H21+H10+H31) -> 2804847 | I52: =H52/G52 -> 0.96358945
B53: Munkaadókat terhelő jár. és szociális hozzájár.adó | C53: =SUM(C22+C11+C32) -> 384329 | D53: =SUM(D22+D11+D32) -> 414535 | E53: =SUM(E22+E11+E32) -> 414795 | F53: =SUM(F22+F11+F32) -> 439599 | G53: =SUM(G22+G11+G32) -> 453166 | H53: =SUM(H22+H11+H32) -> 403960 | I53: =H53/G53 -> 0.89141727
B54: Dologi kiadások | C54: =SUM(C23+C12+C33)+C43 -> 676338 | D54: =SUM(D23+D12+D33)+D43 -> 921366 | E54: =SUM(E23+E12+E33)+E43 -> 909106 | F54: =SUM(F23+F12+F33)+F43 -> 872849 | G54: =SUM(G23+G12+G33)+G43 -> 896849 | H54: =SUM(H23+H12+H33)+H43 -> 664572 | I54: =H54/G54 -> 0.74100768
B55: Ellátottak pénzbeli juttatásai | C55: =SUM(C24+C13+C34) -> 0 | D55: =SUM(D24+D13+D34) -> 0 | E55: =SUM(E24+E13+E34) -> 0 | F55: =SUM(F24+F13+F34) -> 0 | G55: =SUM(G24+G13+G34) -> 0 | H55: =SUM(H24+H13+H34) -> 0
B56: Egyéb működési célú kiadások
B57: Működési költségvetési kiadások mindösszesen | C57: =SUM(C52:C56) -> 3624058 | D57: =SUM(D52:D56) -> 4001386 | E57: =SUM(E52:E56) -> 3991386 | F57: =SUM(F52:F56) -> 4189933 | G57: =SUM(G52:G56) -> 4260847 | H57: =SUM(H52:H56) -> 3873379 | I57: =H57/G57 -> 0.90906315
B58: Felhalmozási költségvetési kiadások
B59: Felújítások | C59: =SUM(C27+C16) -> 61000 | D59: =SUM(D27+D16) -> 61000 | E59: =SUM(E27+E16) -> 61000 | F59: =SUM(F27+F16) -> 61000 | G59: =SUM(G27+G16) -> 78100 | H59: =SUM(H27+H16) -> 64794 | I59: =H59/G59 -> 0.82962868
B60: Beruházások | C60: =SUM(C26+C15+C46)+C36 -> 213000 | D60: =SUM(D26+D15+D46)+D36 -> 274056 | E60: =SUM(E26+E15+E46)+E36 -> 284056 | F60: =SUM(F26+F15+F46)+F36 -> 320313 | G60: =SUM(G26+G15+G46)+G36 -> 254613 | H60: =SUM(H26+H15+H46)+H36 -> 161460 | I60: =H60/G60 -> 0.63413887
B61: Egyéb felhalmozási célú kiadások | C61: =SUM(C28) -> 3000 | D61: =SUM(D28) -> 4000 | E61: =SUM(E28) -> 4000 | F61: =SUM(F28) -> 4000 | G61: =SUM(G28) -> 4000 | H61: =SUM(H28) -> 1000 | I61: =H61/G61 -> 0.25
B62: Felhalmozási költségvetés kiadások mindösszesen | C62: =SUM(C59:C61) -> 277000 | D62: =SUM(D59:D61) -> 339056 | E62: =SUM(E59:E61) -> 349056 | F62: =SUM(F59:F61) -> 385313 | G62: =SUM(G59:G61) -> 336713 | H62: =SUM(H59:H61) -> 227254 | I62: =H62/G62 -> 0.674919
B63: Költségvetési kiadások mindösszesen | C63: =SUM(C57+C62) -> 3901058 | D63: =SUM(D57+D62) -> 4340442 | E63: =SUM(E57+E62) -> 4340442 | F63: =SUM(F57+F62) -> 4575246 | G63: =SUM(G57+G62) -> 4597560 | H63: =SUM(H57+H62) -> 4100633 | I63: =H63/G63 -> 0.89191506
B64: Kiadások összesen | C64: =SUM(C63) -> 3901058 | D64: =SUM(D63) -> 4340442 | E64: =SUM(E63) -> 4340442 | F64: =SUM(F63) -> 4575246 | G64: =SUM(G63) -> 4597560 | H64: =SUM(H63) -> 4100633 | I64: =H64/G64 -> 0.89191506

Sheet 6.mell.
A1: 6. melléklet
A2: Az önkormányzat költségvetésében szereplő 2025. évi kiadások
J4: adatok eFt-ban
C5: 2025. évi előirányzat 5/2025. | D5: 2025. évi előirányzat 14/2025. | E5: 2025. évi előirányzat 18/2025. | F5: 2025. évi előirányzat 22/2025. | G5: 2025. évi előirányzat 1/2026. | H5: 2025. évi I-XII. havi teljesítés /2026. | I5: Index 8./7. | J5: Felhasználást és beszámolást koordináló
A6: Sorsz. | B6: Kiadás megnevezése | J6: bizottság
A8: 1. | B8: 2. | C8: 3. | D8: 4. | E8: 5. | F8: 6. | G8: 7. | H8: 8. | I8: 9. | J8: 10.
A9: 3050 | B9: Egyéb kommunális feladatok | C9: =SUM(C17+C27+C36+C45+C54) -> 240000 | D9: =SUM(D17+D27+D36+D45+D54) -> 403294 | E9: =SUM(E17+E27+E36+E45+E54) -> 403294 | F9: =SUM(F17+F27+F36+F45+F54) -> 396294 | G9: =SUM(G17+G27+G36+G45+G54) -> 396294 | H9: =SUM(H17+H27+H36+H45+H54) -> 142233 | I9: =H9/G9 -> 0.35890778
A10: 3054 | B10: Közterületi növényvédelem
B11: Személyi juttatások
B12: Munkaadókat terhelő jár. és szociális hozzájár.adó | J12: Városfejlesztési Bizottság
B13: Dologi kiadások és egyéb folyó kiadások | C13: 15000 | D13: =15000+4444 -> 19444 | E13: =19444 -> 19444 | F13: =19444 -> 19444 | G13: =19444 -> 19444 | H13: 3191 | I13: =H13/G13 -> 0.16411232 | J13: (beszámolás)
B14: Ellátottak pénzbeli juttatásai
B15: Egyéb működési célú kiadások
B16: Felhalmozási költségvetési kiadások
B17: Költségvetési kiadások | C17: =SUM(C13:C16) -> 15000 | D17: =SUM(D13:D16) -> 19444 | E17: =SUM(E13:E16) -> 19444 | F17: =SUM(F13:F16) -> 19444 | G17: =SUM(G13:G16) -> 19444 | H17: =SUM(H13:H16) -> 3191 | I17: =H17/G17 -> 0.16411232
A18: 3056 | B18: Közterületüzemeltetési egyéb feladatok
B19: Személyi juttatások | J19: Városfejlesztési Bizottság
B20: Munkaadókat terhelő jár. és szociális hozzájár.adó | J20: (beszámolás)
B21: Dologi kiadások és egyéb folyó kiadások | C21: 25000 | D21: =25000+3397 -> 28397 | E21: =28397-1800-5000 -> 21597 | F21: =28397-1800-5000-568 -> 21029 | G21: =28397-1800-5000-568-1850-2800 -> 16379 | H21: 8817 | I21: =H21/G21 -> 0.53831125
B22: Ellátottak pénzbeli juttatásai
B23: Egyéb működési célú kiadások | E23: =1800+5000 -> 6800 | F23: =1800+5000 -> 6800 | G23: =1800+5000 -> 6800 | H23: 1800 | I23: =H23/G23 -> 0.26470588
B24: Felújítási kiadások
B25: Beruházások | D25: 240 | E25: 240 | F25: 240 | G25: =240+2800 -> 3040 | H25: 0 | I25: =H25/G25 -> 0
B26: Felhalmozási költségvetési kiadások | F26: 568 | G26: 568 | H26: 556 | I26: =H26/G26 -> 0.97887324
B27: Költségvetési kiadások | C27: =SUM(C21:C25) -> 25000 | D27: =SUM(D21:D25) -> 28637 | E27: =SUM(E21:E25) -> 28637 | F27: =SUM(F21:F26) -> 28637 | G27: =SUM(G21:G26) -> 26787 | H27: =SUM(H21:H26) -> 11173 | I27: =H27/G27 -> 0.41710531
A28: 3057 | B28: Fasorfenntartás
B29: Személyi juttatások | J29: Városfejlesztési Bizottság
B30: Munkaadókat terhelő jár. és szociális hozzájár.adó | J30: (beszámolás)
B31: Dologi kiadások és egyéb folyó kiadások | C31: 140000 | D31: =140000+115335 -> 255335 | E31: =255335 -> 255335 | F31: =255335 -> 255335 | G31: =255335 -> 255335 | H31: 110773 | I31: =H31/G31 -> 0.43383398
B32: Ellátottak pénzbeli juttatásai
B33: Egyéb működési célú kiadások
B34: Felújítási kiadások
B35: Beruházások
B36: Költségvetési kiadások | C36: =SUM(C31:C35) -> 140000 | D36: =SUM(D31:D35) -> 255335 | E36: =SUM(E31:E35) -> 255335 | F36: =SUM(F31:F35) -> 255335 | G36: =SUM(G31:G35) -> 255335 | H36: =SUM(H31:H35) -> 110773 | I36: =H36/G36 -> 0.43383398
A37: 3058 | B37: Erdőgazdálkodás
B38: Személyi juttatások | J38: Városfejlesztési Bizottság
B39: Munkaadókat terhelő jár. és szociális hozzájár.adó | J39: (beszámolás)
B40: Dologi kiadások és egyéb folyó kiadások | C40: 10000 | D40: =10000+11939 -> 21939 | E40: =21939 -> 21939 | F40: =21939 -> 21939 | G40: =21939+1850 -> 23789 | H40: 11939 | I40: =H40/G40 -> 0.50187061
B41: Ellátottak pénzbeli juttatásai
B42: Egyéb működési célú kiadások
B43: Felújítási kiadások
B44: Beruházások
B45: Költségvetési kiadások | C45: =SUM(C40:C44) -> 10000 | D45: =SUM(D40:D44) -> 21939 | E45: =SUM(E40:E44) -> 21939 | F45: =SUM(F40:F44) -> 21939 | G45: =SUM(G40:G44) -> 23789 | H45: =SUM(H40:H44) -> 11939 | I45: =H45/G45 -> 0.50187061
A46: 3059 | B46: Ferencvárosi Klímastratégia végrehajtása
B47: Személyi juttatások | G47: 1000 | H47: 0 | I47: =H47/G47 -> 0 | J47: Városfejlesztési Bizottság
B48: Munkaadókat terhelő jár. és szociális hozzájár.adó | G48: 150 | H48: 0 | I48: =H48/G48 -> 0 | J48: (beszámolás)
B49: Dologi kiadások és egyéb folyó kiadások | C49: 50000 | D49: =50000+15318 -> 65318 | E49: =65318 -> 65318 | F49: =65318-7000 -> 58318 | G49: =65318-7000-1150 -> 57168 | H49: 5157 | I49: =H49/G49 -> 0.090207809
B50: Ellátottak pénzbeli juttatásai
B51: Egyéb működési célú kiadások
B52: Felújítási kiadások
B53: Beruházások | D53: 12621 | E53: 12621 | F53: 12621 | G53: 12621 | H53: 0
B54: Költségvetési kiadások | C54: =SUM(C49:C53) -> 50000 | D54: =SUM(D49:D53) -> 77939 | E54: =SUM(E49:E53) -> 77939 | F54: =SUM(F49:F53) -> 70939 | G54: =SUM(G47:G53) -> 70939 | H54: =SUM(H47:H53) -> 5157 | I54: =H54/G54 -> 0.07269626
A55: 3060 | B55: Közúti közlekedés | C55: =SUM(C63+C72) -> 38000 | D55: =SUM(D63+D72) -> 56054 | E55: =SUM(E63+E72) -> 56054 | F55: =SUM(F63+F72) -> 56054 | G55: =SUM(G63+G72) -> 68054 | H55: =SUM(H63+H72) -> 45965 | I55: =H55/G55 -> 0.67541952
A56: 3061 | B56: Közutak üzemeltetése
B57: Személyi juttatások
B58: Munkaadókat terhelő jár. és szociális hozzájár.adó | J58: Városfejlesztési Bizottság (beszámolás)
B59: Dologi kiadások és egyéb folyó kiadások | C59: 3000 | D59: =3000+461 -> 3461 | E59: =3461 -> 3461 | F59: =3461 -> 3461 | G59: =3461 -> 3461 | H59: 176 | I59: =H59/G59 -> 0.050852355
B60: Ellátottak pénzbeli juttatásai | J60: József Attila Városrészi Önk. (beszámolás)
B61: Egyéb működési célú kiadások
B62: Beruházások
B63: Költségvetési kiadások | C63: =SUM(C57:C62) -> 3000 | D63: =SUM(D57:D62) -> 3461 | E63: =SUM(E57:E62) -> 3461 | F63: =SUM(F57:F62) -> 3461 | G63: =SUM(G57:G62) -> 3461 | H63: =SUM(H57:H62) -> 176 | I63: =H63/G63 -> 0.050852355
A64: 3071 | B64: Köztisztasági feladatok
B65: Személyi juttatások
B66: Munkaadókat terhelő jár. és szociális hozzájár.adó
B67: Dologi kiadások és egyéb folyó kiadások | C67: 20000 | D67: =20000+17593+10000 -> 47593 | E67: =47593+3000 -> 50593 | F67: =47593+3000 -> 50593 | G67: =47593+3000-650 -> 49943 | H67: 45789 | I67: =H67/G67 -> 0.91682518 | J67: Városfejlesztési Bizottság
B68: Ellátottak pénzbeli juttatásai | J68: (beszámolás)
B69: Egyéb működési célú kiadások
B70: Beruházások | G70: =12000+2650 -> 14650 | H70: 0 | I70: =H70/G70 -> 0
B71: Felhalmozási költségvetési kiadások | C71: 15000 | D71: =15000-10000 -> 5000 | E71: =5000-3000 -> 2000 | F71: =5000-3000 -> 2000 | G71: =5000-3000-2000 -> 0 | H71: =5000-3000-2000 -> 0
B72: Költségvetési kiadások | C72: =SUM(C67:C71) -> 35000 | D72: =SUM(D67:D71) -> 52593 | E72: =SUM(E67:E71) -> 52593 | F72: =SUM(F67:F71) -> 52593 | G72: =SUM(G67:G71) -> 64593 | H72: =SUM(H67:H71) -> 45789 | I72: =H72/G72 -> 0.70888486
A73: 3080 | B73: Egyéb kiegészítő szolgáltatás | C73: =SUM(C81) -> 25000 | D73: =SUM(D81) -> 33032 | E73: =SUM(E81) -> 33032 | F73: =SUM(F81) -> 33032 | G73: =SUM(G81) -> 33032 | H73: =SUM(H81) -> 26074 | I73: =H73/G73 -> 0.78935578
A74: 3081 | B74: Köztemetés
B75: Személyi juttatások
B76: Munkaadókat terhelő jár. és szociális hozzájár.adó
B77: Dologi kiadások és egyéb folyó kiadások | C77: 10000 | D77: =10000+1553 -> 11553 | E77: =11553 -> 11553 | F77: =11553-5000 -> 6553 | G77: =11553-5000 -> 6553 | H77: 2980 | I77: =H77/G77 -> 0.45475355
B78: Ellátottak pénzbeli támogatása | C78: 15000 | D78: =15000+6479 -> 21479 | E78: =21479 -> 21479 | F78: =21479+5000 -> 26479 | G78: =21479+5000 -> 26479 | H78: 23094 | I78: =H78/G78 -> 0.87216285
B79: Egyéb működési célú kiadások
B80: Felhalmozási költségvetési kiadások
B81: Költségvetési kiadások | C81: =SUM(C75:C80) -> 25000 | D81: =SUM(D75:D80) -> 33032 | E81: =SUM(E75:E80) -> 33032 | F81: =SUM(F75:F80) -> 33032 | G81: =SUM(G75:G80) -> 33032 | H81: =SUM(H75:H80) -> 26074 | I81: =H81/G81 -> 0.78935578
A82: 3130 | B82: Önkormányzati vagyon gazdálkodásával kapcs. feladatok | C82: =SUM(C83+C126) -> 1645530 | D82: =SUM(D83+D126) -> 2099393 | E82: =SUM(E83+E126) -> 2149393 | F82: =SUM(F83+F126) -> 2356393 | G82: =SUM(G83+G126) -> 2356393 | H82: =SUM(H83+H126) -> 1696382 | I82: =H82/G82 -> 0.71990623
A83: 3110 | B83: Önkormányzati vagyon gazd. kapcs. feladatok - általános | C83: =SUM(C91+C109+C117+C99+C125) -> 1610530 | D83: =SUM(D91+D109+D117+D99+D125) -> 2061695 | E83: =SUM(E91+E109+E117+E99+E125) -> 2111695 | F83: =SUM(F91+F109+F117+F99+F125) -> 2318695 | G83: =SUM(G91+G109+G117+G99+G125) -> 2318695 | H83: =SUM(H91+H109+H117+H99+H125) -> 1670238 | I83: =H83/G83 -> 0.72033536
A84: 3111 | B84: Lakáslemondás térítés, lakásbiztosíték visszafizetés | J84: Gazdasági Bizottság
B85: Személyi juttatások | J85: (beszámolás)
B86: Munkaadókat terhelő jár. és szociális hozzájár.adó
B87: Dologi kiadások és egyéb folyó kiadások | D87: 2400 | E87: 2400 | F87: 2400 | G87: 2400 | H87: 0 | I87: =H87/G87 -> 0
B88: Ellátottak pénzbeli juttatásai
B89: Egyéb működési célú kiadások
B90: Egyéb felhalmozási célú kiadások | C90: 1409129 | D90: =1409129+400000-2400 -> 1806729 | E90: =1806729 -> 1806729 | F90: =1806729+200000 -> 2006729 | G90: =1806729+200000 -> 2006729 | H90: 1482144 | I90: =H90/G90 -> 0.73858702
B91: Költségvetési kiadások | C91: =SUM(C85:C90) -> 1409129 | D91: =SUM(D85:D90) -> 1809129 | E91: =SUM(E85:E90) -> 1809129 | F91: =SUM(F85:F90) -> 2009129 | G91: =SUM(G85:G90) -> 2009129 | H91: =SUM(H85:H90) -> 1482144 | I91: =H91/G91 -> 0.73770475
A92: 3112 | B92: Játszóterek karbantartása
B93: Személyi juttatások
B94: Munkaadókat terhelő jár. és szociális hozzájár.adó
B95: Dologi kiadások és egyéb folyó kiadások | C95: 50000 | D95: =50000+17851 -> 67851 | E95: =67851 -> 67851 | F95: =67851 -> 67851 | G95: =67851 -> 67851 | H95: 16756 | I95: =H95/G95 -> 0.24695288 | J95: Városfejlesztési Bizottság
B96: Ellátottak pénzbeli juttatásai | J96: József Attila Városrészi Önk.
B97: Egyéb működési célú kiadások | J97: (beszámolás)
B98: Beruházási kiadások
B99: Költségvetési kiadások | C99: =SUM(C93:C98) -> 50000 | D99: =SUM(D93:D98) -> 67851 | E99: =SUM(E93:E98) -> 67851 | F99: =SUM(F93:F98) -> 67851 | G99: =SUM(G93:G98) -> 67851 | H99: =SUM(H93:H98) -> 16756 | I99: =H99/G99 -> 0.24695288
A100: 3114 | B100: Ingatlanokkal kapcsolatos egyéb feladatok
B101: Személyi juttatások
B102: Munkaadókat terhelő jár. és szociális hozzájár.adó
...

Sheet 7.mell.
A2: 7. melléklet
A3: Az önkormányzat költségvetésében szereplő támogatások 2025. évi kiadásai
J4: adatok eFt-ban
C5: 2025. évi előirányzat 5/2025. | D5: 2025. évi előirányzat 14/2025. | E5: 2025. évi előirányzat 18/2025. | F5: 2025. évi előirányzat 22/2025. | G5: 2025. évi előirányzat 1/2026. | H5: 2025. évi I-XII. havi teljesítés /2026. | I5: Index 8./7. | J5: Felhasználást és beszámolást koordináló
A6: Sorsz. | B6: Feladat megnevezése | J6: bizottság
A8: 1. | B8: 2. | C8: 3. | D8: 4. | E8: 5. | F8: 6. | G8: 7. | H8: 8. | I8: 9. | J8: 10.
B9: Egyéb általános szolgáltatások
A10: 3911 | B10: Társasházak támogatása | C10: 25000 | D10: =25000+979 -> 25979 | E10: =25979 -> 25979 | F10: =25979 -> 25979 | G10: =25979 -> 25979 | H10: 22802 | I10: =H10/G10 -> 0.87770892
A11: 3910 | B11: Összesen | C11: =SUM(C10:C10) -> 25000 | D11: =SUM(D10:D10) -> 25979 | E11: =SUM(E10:E10) -> 25979 | F11: =SUM(F10:F10) -> 25979 | G11: =SUM(G10:G10) -> 25979 | H11: =SUM(H10:H10) -> 22802 | I11: =H11/G11 -> 0.87770892
B12: Közrend és közbiztonság, közösségi szolgáltatások
A13: 3923 | B13: Polgárőr Egyesület támogatása | C13: 5000 | D13: 5000 | E13: 5000 | F13: 5000 | G13: 5000 | H13: 5000 | I13: =H13/G13 -> 1
A14: 3924 | B14: IX. kerületi Rendőrkapitányság támogatása | C14: 24000 | D14: 24000 | E14: 24000 | F14: 24000 | G14: 24000 | H14: 23250 | I14: =H14/G14 -> 0.96875
A15: 3925 | B15: FEV IX. Zrt. támogatása | C15: 204900 | D15: 204900 | E15: 204900 | F15: 204900 | G15: 204900 | H15: 204900 | I15: =H15/G15 -> 1 | J15: Városfejlesztési Biz.,Gazdasági Biz. (beszámolás)
A16: 3926 | B16: Tűzoltóság támogtása | C16: 2000 | D16: 2000 | E16: 2000 | F16: 2000 | G16: 2000 | H16: 0 | I16: =H16/G16 -> 0
A17: 3927 | B17: Faültetés támogatása | C17: 5000 | D17: =5000+5000 -> 10000 | E17: =10000 -> 10000 | F17: =10000+1500 -> 11500 | G17: =10000+1500 -> 11500 | H17: 11500 | I17: =H17/G17 -> 1 | J17: Városfejlesztési Bizottság (beszámolás)
A18: 3928 | B18: Társasház felújítási pályázat | C18: =SUM(C22+C19) -> 222000 | D18: =SUM(D22+D19) -> 418415 | E18: =SUM(E22+E19) -> 418415 | F18: =SUM(F22+F19) -> 418415 | G18: =SUM(G22+G19) -> 418415 | H18: =SUM(H22+H19) -> 191836 | I18: =H18/G18 -> 0.45848261 | J18: Városfejlesztési Bizottság
B19: ebből:társasházak lépcsőházi kamerák támogatása | C19: =SUM(C20:C21) -> 22000 | D19: =SUM(D20:D21) -> 28431 | E19: =SUM(E20:E21) -> 28431 | F19: =SUM(F20:F21) -> 28431 | G19: =SUM(G20:G21) -> 28431 | H19: =SUM(H20:H21) -> 10989 | I19: =H19/G19 -> 0.38651472
B20: Dologi kiadások | C20: 14000 | D20: =14000+1431 -> 15431 | E20: =15431 -> 15431 | F20: =15431 -> 15431 | G20: =15431 -> 15431 | H20: 6695 | I20: =H20/G20 -> 0.43386689
B21: Beruházási kiadások | C21: 8000 | D21: =8000+5000 -> 13000 | E21: =13000 -> 13000 | F21: =13000 -> 13000 | G21: =13000 -> 13000 | H21: 4294 | I21: =H21/G21 -> 0.33030769
B22: Egyéb felhalmozási célú kiadások | C22: 200000 | D22: =200000+189984 -> 389984 | E22: =389984 -> 389984 | F22: =389984 -> 389984 | G22: =389984 -> 389984 | H22: 180847 | I22: =H22/G22 -> 0.46372928
A23: 3920 | B23: Összesen | C23: =C13+C14+C15+C16+C17+C18 -> 462900 | D23: =D13+D14+D15+D16+D17+D18 -> 664315 | E23: =E13+E14+E15+E16+E17+E18 -> 664315 | F23: =F13+F14+F15+F16+F17+F18 -> 665815 | G23: =G13+G14+G15+G16+G17+G18 -> 665815 | H23: =H13+H14+H15+H16+H17+H18 -> 436486 | I23: =H23/G23 -> 0.65556649
B24: Oktatás
A25: 3931 | B25: Bursa Hungarica | C25: 2000 | D25: 2000 | E25: 2000 | F25: 2000 | G25: 2000 | H25: 250 | I25: =H25/G25 -> 0.125 | J25: Kulturális Bizottság (beszámolás)
A26: 3932 | B26: Deák Alapítvány | C26: 15000 | D26: 15000 | E26: 15000 | F26: 15000 | G26: 15000 | H26: 15000 | I26: =H26/G26 -> 1 | J26: Kulturális Bizottság (beszámolás)
A27: 3934 | B27: Tanoda támogatás | I27: =SUM(G27/G27) -> #DIV/0!
A28: 3935 | B28: GAPS Alapítvány
A29: 3930 | B29: Összesen | C29: =SUM(C25:C28) -> 17000 | D29: =SUM(D25:D28) -> 17000 | E29: =SUM(E25:E28) -> 17000 | F29: =SUM(F25:F28) -> 17000 | G29: =SUM(G25:G28) -> 17000 | H29: =SUM(H25:H28) -> 15250 | I29: =H29/G29 -> 0.89705882
B30: Egészszégügy, szociális védelem
A31: 3941 | B31: FESZOFE kiemelkedően közhasznú Non-profit Kft működési tám. | C31: =1134000-60000 -> 1074000 | D31: =1074000+30000 -> 1104000 | E31: =1104000 -> 1104000 | F31: =1104000+15000 -> 1119000 | G31: =1104000+15000 -> 1119000 | H31: 1119000 | I31: =H31/G31 -> 1 | J31: Városfejl. Biz., Szoc. és Eügyi Biz., Gazdasági Biz. (beszámolás)
A32: 3943 | B32: Akadálymentesítési támogatás | C32: 1000 | D32: 1000 | E32: =E33+E34+E35 -> 1000 | F32: =F33+F34+F35 -> 1000 | G32: =G33+G34+G35 -> 1000 | H32: =H33+H34+H35 -> 500 | I32: =H32/G32 -> 0.5 | J32: Szociális és egészségügyi Bizottság (beszámolás)
B33: Személyi juttatás | E33: 442 | F33: 442 | G33: 442 | H33: 442 | I33: =H33/G33 -> 1
B34: Munkaadókat terhelő járulékok | E34: 58 | F34: 58 | G34: 58 | H34: 58 | I34: =H34/G34 -> 1
B35: Egyéb felhalmozási célú kiadások | C35: 1000 | D35: 1000 | E35: =1000-500 -> 500 | F35: =1000-500 -> 500 | G35: =1000-500 -> 500 | H35: 0 | I35: =H35/G35 -> 0
A36: 3944 | B36: Orvosi rendelők energ. költs. Támogatása | I36: =SUM(G36/G36) -> #DIV/0!
A37: 3940 | B37: Összesen: | C37: =SUM(C31:C32)+C36 -> 1075000 | D37: =SUM(D31:D32)+D36 -> 1105000 | E37: =SUM(E31:E32)+E36 -> 1105000 | F37: =SUM(F31:F32)+F36 -> 1120000 | G37: =SUM(G31:G32)+G36 -> 1120000 | H37: =SUM(H31:H32)+H36 -> 1119500 | I37: =H37/G37 -> 0.99955357
B38: Szabadidő, sport, kultúra, vallás
A39: 3961 | B39: Zeneművészeti szervezetek támogatása | D39: 313826 | E39: 313826 | F39: 313826 | G39: 313826 | H39: 313826 | I39: =H39/G39 -> 1
A40: 3972 | B40: Kulturális tevékenység, egyházi és civil szerv.támog támogatása | C40: 45000 | D40: =D41+D42+D43 -> 45950 | E40: =E41+E42+E43 -> 45950 | F40: =F41+F42+F43 -> 49150 | G40: =G41+G42+G43 -> 49150 | H40: =H41+H42+H43 -> 45688 | I40: =H40/G40 -> 0.92956256 | J40: Kulturális Bizottság, Szociális és Egészségügyi Bizottság
B41: Dologi kiadások
B42: Egyéb működési célú kiadások | D42: =45000+950 -> 45950 | E42: =45000+950 -> 45950 | F42: =45000+950-250+3200 -> 48900 | G42: =45000+950-250+3200 -> 48900 | H42: 45438 | I42: =H42/G42 -> 0.92920245
B43: Egyéb felhalmozási célú kiadások | F43: =250 -> 250 | G43: =250 -> 250 | H43: 250
A44: 3973 | B44: Irodalmi pályázat | C44: 5100 | D44: =D45+D46+D47 -> 6095 | E44: =E45+E46+E47 -> 6890 | F44: =F45+F46+F47 -> 6890 | G44: =G45+G46+G47 -> 6890 | H44: =H45+H46+H47 -> 5364 | I44: =H44/G44 -> 0.77851959
B45: Személyi juttatás | C45: 4513 | D45: =4513+812 -> 5325 | E45: =5325+700 -> 6025 | F45: =5325+700 -> 6025 | G45: =5325+700 -> 6025 | H45: 4786 | I45: =H45/G45 -> 0.79435685
B46: Munkaadókat terhelő járulékok | C46: 587 | D46: =587+183 -> 770 | E46: =770+95 -> 865 | F46: =770+95 -> 865 | G46: =770+95 -> 865 | H46: 578 | I46: =H46/G46 -> 0.66820809
B47: Dologi kiadások
A48: 3975 | B48: Konkáv Közösségi tér - Köztes átmenetek Nonprofit Kft. | C48: 15000 | D48: 15000 | E48: 15000 | F48: 15000 | G48: 15000 | H48: 15000 | I48: =H48/G48 -> 1
A49: 3970 | B49: Összesen | C49: =C39+C40+C44+C48 -> 65100 | D49: =D39+D40+D44+D48 -> 380871 | E49: =E39+E40+E44+E48 -> 381666 | F49: =F39+F40+F44+F48 -> 384866 | G49: =G39+G40+G44+G48 -> 384866 | H49: =H39+H40+H44+H48 -> 379878 | I49: =H49/G49 -> 0.98703964
B50: Nemzetiségi közfeladatok ellátása és támogatása
A51: 3989 | B51: Nemzetiségi önkormányzatok pályázati támogatása | C51: 6000 | D51: 6000 | E51: 6000 | F51: 6000 | G51: 6000 | H51: 5500 | I51: =H51/G51 -> 0.91666667 | J51: Kulturális Bizottság
A52: 3987 | B52: Ruszin Nemzetiségi Önkormányzat | C52: 900 | D52: 900 | E52: 900 | F52: 900 | G52: 900 | H52: 900 | I52: =H52/G52 -> 1
A53: 3988 | B53: Horvát Nemzetiségi Önkormányzat | C53: 900 | D53: 900 | E53: 900 | F53: 900 | G53: 900 | H53: 900 | I53: =H53/G53 -> 1
A54: 3990 | B54: Bolgár Nemzetiségi Önkormányzat | C54: 1000 | D54: 1000 | E54: 1000 | F54: 1000 | G54: 1000 | H54: 1000 | I54: =H54/G54 -> 1
A55: 3991 | B55: Roma Nemzetiségi Önkormányzat | C55: 4820 | D55: =4820+1205 -> 6025 | E55: =6025 -> 6025 | F55: =6025 -> 6025 | G55: =6025 -> 6025 | H55: 6025 | I55: =H55/G55 -> 1
A56: 3992 | B56: Görög Nemzetiségi Önkormányzat | C56: 1400 | D56: 1400 | E56: 1400 | F56: 1400 | G56: 1400 | H56: 1400 | I56: =H56/G56 -> 1
A57: 3993 | B57: Német Nemzetiségi Önkormányzat | C57: 900 | D57: 900 | E57: 900 | F57: 900 | G57: 900 | H57: 900 | I57: =H57/G57 -> 1
A58: 3994 | B58: Örmény Nemzetiségi Önkormányzat | C58: 900 | D58: 900 | E58: 900 | F58: 900 | G58: 900 | H58: 900 | I58: =H58/G58 -> 1
A59: 3995 | B59: Román Nemzetiségi Önkormányzat | C59: 900 | D59: =900+225 -> 1125 | E59: =1125 -> 1125 | F59: =1125 -> 1125 | G59: =1125 -> 1125 | H59: 692 | I59: =H59/G59 -> 0.61511111
A60: 3997 | B60: Szerb Nemzetiségi Önkormányzat | C60: 900 | D60: 900 | E60: 900 | F60: 900 | G60: 900 | H60: 900 | I60: =H60/G60 -> 1
A61: 3998 | B61: Szlovák Nemzetiségi Önkormányzat | C61: 900 | D61: =900+225 -> 1125 | E61: =1125 -> 1125 | F61: =1125 -> 1125 | G61: =1125 -> 1125 | H61: 1125 | I61: =H61/G61 -> 1
A62: 3999 | B62: Ukrán Nemzetiségi Önkormányzat | C62: 1000 | D62: =1000+250 -> 1250 | E62: =1250 -> 1250 | F62: =1250 -> 1250 | G62: =1250 -> 1250 | H62: 1250 | I62: =H62/G62 -> 1
B63: Összesen | C63: =SUM(C51:C62) -> 20520 | D63: =SUM(D51:D62) -> 22425 | E63: =SUM(E51:E62) -> 22425 | F63: =SUM(F51:F62) -> 22425 | G63: =SUM(G51:G62) -> 22425 | H63: =SUM(H51:H62) -> 21492 | I63: =H63/G63 -> 0.95839465
A64: 3900 | B64: Támogatások összesen: | C64: =C37+C23+C11+C29+C49+C63 -> 1665520 | D64: =D37+D23+D11+D29+D49+D63 -> 2215590 | E64: =E37+E23+E11+E29+E49+E63 -> 2216385 | F64: =F37+F23+F11+F29+F49+F63 -> 2236085 | G64: =G37+G23+G11+G29+G49+G63 -> 2236085 | H64: =H37+H23+H11+H29+H49+H63 -> 1995408 | I64: =H64/G64 -> 0.89236679
B65: Személyi juttatás | C65: =SUM(C33)+C45 -> 4513 | D65: =SUM(D33)+D45 -> 5325 | E65: =SUM(E33)+E45 -> 6467 | F65: =SUM(F33)+F45 -> 6467 | G65: =SUM(G33)+G45 -> 6467 | H65: =SUM(H33)+H45 -> 5228 | I65: =H65/G65 -> 0.80841194
B66: Munkaadókat terhelő járulékok és szociális hozzájárulási adó | C66: =SUM(C34)+C46 -> 587 | D66: =SUM(D34)+D46 -> 770 | E66: =SUM(E34)+E46 -> 923 | F66: =SUM(F34)+F46 -> 923 | G66: =SUM(G34)+G46 -> 923 | H66: =SUM(H34)+H46 -> 636 | I66: =H66/G66 -> 0.68905742
B67: Dologi kiadások | C67: =SUM(C20)+C41+C47 -> 14000 | D67: =SUM(D20)+D41+D47 -> 15431 | E67: =SUM(E20)+E41+E47 -> 15431 | F67: =SUM(F20)+F41+F47 -> 15431 | G67: =SUM(G20)+G41+G47 -> 15431 | H67: =SUM(H20)+H41+H47 -> 6695 | I67: =H67/G67 -> 0.43386689
B68: Egyéb működési célú kiadások | C68: =SUM(C11+C23+C29+C37+C49+C63)-C72-C65-C66-C67-C71 -> 1405420 | D68: =SUM(D11+D23+D29+D37+D49+D63)-D65-D66-D67-D71-D72 -> 1752101 | E68: =SUM(E11+E23+E29+E37+E49+E63)-E65-E66-E67-E71-E72 -> 1752101 | F68: =SUM(F11+F23+F29+F37+F49+F63)-F65-F66-F67-F71-F72 -> 1770051 | G68: =SUM(G11+G23+G29+G37+G49+G63)-G65-G66-G67-G71-G72 -> 1772051 | H68: =SUM(H11+H23+H29+H37+H49+H63)-H65-H66-H67-H71-H72 -> 1763156 | I68: =H68/G68 -> 0.99498039
B69: ebből államháztartáson belüli | C69: =C14+C16+C25+C26+C63 -> 63520 | D69: =D14+D16+D25+D26+D63 -> 65425 | E69: =E14+E16+E25+E26+E63 -> 65425 | F69: =F14+F16+F25+F26+F63 -> 65425 | G69: =G14+G16+G25+G26+G63 -> 65425 | H69: =H14+H16+H25+H26+H63 -> 59992 | I69: =H69/G69 -> 0.91695835
B70: államháztartáson kívüli | C70: =C68-C69 -> 1341900 | D70: =D68-D69 -> 1686676 | E70: =E68-E69 -> 1686676 | F70: =F68-F69 -> 1704626 | G70: =G68-G69 -> 1706626 | H70: =H68-H69 -> 1703164 | I70: =H70/G70 -> 0.99797144
B71: Beruházási kiadások | C71: =SUM(C21) -> 8000 | D71: =SUM(D21) -> 13000 | E71: =SUM(E21) -> 13000 | F71: =SUM(F21) -> 13000 | G71: =SUM(G21) -> 13000 | H71: =SUM(H21) -> 4294 | I71: =H71/G71 -> 0.33030769
B72: Egyéb felhalmozási célú kiadások (Államháztartáson kívülre) | C72: =SUM(C10+C22+C35+C16+C17)+C43 -> 233000 | D72: =SUM(D10+D22+D35+D16+D17)+D43 -> 428963 | E72: =SUM(E10+E22+E35+E16+E17)+E43 -> 428463 | F72: =SUM(F10+F22+F35+F16+F17)+F43 -> 430213 | G72: =SUM(G10+G22+G35+G17)+G43 -> 428213 | H72: =SUM(H10+H22+H35+H17)+H43 -> 215399 | I72: =H72/G72 -> 0.50301836
B73: Működési és felhalmozási költségvetési kiadások mindösszesen | C73: =SUM(C11+C23+C29+C37+C49+C63) -> 1665520 | D73: =SUM(D11+D23+D29+D37+D49+D63) -> 2215590 | E73: =SUM(E11+E23+E29+E37+E49+E63) -> 2216385 | F73: =SUM(F11+F23+F29+F37+F49+F63) -> 2236085 | G73: =SUM(G11+G23+G29+G37+G49+G63) -> 2236085 | H73: =SUM(H11+H23+H29+H37+H49+H63) -> 1995408 | I73: =H73/G73 -> 0.89236679

Sheet 8.mell.
A1: 8. melléklet
A2: 2025. évi felújítások (felújítási kiadások, egyéb felhalmozási célú kiadások és egyéb felújítási munkákhoz kapcsolódó kiadások)
J3: adatok eFt-ban
C4: 2025. évi előirányzat 5/2025. | D4: 2025. évi előirányzat 14/2025. | E4: 2025. évi előirányzat 18/2025. | F4: 2025. évi előirányzat 22/2025. | G4: 2025. évi előirányzat 1/2026. | H4: 2025. évi I-XII. havi teljesítés /2026. | I4: Index 8./7. | J4: Felhasználást és beszámolást koordináló
A5: Sorsz. | B5: Feladat megnevezése | J5: bizottság
A7: 1. | B7: 2. | C7: 3. | D7: 4. | E7: 5. | F7: 6. | G7: 7. | H7: 8. | I7: 9. | J7: 10.
B8: I. Önkormányzati felújítások
B9: Egyéb kommunális feladatok
A10: 4010 | B10: Ifjúmunkás utca 28-30 Sportpályák felújítása
A11: 4012 | B11: Haller park felújítás | C11: 196947 | D11: 196947 | E11: =196947+40000 -> 236947 | F11: =196947+40000 -> 236947 | G11: =196947+40000 -> 236947 | H11: 6947 | I11: =H11/G11 -> 0.029318793 | J11: Városfejlesztési Bizottság (beszámolás)
A12: 4013 | B12: Valéria tér felújítása | D12: =D13 -> 224 | E12: =E13 -> 224 | F12: =F13 -> 224 | G12: =G13 -> 224 | H12: =H13 -> 0 | I12: =H12/G12 -> 0
B13: Dologi kiadások | D13: 224 | E13: 224 | F13: 224 | G13: 224 | H13: 0 | I13: =H13/G13 -> 0
A14: 4014 | B14: Játszóterek, műfüves és sportpályák, fitness eszközök, zöldf. felúj., | C14: 155189 | D14: =155189+90000 -> 245189 | E14: =245189 -> 245189 | F14: =245189 -> 245189 | G14: =245189 -> 245189 | H14: 63195 | I14: =H14/G14 -> 0.25773995 | J14: Városfejlesztési Bizottság, József A. Városrészi Önk.
A15: 4015 | B15: Ifjúmunkás u. útburkolat felújítása | C15: 52654 | D15: 52654 | E15: 52654 | F15: 52654 | G15: 52654 | H15: 51026 | I15: =H15/G15 -> 0.96908117
A16: 4016 | B16: Thaly passzázs közvilágítás | C16: 10000 | D16: =10000+1079 -> 11079 | E16: =E17+E18 -> 11079 | F16: =F17+F18 -> 11079 | G16: =G17+G18 -> 11079 | H16: =H17+H18 -> 1080 | I16: =H16/G16 -> 0.097481722
B17: Beruházások | D17: 1079 | E17: 1079 | F17: 1079 | G17: 1079 | H17: 1080 | I17: =H17/G17 -> 1.0009268
B18: Felújítások | D18: 10000 | E18: 10000 | F18: 10000 | G18: 10000 | H18: 0 | I18: =H18/G18 -> 0
A19: 4018 | B19: Utak felújítása, javítása | C19: =150000+134920 -> 284920 | D19: =150000+134920 -> 284920 | E19: =284920 -> 284920 | F19: =284920 -> 284920 | G19: =284920 -> 284920 | H19: 134592 | I19: =H19/G19 -> 0.47238523
A20: 4019 | B20: Járdák felújítása | C20: =60000+25151 -> 85151 | D20: =60000+25151 -> 85151 | E20: =85151 -> 85151 | F20: =85151 -> 85151 | G20: =85151 -> 85151 | H20: 25151 | I20: =H20/G20 -> 0.2953694
A21: 4020 | B21: "Törd a betont"
A22: 4021 | B22: Egyéb közterületek felújítása, fejlesztése | C22: 89131 | D22: =D24+D25 -> 103852 | E22: =E23+E24+E25 -> 103852 | F22: =F23+F24+F25 -> 103852 | G22: =G23+G24+G25 -> 103852 | H22: =H23+H24+H25 -> 67986 | I22: =H22/G22 -> 0.65464315
B23: Dologi kiadások | E23: 2301 | F23: 2301 | G23: =2301+1 -> 2302 | H23: 2302 | I23: =H23/G23 -> 1
B24: Beruházások | D24: =1+16000 -> 16001 | E24: =16001+25300 -> 41301 | F24: =16001+25300 -> 41301 | G24: =16001+25300+6200 -> 47501 | H24: 42719 | I24: =H24/G24 -> 0.89932844
B25: Felújítások | D25: =89131+14720-16000 -> 87851 | E25: =87851-27601 -> 60250 | F25: =87851-27601 -> 60250 | G25: =87851-27601-6201 -> 54049 | H25: 22965 | I25: =H25/G25 -> 0.42489223
A26: 4022 | B26: Kutyafuttatók felújítása | C26: =30000+30000 -> 60000 | D26: =30000+30000 -> 60000 | E26: =E27+E28+E29 -> 60000 | F26: =F27+F28+F29 -> 60000 | G26: =G27+G28+G29 -> 60000 | H26: =H27+H28+H29 -> 3115 | I26: =H26/G26 -> 0.051916667
B27: Dologi kiadások | E27: 1005 | F27: 1005 | G27: 1005 | H27: 0 | I27: =H27/G27 -> 0
B28: Beruházások | E28: 1435 | F28: 1435 | G28: 1435 | H28: 1435 | I28: =H28/G28 -> 1
B29: Felújítások | E29: =60000-2440 -> 57560 | F29: =60000-2440 -> 57560 | G29: =60000-2440 -> 57560 | H29: 1680 | I29: =H29/G29 -> 0.029186935
A30: 4010 | B30: Egyéb kommunális feladatok összesen | C30: =SUM(C11:C26) -> 933992 | D30: =D11+D12+D14+D15+D16+D19+D20+D22+D26 -> 1040016 | E30: =E11+E12+E14+E15+E16+E19+E20+E22+E26 -> 1080016 | F30: =F11+F12+F14+F15+F16+F19+F20+F22+F26 -> 1080016 | G30: =G11+G12+G14+G15+G16+G19+G20+G22+G26 -> 1080016 | H30: =H11+H12+H14+H15+H16+H19+H20+H22+H26 -> 353092 | I30: =H30/G30 -> 0.32693219
B31: Önkormányzati vagyonnal való gazdálkodás - Ingatlanügyek
A32: 4111 | B32: Soroksári út 84- Koppány utca 3. Épületbontás
A33: 4114 | B33: Önkormányzati lakóházak tetőfelújítás | C33: 72000 | D33: =72000+72000 -> 144000 | E33: =144000 -> 144000 | F33: =144000 -> 144000 | G33: =144000 -> 144000 | H33: 0 | I33: =H33/G33 -> 0
A34: 4121 | B34: Felújításokkal kapcsolatos tervezések , MÁV csatorna tervezés | C34: =64438+110000 -> 174438 | D34: =D36+D37 -> 184438 | E34: =E36+E37+E35 -> 175408 | F34: =F36+F37+F35 -> 179263 | G34: =G36+G37+G35 -> 179263 | H34: =H36+H37+H35 -> 20793 | I34: =H34/G34 -> 0.11599159 | J34: Városfejlesztési Biz, József A. Városr. Önk. (beszámolás)
B35: Dologi kiadások | E35: 14713 | F35: =14713+16200 -> 30913 | G35: =14713+16200+10300 -> 41213 | H35: 11297 | I35: =H35/G35 -> 0.27411254
B36: Beruházások | D36: 6000 | E36: =6000+10100 -> 16100 | F36: =6000+10100 -> 16100 | G36: =6000+10100 -> 16100 | H36: 5845 | I36: =H36/G36 -> 0.36304348
B37: Felújítások | D37: =168438+10000 -> 178438 | E37: =178438-16885-6858-10100 -> 144595 | F37: =178438-16885-6858-10100-16200+3855 -> 132250 | G37: =178438-16885-6858-10100-16200+3855-10300 -> 121950 | H37: 3651 | I37: =H37/G37 -> 0.029938499
A38: 4124 | B38: Önkormányzati lakások komfortosítása | D38: 5214 | E38: 5214 | F38: 5214 | G38: 5214 | H38: 0 | I38: =H38/G38 -> 0
A39: 4125 | B39: Gát u. 24.-26. sz. ingatlan felújítás
A40: 4126 | B40: Önkormányzati lakások komfortosítása, lakások és helyiségek felújítása | C40: 130901 | D40: =D41+D43 -> 230901 | E40: =E41+E43 -> 230901 | F40: =F41+F43 -> 230901 | G40: =G41+G43+G42 -> 226646 | H40: =H41+H43+H42 -> 140721 | I40: =H40/G40 -> 0.62088455
B41: Dologi kiadások | D41: 3100 | E41: =3100+876+5000 -> 8976 | F41: =3100+876+5000 -> 8976 | G41: =3100+876+5000 -> 8976 | H41: 4905 | I41: =H41/G41 -> 0.54645722
B42: Beruházások | G42: 2400 | H42: 2397 | I42: =H42/G42 -> 0.99875
B43: Felújítások | D43: 227801 | E43: =227801-876-5000 -> 221925 | F43: =227801-876-5000 -> 221925 | G43: =227801-876-5000-4255-2400 -> 215270 | H43: 133419 | I43: =H43/G43 -> 0.61977517
A44: 4127 | B44: Haller u. 50. függőfolyosó felújítás
A45: 4129 | B45: Telepy u. 34. személyfelvonó létesítése
A46: 4151 | B46: Önkormányzati lakóházak közös területeinek felújítása
A47: 4152 | B47: Márton u. 8/a lakóház tervezése
A48: 4153 | B48: Tartószerkezeti statikai vizsgálatok | C48: 18000 | D48: 18000 | E48: =E49+E50 -> 21844 | F48: =F49+F50 -> 21844 | G48: =G49+G50 -> 21844 | H48: =H49+H50 -> 21844 | I48: =H48/G48 -> 1
B49: Dologi kiadások | E49: 21844 | F49: 21844 | G49: 21844 | H49: 21844 | I49: =H49/G49 -> 1
B50: Felújítások | E50: 0 | F50: 0 | G50: 0 | H50: 0
A51: 4154 | B51: Tartószerkezeti statikai felújítások | C51: 454477 | D51: =454477+125000 -> 579477 | E51: =579477 -> 579477 | F51: =579477 -> 579477 | G51: =579477 -> 579477 | H51: 234950 | I51: =H51/G51 -> 0.40545181
A52: 4155 | B52: Balázs Béla utca 27/B lakóépület felújítása | C52: 799162 | D52: 799162 | E52: =799162+2172 -> 801334 | F52: =799162+2172 -> 801334 | G52: =799162+2172 -> 801334 | H52: 770884 | I52: =H52/G52 -> 0.96200086
A53: 4156 | B53: Vágóhíd u. 31-33. sz. épület vízvzeték felújítása
A54: 4157 | B54: Márton u. 8. részleges bontás
A55: 4158 | B55: Gát u. 23-25. tervezés | D55: 62167 | E55: =62167+6858 -> 69025 | F55: =62167+6858 -> 69025 | G55: =62167+6858 -> 69025 | H55: 66954 | I55: =H55/G55 -> 0.96999638
A56: 4159 | B56: Marhagödör és Vágó utcai felújítás | C56: 100000 | D56: =100000-24276+24276 -> 100000 | E56: =E58+E59+E57 -> 500000 | F56: =F58+F59+F57 -> 500000 | G56: =G58+G59+G57 -> 500000 | H56: =H58+H59+H57 -> 7778 | I56: =H56/G56 -> 0.015556
B57: Dologi kiadások | E57: 1778 | F57: 1778 | G57: 1778 | H57: 1778 | I57: =H57/G57 -> 1
B58: Beruházások | D58: 6000 | E58: 6000 | F58: 6000 | G58: 6000 | H58: 6000 | I58: =H58/G58 -> 1
B59: Felújítások | D59: 94000 | E59: =94000-1778+400000 -> 492222 | F59: =94000-1778+400000 -> 492222 | G59: =94000-1778+400000 -> 492222 | H59: 0 | I59: =H59/G59 -> 0
A60: 4160 | B60: Márton utca 8. Lakóház felújítás | C60: 654420 | D60: =654420+300+1300000 -> 1954720 | E60: =1954720 -> 1954720 | F60: =1954720 -> 1954720 | G60: =1954720 -> 1954720 | H60: =H61+H62 -> 4065 | I60: =H60/G60 -> 0.0020795817
B61: Dologi kiadások | F61: 500 | G61: 500 | H61: 487 | I61: =H61/G61 -> 0.974
B62: Felújítások | F62: =F60-F61 -> 1954220 | G62: =G60-G61 -> 1954220 | H62: 3578 | I62: =H62/G62 -> 0.0018309095
A63: 4161 | B63: Ügyfélszolgálati Iroda felújítás | C63: 10214 | D63: 10214 | E63: 10214 | F63: 10214 | G63: 10214 | H63: 10213 | I63: =H63/G63 -> 0.9999021
A64: 4162 | B64: Haller u. 54. felújítás tervezés | C64: 80000 | D64: =80000+3979 -> 83979 | E64: =83979 -> 83979 | F64: =83979 -> 83979 | G64: =83979 -> 83979 | H64: 16764 | I64: =H64/G64 -> 0.19962133
A65: 4163 | B65: Lenhossék u. 5. Felújítás tervezés | D65: 80000 | E65: 80000 | F65: 80000 | G65: 80000 | H65: 0 | I65: =H65/G65 -> 0
A66: 4164 | B66: Gát u. 23-25 építés | D66: 1865386 | E66: 1865386 | F66: 1865386 | G66: 1865386 | H66: 0 | I66: =H66/G66 -> 0
B67: R e h a b i l i t á c i ó ö s s z e s e n : | C67: =SUM(C33:C64) -> 2493612 | D67: =D33+D34+D38+D40+D48+D51+D52+D55+D56+D60+D63+D64+D65+D66 -> 6117658 | E67: =E33+E34+E38+E40+E48+E51+E52+E55+E56+E60+E63+E64+E65+E66 -> 6521502 | F67: =F33+F34+F38+F40+F48+F51+F52+F55+F56+F60+F63+F64+F65+F66 -> 6525357 | G67: =G33+G34+G38+G40+G48+G51+G52+G55+G56+G60+G63+G64+G65+G66 -> 6521102 | H67: =H33+H34+H38+H40+H48+H51+H52+H55+H56+H60+H63+H64+H65+H66 -> 1294966 | I67: =H67/G67 -> 0.19858085
A68: 4131 | B68: Veszélyelhárítás | C68: 20000 | D68: =D69+D71 -> 20533 | E68: =E69+E71+E70 -> 20533 | F68: =F69+F71+F70 -> 16678 | G68: =G69+G71+G70 -> 20533 | H68: =H69+H71+H70 -> 15827 | I68: =H68/G68 -> 0.77080797 | J68: Városfejlesztési Bizottság (beszámolás)
B69: Dologi kiadások | D69: 533 | E69: =533+10000 -> 10533 | F69: =533+10000-3855 -> 6678 | G69: =533+10000-3855 -> 6678 | H69: 3174 | I69: =H69/G69 -> 0.475292
B70: Beruházások | E70: 1200 | F70: 1200 | G70: 1200 | H70: 0 | I70: =H70/G70 -> 0
B71: Felújítások | D71: 20000 | E71: =20000-10000-1200 -> 8800 | F71: =20000-10000-1200 -> 8800 | G71: =20000-10000-1200+3855 -> 12655 | H71: 12653 | I71: =H71/G71 -> 0.99984196
A72: 4132 | B72: Nem önkormányzati tulajdonú lakóépületek veszélyelhárítása | C72: 31562 | D72: 31562 | E72: 31562 | F72: 31562 | G72: =31562+400 -> 31962 | H72: 14819 | I72: =H72/G72 -> 0.46364433 | J72: Városfejlesztési Bizottság (beszámolás)
A73: 4133 | B73: Veszélyes tűzfalak, kémények vizsgálata, bontása, ellenőrzése | J73: Városfejlesztési Bizottság (beszámolás)
A74: 4137 | B74: Sobieski u. 3-9 épületek bontása | D74: 270000 | E74: =270000-43844 -> 226156 | F74: =270000-43844+15000 -> 241156 | G74: =270000-43844+15000 -> 241156 | H74: 0 | I74: =H74/G74 -> 0
B75: Dologi kiadások | F75: =226156+15000 -> 241156 | G75: =226156+15000 -> 241156 | H75: 0 | I75: =H75/G75 -> 0
B76: Felújítások | F76: -226156 | G76: 0 | H76: 0
A77: 4140 | B77: Gyáli úti aluljáró felújítása
A78: 4141 | B78: Településrendezési eszközök | C78: 50000 | D78: =D79+D80+D81+D82 -> 101522 | E78: =E79+E80+E81+E82 -> 101522 | F78: =F79+F80+F81+F82 -> 101522 | G78: =G79+G80+G81+G82 -> 101522 | H78: =H79+H80+H81+H82 -> 37527 | I78: =H78/G78 -> 0.36964402 | J78: Városfejlesztési Bizottság (beszámolás)
B79: Személyi juttatások | D79: =456+800 -> 1256 | E79: =456+800 -> 1256 | F79: =456+800 -> 1256 | G79: =456+800 -> 1256 | H79: 1156 | I79: =H79/G79 -> 0.92038217
B80: Munkaadókat terhelő járulékok | D80: =99+200 -> 299 | E80: =99+200 -> 299 | F80: =99+200 -> 299 | G80: =99+200 -> 299 | H80: 173 | I80: =H80/G80 -> 0.57859532
B81: Beruházások | D81: =1691+24276+25000+12683 -> 63650 | E81: =63650+13310 -> 76960 | F81: =63650+13310+18750 -> 95710 | G81: =63650+13310+18750 -> 95710 | H81: 36198 | I81: =H81/G81 -> 0.37820499
B82: Felújítások | D82: =50000-800-200-12683 -> 36317 | E82: =36317-13310 -> 23007 | F82: =36317-13310-18750 -> 4257 | G82: =36317-13310-18750 -> 4257 | H82: 0 | I82: =H82/G82 -> 0
A83: 4100 | B83: Összesen: | C83: =SUM(C67+C68+C72+C73+C78+C77) -> 2595174 | D83: =SUM(D67+D68+D72+D73+D78+D77)+D74 -> 6541275 | E83: =SUM(E67+E68+E72+E73+E74+E77+E78) -> 6901275 | F83: =SUM(F67+F68+F72+F73+F74+F77+F78) -> 6916275 | G83: =SUM(G67+G68+G72+G73+G74+G77+G78) -> 6916275 | H83: =SUM(H67+H68+H72+H73+H74+H77+H78) -> 1363139 | I83: =H83/G83 -> 0.1970915
A84: 4200 | B84: Óvodák, oktatási, szociális és kulturális intézmények összesen
B85: Egészségügy, szociális védelem, szabadidő
A86: 4311 | B86: Börzsöny u. 19. sz. orvosi rendelő felújítása | C86: 49458 | D86: 49458 | E86: =49458-10510 -> 38948 | F86: =49458-10510 -> 38948 | G86: =49458-10510 -> 38948 | H86: 38926 | I86: =H86/G86 -> 0.99943514
B87: Dologi kiadások
B88: Felújítási kiadások
A89: 4312 | B89: Csengettyű utca 23. orvosi rendelő felújítása | E89: 5000 | F89: 5000 | G89: 5000 | H89: =H90+H91 -> 2798 | I89: =H89/G89 -> 0.5596
B90: Beruházások | F90: 2800 | G90: 2800 | H90: 2798 | I90: =H90/G90 -> 0.99928571
B91: Felújítások | F91: -2800 | G91: =5000-2800 -> 2200 | H91: 0 | I91: =H91/G91 -> 0
A92: 4313 | B92: Üllői út 65-67. orvosi rendelő felújtása | E92: 5000 | F92: 5000 | G92: 5000 | H92: =H94+H95 -> 2278 | I92: =H92/G92 -> 0.4556
A93: 4323 | B93: Bölcsőde konyha felújítása | I93: =H93/G93 -> #DIV/0!
B94: Dologi kiadások | F94: 4000 | G94: 4000 | H94: 2278 | I94: =H94/G94 -> 0.5695
B95: Felújítások | F95: -4000 | G95: =5000-4000 -> 1000 | H95: 0 | I95: =H95/G95 -> 0
A96: 4324 | B96: FESZ épületének felújítása
B97: Dologi kiadások
B98: Beruházások
B99: Felújítási kiadások
A100: 4325 | B100: Idősgondozás átalakítása
A101: 4326 | B101: Toronyház u. 11. tetőfelújítás
...

Sheet 9.mell 
A1: 9. melléklet
A2: 2025. évi beruházási, fejlesztési kiadások
J4: adatok eFt-ban
C5: 2025. évi előirányzat 5/2025. | D5: 2025. évi előirányzat 14/2025. | E5: 2025. évi előirányzat 18/2025. | F5: 2025. évi előirányzat 22/2025. | G5: 2025. évi előirányzat 1/2026. | H5: 2025. évi I-XII. havi teljesítés /2026. | I5: Index 8./7. | J5: Felhasználást és beszámolást koordináló
A6: Sorsz. | B6: Feladat megnevezése | J6: bizottság
A8: 1. | B8: 2. | C8: 3. | D8: 4. | E8: 5. | F8: 6. | G8: 7. | H8: 8. | I8: 9. | J8: 10.
B9: I. Önkormányzati beruházások összesen
B10: Egyéb kommunális feladatok
A11: 5002 | B11: Ifjúmunkás utca 32. Fitnesz park | C11: 45507 | D11: 45507 | E11: 45507 | F11: 45507 | G11: 45507 | H11: 0 | I11: =H11/G11 -> 0
A12: 5003 | B12: MÁV lakótelep parkoló
A13: 5004 | B13: MÁV csatornázás | C13: 50000 | D13: 50000 | E13: 50000 | F13: 50000 | G13: 50000 | H13: 0 | I13: =H13/G13 -> 0
A14: 5005 | B14: Közlekedésbiztonsági fejlesztés | C14: 30000 | D14: =30000+30000 -> 60000 | E14: =E15+E16 -> 60000 | F14: =F15+F16 -> 60000 | G14: =G15+G16 -> 60000 | H14: =H15+H16 -> 25466 | I14: =H14/G14 -> 0.42443333
B15: Dologi kiadások | E15: 312 | F15: 312 | G15: 312 | H15: 311 | I15: =H15/G15 -> 0.99679487
B16: Beruházások | E16: =60000-312 -> 59688 | F16: =60000-312 -> 59688 | G16: =60000-312 -> 59688 | H16: 25155 | I16: =H16/G16 -> 0.4214415
A17: 5006 | B17: Napfény u. - Gyáli sarok fásítás
A18: 5008 | B18: Tinódi parkba illemhelyiség | C18: 35560 | D18: 35560 | E18: 35560 | F18: 35560 | G18: 35560 | H18: 35560 | I18: =H18/G18 -> 1
A19: 5009 | B19: Boráros téri lift tervezése
A20: 5010 | B20: Elektromos rásegítésű teherszállító kerékpár | I20: =H20/G20 -> #DIV/0!
A21: 5010 | B21: Szoborpark | C21: 20000 | D21: 20000 | E21: 20000 | F21: 20000 | G21: 20000 | H21: 1841 | I21: =H21/G21 -> 0.09205
A22: 5011 | B22: Haller parkba illemhelyiség építése
A23: 5012 | B23: Belső-Ferencváros akadálymentesítés | C23: 181284 | D23: 181284 | E23: 181284 | F23: 181284 | G23: 181284 | H23: =H24+H25 -> 17717 | I23: =H23/G23 -> 0.097730633
B24: Beruházások | F24: =-27000+181284 -> 154284 | G24: =-27000+181284 -> 154284 | H24: 17717 | I24: =H24/G24 -> 0.11483368
B25: Egyéb felhalmozási célú kiadások | F25: 27000 | G25: 27000 | H25: 0
A26: 5013 | B26: Zöldfelületi kataszter, fakataszter elkészítése | C26: 14000 | D26: =D27+D28 -> 14176 | E26: =E27+E28 -> 14176 | F26: =F27+F28 -> 14176 | G26: =G27+G28 -> 14176 | H26: =H27+H28 -> 1963 | I26: =H26/G26 -> 0.13847348 | J26: Városfejlesztési Biz., József A. Városrészi Önk. (beszámolás)
B27: Dologi kiadások | D27: =176+2324 -> 2500 | E27: =2500+2508 -> 5008 | F27: =2500+2508 -> 5008 | G27: =2500+2508 -> 5008 | H27: 1963 | I27: =H27/G27 -> 0.39197284
B28: Beruházások | D28: =14000-2324 -> 11676 | E28: =11676-2508 -> 9168 | F28: =11676-2508 -> 9168 | G28: =11676-2508 -> 9168 | H28: 0 | I28: =H28/G28 -> 0
A29: 5014 | B29: Faültetés | C29: 35000 | D29: =35000+20000 -> 55000 | E29: =55000 -> 55000 | F29: =55000 -> 55000 | G29: =55000 -> 55000 | H29: 18487 | I29: =H29/G29 -> 0.33612727 | J29: Városfejlesztési Biz., József A. Városrészi Önk. (beszámolás)
A30: 5015 | B30: Kerékpáros infr. tervezés, kiépítés, fejlesztés, okosbicikli tárolók | C30: 15000 | D30: =D31+D32 -> 16925 | E30: =E31+E32 -> 16925 | F30: =F31+F32 -> 16925 | G30: =G31+G32 -> 16925 | H30: =H31+H32 -> 2562 | I30: =H30/G30 -> 0.15137371 | J30: Városfejlesztési Biz., József A. Városrészi Önk. (beszámolás)
B31: Dologi kiadások | D31: 4000 | E31: 4000 | F31: 4000 | G31: 4000 | H31: 637 | I31: =H31/G31 -> 0.15925
B32: Beruházások | D32: =12925 -> 12925 | E32: =12925 -> 12925 | F32: =12925 -> 12925 | G32: =12925 -> 12925 | H32: 1925 | I32: =H32/G32 -> 0.14893617
A33: 5016 | B33: Közterületi takarítógépek beszerzése | D33: 60000 | E33: 60000 | F33: 60000 | G33: 60000 | H33: 0 | I33: =H33/G33 -> 0 | J33: Városfejlesztési Bizottság
A34: 5018 | B34: Boráros téri lámpás zebra
A35: 5019 | B35: Pöttyös utcai metró felszíni rendezés | C35: 113958 | D35: =D36+D37 -> 113958 | E35: =E36+E37 -> 113958 | F35: =F36+F37 -> 113958 | G35: =G36+G37 -> 113958 | H35: =H36+H37 -> 113344 | I35: =H35/G35 -> 0.99461205
B36: Dologi kiadások | D36: 300 | E36: 300 | F36: 300 | G36: 300 | H36: 286 | I36: =H36/G36 -> 0.95333333
B37: Beruházások | D37: 113658 | E37: 113658 | F37: 113658 | G37: 113658 | H37: 113058 | I37: =H37/G37 -> 0.99472101
A38: 5010 | B38: Összesen: | C38: =SUM(C11:C35) -> 540309 | D38: =D11+D13+D14+D18+D21+D23+D26+D29+D30+D33+D35 -> 652410 | E38: =E11+E13+E14+E18+E21+E23+E26+E29+E30+E33+E35 -> 652410 | F38: =F11+F13+F14+F18+F21+F23+F26+F29+F30+F33+F35 -> 652410 | G38: =G11+G13+G14+G18+G21+G23+G26+G29+G30+G33+G35 -> 652410 | H38: =H11+H13+H14+H18+H21+H23+H26+H29+H30+H33+H35 -> 216940 | I38: =H38/G38 -> 0.33252096
B39: Önkormányzati vagyonnal való gazdálkodás
A40: 5020 | B40: Köztéri nyilvános illemhelyek kialakítása
A41: 5022 | B41: Epreserdő utcában parkolóhelyek kialakítása
A42: 5023 | B42: Ecseri úti metró megálló felszíni rendezése | C42: 1812918 | D42: 1812918 | E42: =E43+E44 -> 1810211 | F42: =F43+F44 -> 1810211 | G42: =G43+G44 -> 1810211 | H42: =H43+H44 -> 893614 | I42: =H42/G42 -> 0.49365185
B43: Dologi kiadások | E43: 3500 | F43: 3500 | G43: 3500 | H43: 1013 | I43: =H43/G43 -> 0.28942857
B44: Beruházások | E44: =1812918-3500-2707 -> 1806711 | F44: =1812918-3500-2707 -> 1806711 | G44: =1812918-3500-2707 -> 1806711 | H44: 892601 | I44: =H44/G44 -> 0.49404747
A45: 5026 | B45: Új önkormányzati bérház építés-tervezés | D45: 150000 | E45: 150000 | F45: 150000 | G45: 150000 | H45: 0 | I45: =H45/G45 -> 0
A46: 5020 | B46: Összesen: | C46: =C40+C41+C42 -> 1812918 | D46: =D40+D41+D42+D45 -> 1962918 | E46: =E40+E41+E42+E45 -> 1960211 | F46: =F40+F41+F42+F45 -> 1960211 | G46: =G40+G41+G42+G45 -> 1960211 | H46: =H40+H41+H42+H45 -> 893614 | I46: =H46/G46 -> 0.45587643
B47: Közrend, közbiztonság
A48: 5033 | B48: Térfigyelő rendszer fejlesztése | C48: 27100 | D48: 27100 | E48: 27100 | F48: =27100+8000 -> 35100 | G48: =27100+8000 -> 35100 | H48: 19184 | I48: =H48/G48 -> 0.54655271 | J48: Városfejlesztési Biz., József A. Városrészi Önk.
A49: 5038 | B49: Tervezési díjak TÉR-KÖZ | I49: =G49/G49 -> #DIV/0!
A50: 5037 | B50: Közvilágítás kiépítése MÁV | I50: =G50/G50 -> #DIV/0!
A51: 5039 | B51: MÁV lakótelep víz, közmű | I51: =G51/G51 -> #DIV/0!
A52: 5049 | B52: Tűzliliom park | I52: =G52/G52 -> #DIV/0!
B53: Dologi kiadások
B54: Beruházások
A55: 5034 | B55: Gyáli úti okososzlop telepítése | D55: =D56 -> 108 | E55: =E56 -> 108 | F55: =F56 -> 108 | G55: =G56 -> 108 | H55: =H56 -> 108 | I55: =H55/G55 -> 1
B56: Dologi kiadások | D56: 108 | E56: 108 | F56: 108 | G56: 108 | H56: 108 | I56: =H56/G56 -> 1
A57: 5030 | B57: Összesen: | C57: =SUM(C48)+C55 -> 27100 | D57: =SUM(D48)+D55 -> 27208 | E57: =SUM(E48)+E55 -> 27208 | F57: =SUM(F48)+F55 -> 35208 | G57: =SUM(G48)+G55 -> 35208 | H57: =SUM(H48)+H55 -> 19292 | I57: =H57/G57 -> 0.54794365
B58: Egészségügy, szoc.,szabadidő, sport, kultúra, oktatás, vallás
A59: 5055 | B59: FESZ új épületbe beszerzések | C59: 131192 | D59: 131192 | E59: 131192 | F59: 131192 | G59: 131192 | H59: =H60+H61 -> 119432 | I59: =H59/G59 -> 0.91036039
B60: Dologi kiadások | F60: =F59-F61 -> 16791 | G60: =16791+4250 -> 21041 | H60: 21002 | I60: =H60/G60 -> 0.99814648
B61: Beruházások | F61: =131192-16791 -> 114401 | G61: =131192-16791-4250 -> 110151 | H61: 98430 | I61: =H61/G61 -> 0.89359152
A62: 5056 | B62: Molnár F. Magyar-Angol Két Tanítási Nyelvi Ált. Isk. Okostanterem kial.
A63: 5061 | B63: Okostanterem kialakítása
A64: 5062 | B64: Óvodafejlesztés | C64: 1500000 | D64: 1500000 | E64: =E65+E66+E68+E67 -> 1500000 | F64: =F65+F66+F68+F67 -> 1500000 | G64: =G65+G66+G68+G67 -> 1500000 | H64: =H65+H66+H68+H67 -> 31717 | I64: =H64/G64 -> 0.021144667
B65: Személyi juttatások | E65: 900 | F65: 900 | G65: 900 | H65: 679 | I65: =H65/G65 -> 0.75444444
B66: Munkaadókat terhelő járulékok és szociális hozzájárulási adó | E66: 117 | F66: 117 | G66: 117 | H66: 0 | I66: =H66/G66 -> 0
B67: Dologi kiadások | E67: =30+39100 -> 39130 | F67: =30+39100 -> 39130 | G67: =30+39100 -> 39130 | H67: 23538 | I67: =H67/G67 -> 0.60153335
B68: Beruházások | E68: =1500000-30-40117 -> 1459853 | F68: =1500000-30-40117 -> 1459853 | G68: =1500000-30-40117 -> 1459853 | H68: 7500 | I68: =H68/G68 -> 0.0051375036
A69: 5060 | B69: Összesen: | C69: =SUM(C59:C64) -> 1631192 | D69: =SUM(D59:D64) -> 1631192 | E69: =SUM(E59:E64) -> 1631192 | F69: =F59+F64 -> 1631192 | G69: =G59+G64 -> 1631192 | H69: =H59+H64 -> 151149 | I69: =H69/G69 -> 0.092661685
B70: I. Önkormányzati beruházások összesen | C70: =SUM(C57+C46+C38+C69) -> 4011519 | D70: =SUM(D57+D46+D38+D69) -> 4273728 | E70: =SUM(E57+E46+E38+E69) -> 4271021 | F70: =SUM(F57+F46+F38+F69) -> 4279021 | G70: =SUM(G57+G46+G38+G69) -> 4279021 | H70: =SUM(H57+H46+H38+H69) -> 1280995 | I70: =H70/G70 -> 0.29936637
B71: Működési költségvetési kiadások
B72: Személyi juttatások | E72: =E65 -> 900 | F72: =F65 -> 900 | G72: =G65 -> 900 | H72: =H65 -> 679 | I72: =H72/G72 -> 0.75444444
B73: Munkaadókat terhelő járulékok és szociális hozzájárulási adó | E73: =E66 -> 117 | F73: =F66 -> 117 | G73: =G66 -> 117 | H73: =H66 -> 0 | I73: =H73/G73 -> 0
B74: Dologi kiadások | C74: =C27+C53+C56 -> 0 | D74: =D27+D31+D36+D53+D56 -> 6908 | E74: =E27+E31+E36+E43+E53+E56+E67+E15 -> 52358 | F74: =F27+F31+F36+F43+F53+F56+F67+F15+F60 -> 69149 | G74: =G27+G31+G36+G43+G53+G56+G67+G15+G60 -> 73399 | H74: =H27+H31+H36+H43+H53+H56+H67+H15+H60 -> 48858 | I74: =H74/G74 -> 0.6656494
B75: Egyéb működési célú kiadások
B76: Működési költségvetési kiadások mindösszesen | C76: =SUM(C72:C75) -> 0 | D76: =SUM(D72:D75) -> 6908 | E76: =SUM(E72:E75) -> 53375 | F76: =SUM(F72:F75) -> 70166 | G76: =SUM(G72:G75) -> 74416 | H76: =SUM(H72:H75) -> 49537 | I76: =H76/G76 -> 0.66567674
B77: Felhalmozási költségvetési kiadások
B78: Felújítások
B79: Beruházások | C79: =SUM(C57+C46+C38+C69)-C74-C72-C73-C80-C78 -> 4011519 | D79: =SUM(D57+D46+D38+D69)-D74-D72-D73-D80-D78 -> 4266820 | E79: =SUM(E57+E46+E38+E69)-E74-E72-E73-E80-E78 -> 4217646 | F79: =SUM(F57+F46+F38+F69)-F74-F72-F73-F80-F78 -> 4181855 | G79: =SUM(G57+G46+G38+G69)-G74-G72-G73-G80-G78 -> 4177605 | H79: =SUM(H57+H46+H38+H69)-H74-H72-H73-H80-H78 -> 1231458 | I79: =H79/G79 -> 0.29477607
B80: Egyéb felhalmozási célú kiadások | F80: =F25 -> 27000 | G80: =G25 -> 27000 | H80: =H25 -> 0 | I80: =H80/G80 -> 0
B81: Felhalmozási költségvetési kiadások mindösszesen | C81: =SUM(C78:C80) -> 4011519 | D81: =SUM(D78:D80) -> 4266820 | E81: =SUM(E78:E80) -> 4217646 | F81: =SUM(F78:F80) -> 4208855 | G81: =SUM(G78:G80) -> 4204605 | H81: =SUM(H78:H80) -> 1231458 | I81: =H81/G81 -> 0.29288316
B82: Kiadások mindösszesen | C82: =SUM(C57+C46+C38+C69) -> 4011519 | D82: =SUM(D57+D46+D38+D69) -> 4273728 | E82: =SUM(E57+E46+E38+E69) -> 4271021 | F82: =SUM(F57+F46+F38+F69) -> 4279021 | G82: =SUM(G57+G46+G38+G69) -> 4279021 | H82: =SUM(H57+H46+H38+H69) -> 1280995 | I82: =H82/G82 -> 0.29936637

Sheet 10.mell. 
A1: 10. melléklet
A3: Az önkormányzat költségvetésében szereplő 2025. évi tartalékok
G6: adatok eFt-ban
A7: Sorsz. | B7: Megnevezés | C7: 2025. évi előirányzat 5/2025. | D7: 2025. évi előirányzat 14/2025. | E7: 2025. évi előirányzat 18/2025. | F7: 2025. évi előirányzat 22/2025. | G7: 2025. évi előirányzat 1/2026.
A10: 1. | B10: 2. | C10: 3. | D10: 4. | E10: 5. | F10: 6. | G10: 7.
A12: 6110 | B12: Általános tartalék - egyéb működési célú kiadás | C12: 116739 | D12: =116739+36173+2517794-2474405 -> 196301 | E12: =196301+42502-13325-190552+100000 -> 134926 | F12: =196301+42502-13325-190552+100000-15500+51909+30811-832241+730095 -> 100000 | G12: =100000+56981+1259601 -> 1416582
A14: 6120 | B14: Céltartalék - egyéb működés célú kiadás | C14: =SUM(C19) -> 500000 | D14: =SUM(D19) -> 500000 | E14: =SUM(E19) -> 814917 | F14: =SUM(F19) -> 387362 | G14: =SUM(G19) -> 532170
B16: ebből: Működési célú céltartalék
B19: ebből: Felhalmozási célú céltartalék | C19: =SUM(C20:C24) -> 500000 | D19: =SUM(D20:D24) -> 500000 | E19: =SUM(E20:E24) -> 814917 | F19: =SUM(F20:F24) -> 387362 | G19: =SUM(G20:G24) -> 532170
A20: 6135 | B20: Parkoló Alap | G20: 64000
A21: 6141 | B21: AVICO Riverbay telekátlkítási megállapodás
A22: 6142 | B22: Fejlesztési céltartalék | C22: 300000 | D22: 300000 | E22: =300000+429867-14950-100000 -> 614917 | F22: =300000+429867-14950-100000+302540-730095 -> 187362 | G22: =300000+429867-14950-100000+302540-730095+27255+3995+49402+156 -> 268170
A23: 6143 | B23: Lónyay Property célbefizetés | C23: 200000 | D23: 200000 | E23: 200000 | F23: 200000 | G23: 200000
A25: 6100 | B25: Mindösszesen | C25: =SUM(C16+C19+C12) -> 616739 | D25: =SUM(D16+D19+D12) -> 696301 | E25: =SUM(E16+E19+E12) -> 949843 | F25: =SUM(F16+F19+F12) -> 487362 | G25: =SUM(G16+G19+G12) -> 1948752

Sheet 11.mell. 
A1: 11. melléklet
A3: Az Európai Unió-s forrásokkal támogatott fejlesztések tervezett 2025. évi adatairól
N6: adatok eFt-ban
A7: Sorsz. | B7: Megnevezés | D7: Tervezett költségvetési adatok | I7: 2025 évi előirányzat 5/2025. | J7: 2025. évi előirányzat 14/2025. | K7: 2025. évi előirányzat 18/2025. | L7: 2025. évi előirányzat 22/2025. | M7: 2025. évi előirányzat 1 /2026. | N7: 2025. évi I-XII. havi teljesítés /2026.
A9: 1. | B9: CLAP Gyermekek helyi ügyekben való részvétele | D9: Bevétel | E9: Támogatás államháztartáson kívülről -működési | K9: ='2.mell. '!E79 -> 2673 | L9: ='2.mell. '!F79 -> 2673 | M9: ='2.mell. '!G79 -> 1220 | N9: ='2.mell. '!H79 -> 1220
E10: Támogatás államháztartáson kívülről -felhalmozási
D11: Kiadások | E11: Személyi juttatások | K11: ='6.mell.'!E376 -> 2366 | L11: ='6.mell.'!F376 -> 2366 | M11: 988 | N11: 988
E12: Munkaadókat terhelő járulékok és szocho. | K12: ='6.mell.'!E377 -> 307 | L12: ='6.mell.'!F377 -> 307 | M12: 129 | N12: 129
E13: Dologi kiadások | M13: ='6.mell.'!G378 -> 103 | N13: ='6.mell.'!H378 -> 0
E14: Egyéb működési célú kiadások
E15: Beruházási kiadások
E16: Felújítási kiadások
E17: ebből önkormányzati hozzájárulás
A18: 2. | B18: VEKOP-7 3 4-17-2017-00011 | D18: Bevétel | E18: Támogatás államháztartáson belülről -működési
E19: Támogatás államháztartáson belülről -felhalmozási
D20: Kiadások | E20: Személyi juttatások
E21: Munkaadókat terhelő járulékok és szocho.
E22: Dologi kiadások | J22: ='6.mell.'!D396 -> 100 | K22: ='6.mell.'!E396 -> 100 | L22: ='6.mell.'!F396 -> 100 | M22: ='6.mell.'!G396 -> 100 | N22: ='6.mell.'!H396 -> 0
E23: Egyéb működési célú kiadások
E24: Beruházási kiadások
E25: Felújítási kiadások
E26: ebből önkormányzati hozzájárulás
A27: 3. | B27: EUCF | D27: Bevétel | E27: Támogatás államháztartáson kívülről -működési | I27: ='2.mell. '!C79 -> 0 | J27: ='2.mell. '!D79 -> 0 | K27: 0 | L27: 0 | M27: ='2.mell. '!K79 -> 0 | N27: ='2.mell. '!L79 -> 0
E28: Támogatás államháztartáson kívülről -felhalmozási
D29: Kiadások | E29: Személyi juttatások
E30: Munkaadókat terhelő járulékok és szocho.
E31: Dologi kiadások
E32: Egyéb működési célú kiadások
E33: Beruházási kiadások
E34: Felújítási kiadások
E35: ebből önkormányzati hozzájárulás
A36: 4. | B36: NEXT LEVEL Parking | D36: Bevétel | E36: Támogatás államháztartáson kívülről -működési | K36: ='2.mell. '!E77 -> 41576 | L36: ='2.mell. '!F77 -> 41576 | M36: ='2.mell. '!G77 -> 41576 | N36: ='2.mell. '!H77 -> 0
E37: Támogatás államháztartáson kívülről -felhalmozási | K37: ='2.mell. '!E105 -> 9899 | L37: ='2.mell. '!F105 -> 9899 | M37: ='2.mell. '!G105 -> 9899 | N37: ='2.mell. '!H105 -> 0
D38: Kiadások | E38: Személyi juttatások | K38: ='6.mell.'!E421 -> 32237 | L38: ='6.mell.'!F421 -> 32237 | M38: 32237 | N38: 18960
E39: Munkaadókat terhelő járulékok és szocho. | K39: ='6.mell.'!E422 -> 4191 | L39: ='6.mell.'!F422 -> 4191 | M39: 4191 | N39: 2451
E40: Dologi kiadások | J40: ='6.mell.'!D423 -> 1638 | K40: ='6.mell.'!E423 -> 6786 | L40: ='6.mell.'!F423 -> 6786 | M40: ='6.mell.'!G423 -> 6786 | N40: ='6.mell.'!H423 -> 1972
E41: Egyéb működési célú kiadások
E42: Beruházási kiadások | K42: ='6.mell.'!E426 -> 9899 | L42: ='6.mell.'!F426 -> 9899 | M42: ='6.mell.'!G426 -> 9899 | N42: ='6.mell.'!H426 -> 0
E43: Felújítási kiadások
E44: ebből önkormányzati hozzájárulás
A45: Összesen | D45: Bevétel | E45: Támogatás államháztartáson belülről -működési | I45: 0 | J45: 0 | K45: =K18 -> 0 | L45: =L18 -> 0 | M45: =M18 -> 0 | N45: =N18 -> 0
E46: Támogatás államháztartáson belülről -felhalmozási | K46: =K19 -> 0 | L46: =L19 -> 0 | M46: =M19 -> 0 | N46: =N19 -> 0
E47: Támogatás államháztartáson kívülről -működési | K47: =K9+K27+K36 -> 44249 | L47: =L9+L27+L36 -> 44249 | M47: =M9+M27+M36 -> 42796 | N47: =N9+N27+N36 -> 1220
E48: Támogatás államháztartáson kívülről -felhalmozási | K48: =K10+K28+K37 -> 9899 | L48: =L10+L28+L37 -> 9899 | M48: =M10+M28+M37 -> 9899 | N48: =N10+N28+N37 -> 0
D49: Kiadások | E49: Személyi juttatások | I49: =I29 -> 0 | J49: =J20+J29+J38 -> 0 | K49: =K11+K20+K29+K38 -> 34603 | L49: =L11+L20+L29+L38 -> 34603 | M49: =M11+M20+M29+M38 -> 33225 | N49: =N11+N20+N29+N38 -> 19948
E50: Munkaadókat terhelő járulékok és szocho. | I50: =I30 -> 0 | J50: =J21+J30+J39 -> 0 | K50: =K12+K21+K30+K39 -> 4498 | L50: =L12+L21+L30+L39 -> 4498 | M50: =M12+M21+M30+M39 -> 4320 | N50: =N12+N21+N30+N39 -> 2580
E51: Dologi kiadások | I51: =I31 -> 0 | J51: =J22+J31+J40 -> 1738 | K51: =K13+K22+K31+K40 -> 6886 | L51: =L13+L22+L31+L40 -> 6886 | M51: =M13+M22+M31+M40 -> 6989 | N51: =N13+N22+N31+N40 -> 1972
E52: Egyéb működési célú kiadások | I52: =I32 -> 0 | J52: =J23+J32+J41 -> 0 | K52: =K14+K23+K32+K41 -> 0 | L52: =L14+L23+L32+L41 -> 0 | M52: =M14+M23+M32+M41 -> 0 | N52: =N14+N23+N32+N41 -> 0
E53: Ellátottak pénzbeli juttatásai | I53: =I33 -> 0 | J53: =J24+J33+J42 -> 0 | K53: 0 | L53: 0 | M53: 0 | N53: 0
E54: Felújítási kiadások | I54: =I34 -> 0 | J54: =J25+J34+J43 -> 0 | K54: =K16+K25+K34+K43 -> 0 | L54: =L16+L25+L34+L43 -> 0 | M54: =M16+M25+M34+M43 -> 0 | N54: =N16+N25+N34+N43 -> 0
E55: ebből önkormányzati hozzájárulás | I55: =I35 -> 0 | J55: =J35 -> 0 | K55: =K35 -> 0 | L55: =L35 -> 0 | M55: =M35 -> 0 | N55: =N35 -> 0
E56: Beruházási kiadások | I56: =I36 -> 0 | J56: =J24+J33+J42 -> 0 | K56: =K42 -> 9899 | L56: =L42 -> 9899 | M56: =M42 -> 9899 | N56: =N42 -> 0
E57: ebből önkormányzati hozzájárulás | K57: 0 | L57: 0 | M57: 0 | N57: 0

Sheet 12.mell. 
A2: 12. melléklet
A3: 2025. évi közvetett támogatások
I7: adatok eFt-ban
A8: Sorsz. | B8: A támogatás jellege | F8: Adókedvezmény | H8: Egyéb kedvezmény
F9: jogcím | G9: összeg | H9: jogcím | I9: összeg
A10: 1. | B10: Építményadó | F10: elengedés | G10: 51 | H10: részletfizetés | I10: 584442
A11: 2. | B11: Telekadó | F11: elengedés | G11: 143 | H11: részletfizetés | I11: 57738
A12: 3. | B12: Ellátottak térítési díja gyermekétkeztetés | H12: méltányosság | I12: 45
A13: 4. | B13: Ellátottak térítési díja személyes gondoskodás | H13: méltányosság | I13: 8365
A14: 5. | B14: Helyiség bérleti díj (nettó) | H14: közérdekű bérbeadás | I14: 106342

Sheet 13.mell. 
B2: 13. számú melléklet
B4: 2025. évi Polgármesteri Hivatal és Intézményi átlagos statisztikai állományi létszámadatok
J7: adatok fő-ben
A8: Ssz. | B8: Polgármesteri Hivatal Irodánként | E8: Átlagos statisztikai állományi létszám összesen 2025. év /2026. | F8: Engedélyezett létszám
F9: Szakmai létszám | H9: Egyéb létszám | J9: Közfoglalkoz-tatottak létszáma
F10: Teljes munkaidős | G10: Részmun-kaidős | H10: Teljes munkaidős | I10: Részmun-kaidős
B12: Polgármesteri Hivatal összesen
A14: 1. | B14: POLGÁRMESTERI KABINET | E14: 15.9 | F14: 15.9
A15: 2. | B15: JEGYZŐ | E15: 0.8 | F15: 0.8
A16: 3. | B16: ALJEGYZŐK | E16: 1.3 | F16: 1.3
A17: 4. | B17: JEGYZŐI KABINET | E17: 60.9 | F17: 41.75 | G17: 1.25 | H17: 16 | I17: 1.9
A18: 5. | B18: FŐÉPÍTÉSZI CSOPORT | E18: 3.7 | F18: 3.7
A19: 6. | B19: GAZDASÁGI IRODA | E19: 20.6 | F19: 20.1 | G19: 0.5
A20: 7. | B20: HATÓSÁGI IRODA | E20: 53.4 | F20: 47.15 | G20: 2.25 | H20: 4
A21: 8. | B21: HUMÁNSZOLGÁLTATÁSI IRODA | E21: 20.1 | F21: 19.35 | G21: 0.75
A22: 9. | B22: VAGYONGAZDÁLKODÁSI IRODA | E22: 17.9 | F22: 17.4 | G22: 0.5
A23: 10. | B23: VÁROSÜZEMELTETÉSI IRODA | E23: 14.3 | F23: 14.3
A24: 11. | B24: KÖZTERÜLET-FELÜGYELET | E24: 49.4 | F24: 34.4 | H24: 15
B25: Összesen | E25: =SUM(E14:E24) -> 258.3 | F25: =SUM(F14:F24) -> 216.15 | G25: =SUM(G14:G24) -> 5.25 | H25: =SUM(H14:H24) -> 35 | I25: =SUM(I14:I24) -> 1.9
A30: Ssz. | B30: Intézmény megnevezése | E30: Átlagos statisztikai állományi létszám összesen 2025. év /2026. | F30: Engedélyezett létszám
F31: Szakmai létszám | H31: Egyéb létszám | J31: Közfoglalkoz-tatottak létszáma
F32: Teljes munkaidős | G32: Részmun-kaidős | H32: Teljes munkaidős | I32: Részmun-kaidős
A34: 12. | B34: Csicsergő Óvoda | E34: 31 | F34: 32
A35: 13. | B35: Csudafa Óvoda | E35: 29 | F35: 31
A36: 14. | B36: Epres Óvoda | E36: 16 | F36: 16
A37: 15. | B37: Kerekerdő Óvoda | E37: 58 | F37: 67
A38: 16. | B38: Kicsi Bocs Óvoda | E38: 31 | F38: 32
A39: 17. | B39: Liliom Óvoda | E39: 24 | F39: 25
A40: 18. | B40: Méhecske Óvoda | E40: 15 | F40: 16
A41: 19. | B41: Napfény Óvoda | E41: 17 | F41: 17
A42: 20. | B42: Ugrifüles Óvoda | E42: 16 | F42: 16
A43: 21. | B43: Ferencvárosi Intézmény Üzemeltetés Központ | E43: 162 | F43: 165
A44: 22. | B44: Fvi Egyesített Bölcsödék | E44: 109 | F44: 69 | G44: 1 | H44: 46
A45: 23. | B45: FESZGYI | E45: 140 | F45: 123 | G45: 11 | H45: 22 | I45: 2
A46: 24. | B46: FMK | E46: 24 | F46: 25
A47: 25. | B47: Pinceszínház | E47: 15 | F47: 15
A48: 26. | B48: Ferencvárosi Egészségügyi Szolgálat | E48: 234 | F48: 109 | G48: 91 | H48: 25 | I48: 9 | J48: 0
B49: Köznevelési, szociális, kulturális, egészségügyi intézmények összesen | E49: =SUM(E34:E48) -> 921 | F49: =SUM(F34:F48) -> 758 | G49: =SUM(G34:G48) -> 103 | H49: =SUM(H34:H48) -> 93 | I49: =SUM(I34:I48) -> 11
B50: Mindösszesen: | E50: =SUM(E49+E25) -> 1179.3 | F50: =SUM(F49+F25) -> 974.15 | G50: =SUM(G49+G25) -> 108.25 | H50: =SUM(H49+H25) -> 128 | I50: =SUM(I49+I25) -> 12.9

Sheet 14. mell.
A1: 14. melléklet
A3: Mutatószámok, feladatmutatók alapján járó támogatások elszámolása 2025. év
M4: adatok eFt-ban
A5: Az állami támogatás jogcímei | B5: Költségvetési törvény szerint igényelt támogatás összege | C5: Támogatások évközi változása 2025. május hó | D5: Támogatás évközi változása - 2025. október hó | E5: Tényleges járó támogatás összege 2025. év | F5: Év végi eltérés mutatószám szerinti támogatás 2025. év (5=-(2+3+4)) | G5: A támogatási jogcímhez kapcsolódó kormányzati funkciók szerinti kiadások összege | H5: Az önkormányzat által az adott célra 2025. december 31-ig ténylegesen felhasznált összeg | I5: Többlettámogatás összege | J5: 2025. évben az óvodában foglalkoztatott pedagógusok béremeléséhez kapcsolódó többlettámogatás elszámolása | K5: A 2025. évi bérintézkedések támogatásból az adott célra december 31-ig ténylegesen felhasznált összeg | L5: 2025. évben az óvodában foglalkoztatott pedagógusok béremeléséhez kapcsolódó többlettámogatás elszámolása visszafizetendő összege | M5: Helyi Önkormányzatok visszafizetési kötelezettsége, pótlólagos támogatása (13=9-12)
A6: 1. | B6: 2. | C6: 3. | D6: 4. | E6: 5. | F6: 6. | G6: 7. | H6: 8. | I6: 9. | J6: 10. | K6: 11. | L6: 12. | M6: 13.
A7: A települési önkormányzatok működésének támogatása | B7: 937381005 | C7: 0 | D7: 0 | E7: =SUM(B7:D7) -> 937381005 | F7: =E7-D7-C7-B7 -> 0 | G7: 937381005 | H7: 937381005 | I7: 0 | J7: 0 | K7: 0 | L7: 0 | M7: =I7-L7 -> 0
A8: A települési önkormányzatok egyes köznevelési feladatainak támogatása | B8: 1654014798 | C8: 54368024 | D8: 11278230 | E8: 1719224116 | F8: =E8-D8-C8-B8 -> -436936 | G8: 1719661052 | H8: 1719224116 | I8: =E8-(B8+C8+D8) -> -436936 | J8: 207753300 | K8: 268353591 | L8: 0 | M8: =I8-L8 -> -436936
A9: Egyes szociális és gyermekjóléti feladatok támogatása - család és gyermekjóléti szolgálat/központ | B9: 129883155 | C9: 0 | D9: 0 | E9: 129883155 | F9: =E9-D9-C9-B9 -> 0 | G9: 129883155 | H9: 129883155 | I9: 0 | J9: 0 | K9: 0 | L9: =J9-K9 -> 0 | M9: =I9-L9 -> 0
A10: Egyes szociális és gyermekjóléti feladatok támogatása - család és gyermekjóléti szolgálat/központ kivételével | B10: 180338200 | C10: 6873300 | D10: 7932100 | E10: 200267420 | F10: =E10-D10-C10-B10 -> 5123820 | G10: 195143600 | H10: 195143600 | I10: 0 | J10: 0 | K10: 0 | L10: =J10-K10 -> 0 | M10: =I10-L10 -> 0
A11: Bölcsőde, mini bölcsőde támogatása | B11: 690005129 | C11: 8719366 | D11: -8735722 | E11: 687929373 | F11: =E11-D11-C11-B11 -> -2059400 | G11: 1251092177 | H11: 687929373 | I11: =E11-(B11+C11+D11) -> -2059400 | J11: 0 | K11: 0 | L11: =J11-K11 -> 0 | M11: =I11-L11 -> -2059400
A12: A települési önkormányzatok által biztosított egyes szociális szakosított ellátások, valamint a gyermekek átmeneti gondozásával kapcsolatos feladatok támogatása | B12: 78859856 | C12: -9723071 | D12: 6420697 | E12: 75557482 | F12: =E12-D12-C12-B12 -> 0 | G12: 230604777 | H12: 75557482 | I12: 0 | J12: 0 | K12: 0 | L12: =J12-K12 -> 0 | M12: =I12-L12 -> 0
A13: Intézményi gyermekétkeztetés támogatása | B13: 515256059 | C13: -17736895 | D13: 91944150 | E13: 606375754 | F13: =E13-D13-C13-B13 -> 16912440 | G13: 1151458598 | H13: 606375754 | I13: =E13-(B13+C13+D13) -> 16912440 | J13: 0 | K13: 0 | L13: =J13-K13 -> 0 | M13: =I13-L13 -> 16912440
A14: Szünidei étkeztetés támogatása | B14: 8550 | C14: 1425 | D14: 50730 | E14: 63555 | F14: =E14-D14-C14-B14 -> 2850 | G14: 60705 | H14: 60705 | I14: 0 | J14: 0 | K14: 0 | L14: =J14-K14 -> 0 | M14: =I14-L14 -> 0
F15: =E15-D15-C15-B15 -> 0 | I15: =E15-(B15+C15+D15) -> 0 | J15: 0 | M15: =I15-L15 -> 0
A16: Összesen | B16: =SUM(B7:B15) -> 4185746752 | C16: =SUM(C7:C15) -> 42502149 | D16: =SUM(D7:D15) -> 108890185 | E16: =SUM(E7:E15) -> 4356681860 | F16: =SUM(F7:F15) -> 19542774 | G16: =SUM(G7:G15) -> 5615285069 | H16: =SUM(H7:H15) -> 4351555190 | I16: =SUM(I7:I15) -> 14416104 | ... M16: =SUM(M7:M15) -> 14416104

Sheet 15. mell.
A1: 15. melléklet
A3: Helyi önkormányzatok legfeljebb kettő évig felhasználható támogatásainak elszámolása, 2025. évben
E4: adatok eFt-ban
A5: Az állami támogatás jogcímei | B5: A központi költségvetésből támogatásként rendelkezésre bocsátott összeg | C5: Az önkormányzat által az adott célra ténylegesen felhasznált összeg | D5: Az önkormányzat által fel nem használt, de a következő évben jogszerűen felhasználható összeg | E5: Az önkormányzat által visszafizetendő/ az önkormányzatok részére utalandó összeg
A6: 1. | B6: 2. | C6: 3. | D6: 4. | E6: 5.
A7: Fővárosi kerületi önkormányzatok kulturális feladatainak támogatása | B7: 30046632 | C7: 30046632 | D7: =B7-C7 -> 0 | E7: =SUM(B7-C7) -> 0
A8: Szociális ágazati összevont pótlék | B8: 178707969 | C8: 178707969 | D8: =B8-C8 -> 0 | E8: =SUM(B8-C8) -> 0
A9: Óvodai és iskolai szociális segítő tevékenység támogatása | D9: =B9-C9 -> 0 | E9: =SUM(B9-C9) -> 0
A10: Zeneművészeti szervezetek támogatása | B10: 313825730 | C10: 313825730 | D10: =B10-C10 -> 0 | E10: =SUM(B10-C10) -> 0
A11: Települési önkormányzatok kulturális feladatainak bérjellegű támogatása | B11: 30811442 | C11: 30811442 | D11: =B11-C11 -> 0 | E11: =SUM(C11-B11) -> 0
A12: Helyi Önkormányzatok működési célú költségvetési támogatásai | B12: =SUM(B8:B11) -> 523345141 | C12: =SUM(C8:C11) -> 523345141 | D12: =SUM(D7:D11) -> 0 | E12: =SUM(E7:E11) -> 0
A14: Budapest főváros IX. kerület Ferencváros Önkormányzata óvodafejlestzésének támogatása | B14: 750000000 | C14: 0 | D14: 0 | E14: =SUM(B14-C14) -> 750000000
A16: Mindösszesen | B16: =B7+B12+B14 -> 1303391773 | C16: =C7+C12+C14 -> 553391773 | D16: =D7+D12+D14 -> 0 | E16: =E7+E12+E14 -> 750000000

Sheet 16. mell.
A3: 16. melléklet
A5: Polgármesteri Hivatal
A7: 2025. évi maradvány kimutatása
C10: adatok eFt-ban
A11: Sorszám | B11: Megnevezés | C11: Összeg
B13: Alaptevékenység költségvetési bevételei | C13: 92244
B14: Alaptevékenység költségvetési kiadásai | C14: 4100633
B15: Alaptevékenység költségvetési egyenlege | C15: =SUM(C13-C14) -> -4008389
B16: Alaptevékenység finanszírozási bevétele | C16: 4255925
B17: Alaptevékenység finanszírozási egyenlege | C17: =SUM(C16) -> 4255925
B18: Alaptevékenység maradványa | C18: =SUM(C17,C15) -> 247536
B21: 3. melléklet 1.pont
A22: 3011 | B22: Balatonszéplaki Üdülő | C22: =SUM(C23:C26) -> 4140
B23: Személyi juttatások | C23: 0
B24: Munkaadókat terhelő jár. és szociális hozzájár.adó | C24: 0
B25: Dologi kiadások | C25: 1717
B26: Beruházások | C26: 2423
A27: 3021 | B27: Polgármesteri Hivatal igazgatási kiadásai | C27: =SUM(C28:C32) -> 229335
B28: Személyi juttatások | C28: 58111
B29: Munkaadókat terhelő jár. és szociális hozzájár.adó | C29: 23738
B30: Dologi kiadások | C30: 133279
B31: Beruházások | C31: 1067
B32: Felújítás | C32: 13140
A33: 3026 | B33: Informatikai működés és fejlesztés | C33: =SUM(C34:C35) -> 85702
B34: Dologi kiadások | C34: 55828
B35: Beruházások | C35: 29874
B37: Kötelezettséggel vállalt maradvány mindösszesen | C37: =C22+C27+C33 -> 319177
B39: Alaptevékenység szabad maradványa | C39: =C18-C37 -> -71641
B41: Mindösszesen | C41: =SUM(C37+C39) -> 247536

Sheet 17. mell.
A2: 17. melléklet
A4: Az Önkormányzat
A6: 2025. évi maradvány kimutatása
C7: adatok eFt-ban
A8: Sorszám | B8: Megnevezés | C8: Összeg
B10: Alaptevékenység költségvetési bevételei | C10: 34595300
B11: Alaptevékenység költségvetési kiadásai | C11: 15685730
B12: Alaptevékenység költségvetési egyenlege | C12: =SUM(C10-C11) -> 18909570
B13: Alaptevékenység finanszírozási bevétele | C13: 44074159
B14: Alaptevékenység finanszírozási kiadásai | C14: 60801832
B15: Alaptevékenység finanszírozási egyenlege | C15: =SUM(C13-C14) -> -16727673
B16: Alaptevékenység maradványa | C16: =C12+C15 -> 2181897
B19: 2026. évi 2/2026.(I.30.) eredeti költségvetés | C19: 0
B21: 1 melléklet 3. pont
A22: 1801 | B22: Kamat kiadás, banki költségek, tranzakciós díjak | C22: 4640
B24: 3. melléklet 2.pont
A25: 3056 | B25: Közterületüzemeltetési egyéb feladatok | C25: 6163
A26: 3057 | B26: Fasorfenntartás | C26: 144510
A27: 3058 | B27: Erdőgazdálkodás | C27: 11843
A28: 3059 | B28: Ferencvárosi Klímastratégia végrehajtása | C28: 11486
A29: 3061 | B29: Közutak üzemeltetése | C29: 3279
A30: 3071 | B30: Köztisztasági feladatok | C30: 18341
A31: 3081 | B31: Köztemetés | C31: 2858
A32: 3111 | B32: Lakáslemondás térítés, lakásbiztosíték visszafizetés | C32: 334392
A33: 3112 | B33: Játszóterek karbantartása | C33: 37135
A34: 3114 | B34: Ingatlanokkal kapcsolatos egyéb feladatok | C34: 16885
A35: 3115 | B35: Lakás és helyiség karbantartás | C35: =9381-1689 -> 7692
A36: 3116 | B36: Magyar Máltai Szeretetszolgálat Egyesület-Közösségi hasznosítás | C36: 2596
A37: 3121 | B37: KF - rehabilitáció járulékos költségek | C37: 1651
A38: 3123 | B38: Bérlakás és egyéb ingatlan elidegenítés | C38: 1663
A39: 3145 | B39: Ifjusági koncepció végrehajtásával összefüggő feladat | C39: 2822
A40: 3146 | B40: Kulturális, oktatási, egyházügyi és Nemzetiségi feladatok | C40: 262
A41: 3148 | B41: Diákok látogatása Holocaust emlékközpontban | C41: 984
A42: 3200 | B42: Képviselők és választott tisztségviselők juttatásai | C42: 4249
A43: 3201 | B43: Önkormányzati szakmai feladatokkal kapcsolatos kiadások | C43: 43045
A44: 3202 | B44: Helyi esélyegyenlőségi program végrehajtásával összefüggő feladatok | C44: 580
A45: 3204 | B45: Térfigyelő rendszer karbantartásának, üzemeltetésének költs. | C45: 10321
A46: 3205 | B46: Környezetvédelem | C46: 25682
A47: 3206 | B47: Részvételi költségvetés | C47: 2481
... A80: 3451 | B80: Nemzetiségi Önkormányzatok működési kiadásai | C80: 2077
B81: 3. melléklet 2. pont összesen | C81: =SUM(C25:C80) -> 1140114
B83: 3. melléklet 3.pont
A84: 3911 | B84: Társasházak támogatásai | C84: 53
A85: 3924 | B85: IX. kerületi Rendőrkapitányság támogatása | C85: 750
A86: 3926 | B86: Tűzoltóság támogtása | C86: 2000
A87: 3928 | B87: Társasház felújítási pályázat | C87: 211961
A88: 3931 | B88: Bursa Hungarica | C88: 125
A89: 3972 | B89: Kulturális tevékenység, egyházi és civil szerv.támog támogatása | C89: 3259
A90: 3973 | B90: Irodalmi pályázat | C90: 1517
B91: 3. melléklet 3.pont összesen | C91: =SUM(C84:C90) -> 219665
B93: 4. sz. melléklet | C93: 0
B95: 4. sz. melléklet összesen | C95: =SUM(C94:C94) -> 0
B97: 5. sz. melléklet | C97: 0
B99: 5. sz. melléklet összesen | C99: =SUM(C98:C98) -> 0
B101: Kötelezettséggel vállalt maradvány mindösszesen | C101: =C22+C81+C91+C95+C99 -> 1364419
B103: Költségvetési szerveknek biztosítandó maradvány alulfinanszírozás miatt | C103: 465460
B104: Polgármesteri Hivatalnak biztosítandó maradvány alulfinanszírozás miatt | C104: 71641
B105: Támogatási bevételekből kötött felhasználású maradvány | C105: 3983
B107: Önkormányzat felhasználható szabad maradványa összesen | C107: =SUM(C16-C101-C103-C104-C105) -> 276394
B109: Összesen | C109: =SUM(C107,C105,C104,C103,C101) -> 2181897

Sheet 18. mell.
A2: 18. melléklet
A4: Intézmények
A6: 2025. évi alap - és vállalkozói tevékenység maradvány kimutatása
A8: Alaptevékenység maradvány kimutatása | O8: adatok eFt-ban
A9: Intézmény megnevezése | B9: Alaptevékenység költségvetési bevételei | C9: Alaptevékenység költségvetési kiadásai | D9: Alaptevékenység költségvetési egyenlege | E9: Alaptevékenység finanszírozási bevételei | F9: Alaptevékeny-ség maradványa | G9: Alaptevékenységből a szabad maradvány összege | H9: Szabad maradvánnyal korrigált alaptevékeny-ség maradványa | I9: Kötel. terhelt maradvány | J9: 2026. évben biztosítandó | K9: Alaptevékenység maradványának felosztása
K10: Személyi juttatások | L10: Munkaadói járulék | M10: Dologi kiadások | N10: Beruházási kiadások | O10: Felújítási kiadások
A11: Csicsergő Óvoda | B11: 1670 | C11: 317722 | D11: =SUM(B11-C11) -> -316052 | E11: 318948 | F11: =SUM(D11+E11) -> 2896 | G11: 0 | H11: =F11-G11 -> 2896 | I11: 3402 | J11: =I11-F11 -> 506 | K11: 135 | L11: 1353 | M11: =1408+506 -> 1914 | N11: 0 | O11: 0
A12: Csudafa Óvoda | B12: 830 | C12: 313085 | D12: =SUM(B12-C12) -> -312255 | E12: 313130 | F12: =SUM(D12+E12) -> 875 | G12: 0 | H12: =F12-G12 -> 875 | I12: 3181 | J12: =I12-F12 -> 2306 | K12: 706 | L12: =169+1465 -> 1634 | M12: 841 | N12: 0 | O12: 0
A13: Epres Óvoda | B13: 1971 | C13: 160075 | D13: =SUM(B13-C13) -> -158104 | E13: 160646 | F13: =SUM(D13+E13) -> 2542 | G13: 380 | H13: =F13-G13 -> 2162 | I13: 2162 | J13: 0 | K13: 82 | L13: 230 | M13: 1550 | N13: 300 | O13: 0
A14: Kerekerdő Óvoda | B14: 4552 | C14: 550757 | D14: =SUM(B14-C14) -> -546205 | E14: 553076 | F14: =SUM(D14+E14) -> 6871 | G14: 0 | H14: =F14-G14 -> 6871 | I14: 7248 | J14: =I14-F14 -> 377 | K14: 38 | L14: 2370 | M14: =4455+377 -> 4832 | N14: 8 | O14: 0
A15: Kicsi Bocs Óvoda | B15: 2650 | C15: 322906 | D15: =SUM(B15-C15) -> -320256 | E15: 323749 | F15: =SUM(D15+E15) -> 3493 | G15: 282 | H15: =F15-G15 -> 3211 | I15: 3211 | J15: 0 | K15: 295 | L15: 417 | M15: 2199 | N15: 300 | O15: 0
A16: Liliom Óvoda | B16: 1680 | C16: 248782 | D16: =SUM(B16-C16) -> -247102 | E16: 249736 | F16: =SUM(D16+E16) -> 2634 | G16: 1174 | H16: =F16-G16 -> 1460 | I16: 1460 | J16: 0 | K16: 36 | L16: 14 | M16: 1410 | N16: 0 | O16: 0
A17: Méhecske Óvoda | B17: 1881 | C17: 159733 | D17: =SUM(B17-C17) -> -157852 | E17: 160265 | F17: =SUM(D17+E17) -> 2413 | G17: 586 | H17: =F17-G17 -> 1827 | I17: 1827 | J17: 0 | K17: 126 | L17: 463 | M17: 1238 | N17: 0 | O17: 0
A18: Napfény Óvoda | B18: 2163 | C18: 172479 | D18: =SUM(B18-C18) -> -170316 | E18: 172970 | F18: =SUM(D18+E18) -> 2654 | G18: 453 | H18: =F18-G18 -> 2201 | I18: 2201 | J18: 0 | K18: 0 | L18: 234 | M18: 1967 | N18: 0 | O18: 0
A19: Ugrifüles Óvoda | B19: 2366 | C19: 160217 | D19: =SUM(B19-C19) -> -157851 | E19: 160409 | F19: =SUM(D19+E19) -> 2558 | G19: 238 | H19: =F19-G19 -> 2320 | I19: 2320 | J19: 0 | K19: 21 | L19: 292 | M19: 1677 | N19: 330 | O19: 0
A20: FIÜK | B20: 494361 | C20: 3686921 | D20: =SUM(B20-C20) -> -3192560 | E20: 3526598 | F20: =SUM(D20+E20) -> 334038 | G20: 0 | H20: =F20-G20 -> 334038 | I20: 750925 | J20: =I20-F20 -> 416887 | K20: 7694 | L20: 6529 | M20: =319815+36621 -> 356436 | N20: 129143 | O20: 251123
A21: FEBI | B21: 34615 | C21: 1201348 | D21: =SUM(B21-C21) -> -1166733 | E21: 1189176 | F21: =SUM(D21+E21) -> 22443 | G21: 0 | H21: =F21-G21 -> 22443 | I21: 23890 | J21: =I21-F21 -> 1447 | K21: 458 | L21: 4082 | M21: =17638+1447 -> 19085 | N21: 265 | O21: 0
A22: FESZGYI | B22: 91114 | C22: 1506980 | D22: =SUM(B22-C22) -> -1415866 | E22: 1426621 | F22: =SUM(D22+E22) -> 10755 | G22: 0 | H22: =F22-G22 -> 10755 | I22: 34958 | J22: =I22-F22 -> 24203 | K22: =1515+24 -> 1539 | L22: 6193 | M22: =3047+24179 -> 27226 | N22: 0 | O22: 0
A23: FMK | B23: 43109 | C23: =453703 -> 453703 | D23: =SUM(B23-C23) -> -410594 | E23: 462652 | F23: =SUM(D23+E23) -> 52058 | G23: 0 | H23: =F23-G23 -> 52058 | I23: 65761 | J23: =I23-F23 -> 13703 | K23: =969+349 -> 1318 | L23: 2433 | M23: =46565+11564 -> 58129 | N23: =2091+1790 -> 3881 | O23: 0
A24: Pinceszínház | B24: 55417 | C24: 252043 | D24: =SUM(B24-C24) -> -196626 | E24: 199496 | F24: =SUM(D24+E24) -> 2870 | G24: 0 | H24: =F24-G24 -> 2870 | I24: 13876 | J24: =I24-F24 -> 11006 | K24: 117 | L24: 49 | M24: =2704+11006 -> 13710 | N24: 0 | O24: 0
A25: FESZ | B25: 2916457 | C25: 3690615 | D25: -774158 | E25: 776322 | F25: =SUM(D25+E25) -> 2164 | G25: 0 | H25: =F25-G25 -> 2164 | I25: 2164 | J25: 0 | K25: 0 | L25: 0 | M25: 2164 | N25: 0 | O25: 0
A26: Alaptevékenység összesen | B26: =SUM(B11:B25) -> 3654836 | C26: =SUM(C11:C25) -> 13197366 | D26: =SUM(D11:D25) -> -9542530 | E26: =SUM(E11:E25) -> 9993794 | F26: =SUM(F11:F25) -> 451264 | G26: =SUM(G11:G25) -> 3113 | H26: =SUM(H11:H25) -> 448151 | I26: =SUM(I11:I25) -> 918586 | ... O26: =SUM(O11:O25) -> 251123
A33: Vállalkozói tevékenység maradvány kimutatása | L33: adatok eFt-ban
A34: Intézmény megnevezése | B34: Vállalkozói tevékenység költségvetési bevételei | C34: Vállalkozói tevékenység költségvetési kiadásai | D34: Vállalkozói tevékenység költségvetési egyenlege | E34: Vállalkozói tevékenység maradványa | F34: Kötelezettségválallással terhelt maradvány | G34: Vállalkozási tevékenység felhasználható maradványa | H34: 2026. évben biztosítandó | I34: Vállalkozói tevékenység maradványának felosztása
I35: Személyi juttatások | J35: Munkaadói járulék | K35: Dologi kiadások | L35: Egyéb működési célú kiadások
A36: FEBI | B36: 6866 | C36: 5004 | D36: =SUM(B36-C36) -> 1862 | E36: =D36 -> 1862 | F36: =E36*0.09 -> 167.58 | G36: =E36-F36 -> 1694.42 | H36: =G36 -> 1694.42 | I36: 0 | J36: 0 | K36: 1694 | L36: 0
A37: Vállalkozói tevékenység összesen | B37: =SUM(B36) -> 6866 | C37: =SUM(C36) -> 5004 | D37: =SUM(D36) -> 1862 | E37: =SUM(E36) -> 1862 | F37: =SUM(F36) -> 167.58 | G37: =SUM(G36) -> 1694.42 | H37: =SUM(H36) -> 1694.42 | I37: 0 | J37: 0 | K37: =SUM(K36) -> 1694 | L37: =SUM(L36) -> 0

Sheet 19. mell.
A2: 19. melléklet
A3: Vagyonmérleg
A4: 2025.év
E6: adatok eFt-ban
A7: A | B7: B | C7: C | D7: D | E7: E
A8: Sorszám | B8: Megnevezés | C8: Előző év (2024.) | D8: Tárgyév (2025.) | E8: Változás %-a
B9: ESZKÖZÖK
A10: 04. | B10: I. Immateriális javak | C10: =SUM(C11:C12) -> 55949 | D10: =SUM(D11:D12) -> 117936 | E10: =IF(C10=0,0,D10/C10%) -> 210.79197
A11: 01. | B11: I/1. Vagyoni értékű jogok | C11: 20447 | D11: 51139 | E11: =IF(C11=0,0,D11/C11%) -> 250.10515
A12: 02. | B12: I./2. Szellemi termékek | C12: 35502 | D12: 66797 | E12: =IF(C12=0,0,D12/C12%) -> 188.14996
A13: 10. | B13: II. Tárgyi eszközök | C13: =SUM(C14:C16) -> 216379348 | D13: =SUM(D14:D16) -> 215364800 | E13: =IF(C13=0,0,D13/C13%) -> 99.531125
A14: 05. | B14: II./1 Ingatlanok és a kapcsolódó vagyoni értékű jogok | C14: 215136876 | D14: 213030655 | E14: =IF(C14=0,0,D14/C14%) -> 99.020986
A15: 06. | B15: II./2. Gépek, berendezések, felszerelések, járművek | C15: 694686 | D15: 761063 | E15: =IF(C15=0,0,D15/C15%) -> 109.55496
A16: 08. | B16: II./4. Beruházások, felújítások | C16: 547786 | D16: 1573082 | E16: =IF(C16=0,0,D16/C16%) -> 287.1709
A17: 22. | B17: III. Befektetett pénzügyi eszközök | C17: =SUM(C18) -> 502956 | D17: =SUM(D18) -> 502956 | E17: =IF(C17=0,0,D17/C17%) -> 100
A18: 11. | B18: III./1. Tartós részesedések | C18: 502956 | D18: 502956 | E18: =IF(C18=0,0,D18/C18%) -> 100
A19: 29. | B19: A.) Nemzeti vagyonba tartozó befektetett eszközök összesen (04.+10.+22). | C19: =SUM(C10+C13+C17) -> 216938253 | D19: =SUM(D10+D13+D17) -> 215985692 | E19: =IF(C19=0,0,D19/C19%) -> 99.560907
A20: 35. | B20: I. Készletek | C20: =SUM(C21) -> 6698 | D20: =SUM(D21) -> 23269 | E20: =IF(C20=0,0,D20/C20%) -> 347.40221
A21: 30. | B21: I./1. Vásárolt készletek | C21: 6698 | D21: 23269 | E21: =IF(C21=0,0,D21/C21%) -> 347.40221
A22: 44. | B22: II. Értékpapírok | C22: =SUM(C23) -> 0 | D22: =SUM(D23) -> 11500000 | E22: =IF(C22=0,0,D22/C22%) -> 0
A23: 39. | B23: II/2. Forgatási célú hitelviszonyt megtestesítő értékpapírok | C23: =C24 -> 0 | D23: =D24 -> 11500000 | E23: =IF(C23=0,0,D23/C23%) -> 0
A24: 42. | B24: II/2c - ebből államkötvények | C24: 0 | D24: 11500000 | E24: =IF(C24=0,0,D24/C24%) -> 0
A25: 45. | B25: B.) Nemzeti vagyonba tartozó forgóeszközök (35.) | C25: =SUM(C22,C20) -> 6698 | D25: =SUM(D22,D20) -> 11523269 | E25: =IF(C25=0,0,D25/C25%) -> 172040.44
A26: 46. | B26: I/1. É ven túli lejáratú forint lekötött bankbetétek | C26: 0 | D26: 701854 | E26: =IF(C26=0,0,D26/C26%) -> 0
A27: 49. | B27: II./1. Forintpénztár | C27: 1561 | D27: 2561 | E27: =IF(C27=0,0,D27/C27%) -> 164.0615
A28: 53. | B28: III./1. Kincstáron kívüli forintszámlák | C28: 10717116 | D28: 1082852 | E28: =IF(C28=0,0,D28/C28%) -> 10.10395
A29: 54. | B29: III./2. Kincstárban vezetett forintszámlák | C29: 0 | D29: 2659830 | E29: =IF(C29=0,0,D29/C29%) -> 0
A30: 56. | B30: IV./1. Kincstáron kívüli devizaszámlák | C30: 0 | D30: 2602 | E30: =IF(C30=0,0,D30/C30%) -> 0
A31: 59. | B31: C.) Pénzeszközök (49+53) | C31: =SUM(C26:C30) -> 10718677 | D31: =SUM(D26:D30) -> 4449699 | E31: =IF(C31=0,0,D31/C31%) -> 41.51351
A32: 103. | B32: I. Költségvetési évben esedékes követelések (64-től 91-ig) | C32: =SUM(C33:C37) -> 2162703 | D32: =SUM(D33:D37) -> 2128206 | E32: =IF(C32=0,0,D32/C32%) -> 98.404913
A33: 64. | B33: 3. Költségvetési évben esedékes követelések közhatalmi bevételre | C33: 1288989 | D33: 1081058 | E33: =IF(C33=0,0,D33/C33%) -> 83.868675
A34: 71. | B34: 4. Költségvetési évben esedékes követelések működési bevételre | C34: 827463 | D34: 984429 | E34: =IF(C34=0,0,D34/C34%) -> 118.96955
A35: 81. | B35: 5. Költségvetési évben esedékes követelések felhalmozási bevételre | C35: 16252 | D35: 30978 | E35: =IF(C35=0,0,D35/C35%) -> 190.61039
A36: 87. | B36: 6. Költségvetési évben esedékes követelések működési célú átvett pénzeszközre | C36: 9926 | D36: 11062 | E36: =IF(C36=0,0,D36/C36%) -> 111.44469
A37: 91. | B37: 7. Költségvetési évben esedékes követelések felhalmozási célú átvett pénzeszközre | C37: 20073 | D37: 20679 | E37: =IF(C37=0,0,D37/C37%) -> 103.01898
A38: 144. | B38: II. Költségvetési évet követően esedékes követelések (108-tól 135-ig) | C38: =SUM(C39:C43) -> 4917726 | D38: =SUM(D39:D43) -> 5774508 | E38: =IF(C38=0,0,D38/C38%) -> 117.42232
A39: 104. | B39: 1. Költségvetési évet követően esedékes követelések működési célú támogatások bevételeire ÁH-n belülről | C39: 0 | D39: 426652 | E39: =IF(C39=0,0,D39/C39%) -> 0
A40: 108. | B40: 3. Költségvetési évet követően esedékes követelések közhatalmi bevételre | C40: 4082442 | D40: 4471874 | E40: =IF(C40=0,0,D40/C40%) -> 109.53919
A41: 115. | B41: 4. Költségvetési évet követően esedékes követelések működési bevételre | C41: 114619 | D41: 270784 | E41: =IF(C41=0,0,D41/C41%) -> 236.24704
A42: 125. | B42: 5. Költségvetési évet követően esedékes követelések felhalmozási bevételre | C42: 665814 | D42: 555994 | E42: =IF(C42=0,0,D42/C42%) -> 83.505904
A43: 135. | B43: 7. Költségvetési évet követően esedékes követelések felhalmozási célú átvett pénzeszközre | C43: 54851 | D43: 49204 | E43: =IF(C43=0,0,D43/C43%) -> 89.704837
A44: 160. | B44: III. Követelés jellegű sajátos elszámolások | C44: 119089 | D44: 307532 | E44: =IF(C44=0,0,D44/C44%) -> 258.23712
A45: 161. | B45: D.) Követelések összesen (103.+144.+160.) | C45: =SUM(C32,C38,C44) -> 7199518 | D45: =SUM(D32,D38,D44) -> 8210246 | E45: =IF(C45=0,0,D45/C45%) -> 114.03883
A46: 166. | B46: Előzetesen felszámított általános forgalmi adó elszámolása | C46: 73272 | D46: 75653 | E46: =IF(C46=0,0,D46/C46%) -> 103.24954
A47: 169. | B47: Fizetendő általános forgalmi adó elszámolása | C47: -80422 | D47: -88042 | E47: =IF(C47=0,0,D47/C47%) -> 109.47502
A48: 171. | B48: II. Utalványok, bérletek és más hasonló készpénz-helyettesítő fizetési eszköznek nem minősülő eszközök elszámolásai | C48: 4296 | D48: 1260 | E48: =IF(C48=0,0,D48/C48%) -> 29.329609
A49: 172. | B49: E.) Egyéb sajátos eszközoldali elszámolások (166.+169.+171.) | C49: =SUM(C46:C48) -> -2854 | D49: =SUM(D46:D48) -> -11129 | E49: =IF(C49=0,0,D49/C49%) -> 389.94394
A50: 177. | B50: F.) Aktív időbeli elhatárolások | C50: 29781 | D50: 32654 | E50: =IF(C50=0,0,D50/C50%) -> 109.64709
A51: 178. | B51: Eszközök összesen: (29.+45.+59.+161.+172.+177.) | C51: =SUM(C19,C25,C31,C45,C49:C50) -> 234890073 | D51: =SUM(D19,D25,D31,D45,D49:D50) -> 240190431 | E51: =IF(C51=0,0,D51/C51%) -> 102.25653
B52: FORRÁSOK
A53: 179. | B53: I. Nemzeti vagyon induláskori értéke | C53: 232769746 | D53: 232769746 | E53: =IF(C53=0,0,D53/C53%) -> 100
A54: 180. | B54: II. Nemzeti vagyon változásai | C54: -6100121 | D54: -6100121 | E54: =IF(C54=0,0,D54/C54%) -> 100
A55: 181. | B55: III. Egyéb eszközök induláskori értéke és változásai | C55: 1786404 | D55: 1786404 | E55: =IF(C55=0,0,D55/C55%) -> 100
A56: 182. | B56: IV. Felhalmozott eredmény | C56: -11785133 | D56: -11201549 | E56: =IF(C56=0,0,D56/C56%) -> 95.048134
A57: 184. | B57: VI. Mérleg szerinti eredmény | C57: 583583 | D57: 3585911 | E57: =IF(C57=0,0,D57/C57%) -> 614.46461
A58: 185. | B58: G.) Saját tőke összesen (179+180+181+182+184) | C58: =SUM(C53:C57) -> 217254479 | D58: =SUM(D53:D57) -> 220840391 | E58: =IF(C58=0,0,D58/C58%) -> 101.65056
A59: 211. | B59: I. Költségvetési évben esedékes kötelezettségek (186-tól 194-ig) | C59: =SUM(C60:C63) -> 150348 | D59: =SUM(D60:D63) -> 242927 | E59: =IF(C59=0,0,D59/C59%) -> 161.57648
A60: 186. | B60: 1. Költségvetési évben esedékes kötelezettségek személyi juttatásokra | C60: 5289 | D60: 5647 | E60: =IF(C60=0,0,D60/C60%) -> 106.76877
A61: 188. | B61: 3. Költségvetési évben esedékes kötelezettségek dologi kiadásokra | C61: 134960 | D61: 169171 | E61: =IF(C61=0,0,D61/C61%) -> 125.34899
A62: 193. | B62: 6. Költségvetési évben esedékes kötelezettségek beruházásokra | C62: 9445 | D62: 12583 | E62: =IF(C62=0,0,D62/C62%) -> 133.22393
A63: 194. | B63: 7. Költségvetési évben esedékes kötelezettségek felújításokra | C63: 654 | D63: 55526 | E63: =IF(C63=0,0,D63/C63%) -> 8490.2141
A64: 235. | B64: II. Költségvetési évet követően esedékes kötelezettségek (212-tól 224-ig) | C64: =SUM(C65:C71) -> 833012 | D64: =SUM(D65:D71) -> 527043 | E64: =IF(C64=0,0,D64/C64%) -> 63.269557
A65: 212. | B65: 1. Költségvetési évet követően esedékes kötelezettségek személyi juttatásokra | C65: 1470 | D65: 339 | E65: =IF(C65=0,0,D65/C65%) -> 23.061224
A66: 214. | B66: 3. Költségvetési évet követően esedékes kötelezettségek dologi kiadásokra | C66: 421309 | D66: 302037 | E66: =IF(C66=0,0,D66/C66%) -> 71.690137
A67: 215. | B67: 4. Költségvetési évet követően esedékes kötelezettségek ellátottak pénzbeli juttatására | C67: 1410 | D67: 0 | E67: =IF(C67=0,0,D67/C67%) -> 0
A68: 216. | B68: 5. Költségvetési évet követően esedékes kötelezettségek egyéb működési célú kiadásokra | C68: 0 | D68: 4215 | E68: =IF(C68=0,0,D68/C68%) -> 0
A69: 219. | B69: 6. Költségvetési évet követően esedékes kötelezettségek beruházási kiadásokra | C69: 125099 | D69: 6496 | E69: =IF(C69=0,0,D69/C69%) -> 5.1926874
A70: 220. | B70: 7. Költségvetési évet követően esedékes kötelezettségek felújításokra | C70: 145132 | D70: 42496 | E70: =IF(C70=0,0,D70/C70%) -> 29.28093
A71: 224. | B71: 9. Költségvetési évet követően esedékes kötelezettségek finanszírozási kiadásokra | C71: 138592 | D71: 171460 | E71: =IF(C71=0,0,D71/C71%) -> 123.71565
A72: 245. | B72: III. Kötelezettség jellegű sajátos elszámolások | C72: 1148081 | D72: 1189951 | E72: =IF(C72=0,0,D72/C72%) -> 103.64696
A73: 246. | B73: H.) Kötelezettségek összesen (212+236+247) | C73: =SUM(C59,C64,C72) -> 2131441 | D73: =SUM(D59,D64,D72) -> 1959921 | E73: =IF(C73=0,0,D73/C73%) -> 91.952862
A74: 248. | B74: Eredményszemléletű bevételek paszív időbeli elhatárolása | C74: 3981883 | D74: 6000357 | E74: =IF(C74=0,0,D74/C74%) -> 150.69144
A75: 249. | B75: Költségek, ráfordítások passzív időbeli elhatárolása | C75: 897271 | D75: 1006845 | E75: =IF(C75=0,0,D75/C75%) -> 112.21192
A76: 250. | B76: Halasztott eredményszemléletű bevételek | C76: 10624999 | D76: 10382917 | E76: =IF(C76=0,0,D76/C76%) -> 97.721581
A77: 251. | B77: J.) Passzív időbeli elhatárolások (250.+251+252.) | C77: =SUM(C74:C76) -> 15504153 | D77: =SUM(D74:D76) -> 17390119 | E77: =IF(C77=0,0,D77/C77%) -> 112.16426
A78: 252. | B78: Források összesen: (186.+248.+253.) | C78: =SUM(C77+C73+C58) -> 234890073 | D78: =SUM(D77+D73+D58) -> 240190431 | E78: =IF(C78=0,0,D78/C78%) -> 102.25653

Sheet 20. mell.
A1: 20. melléklet
A2: Vagyonkimutatás
A3: 2025. év
D4: adatok eFt-ban
A5: A | B5: B | C5: C | D5: D
A6: ESZKÖZÖK | B6: sor- szám | C6: Tárgy év bruttó érték | D6: Tárgy év nettó érték
A8: I. Immateriális javak | B8: 1. | C8: =C9+C10 -> 745199 | D8: =D9+D10 -> 117936
A9: I/1. Vagyoni értékű jogok | B9: 2. | C9: 350103 | D9: 51139
A10: I./2. Szellemi termékek | B10: 3. | C10: 395096 | D10: 66797
A11: II. Tárgyi eszközök | B11: 4. | C11: =C12+C23 -> 239932899 | D11: =D12+D23 -> 215364800
A12: II./1. Törzsvagyon | B12: 5. | C12: =C13+C18+C19 -> 203795867 | D12: =D13+D18+D19 -> 187810481
A13: a./ Forgalomképtelen ingatlanok | B13: 6. | C13: =C14+C15+C16+C17 -> 171538402 | D13: =D14+D15+D16+D17 -> 158899885
A14: a./1. Út, híd, járda, alu-és felüljárók | B14: 7. | C14: 93527307 | D14: 90396772
A15: a./3. Parkok és felüljárók | B15: 8. | C15: 4265452 | D15: 3770672
A16: a./6. Egyéb ingatlanok | B16: 9. | C16: 72789981 | D16: 63776779
A17: a./7. Folyamatban lévő ingatlan beruházás, felújítás | B17: 10. | C17: 955662 | D17: 955662
A18: b./ Nemzetgazdasági szempontból kiemelt jelentőségű ingatlanok | B18: 11. | C18: 0 | D18: 0
A19: c./ Korlátozottan forgalomképes ingatlanok | B19: 12. | C19: =C20+C21+C22 -> 32257465 | D19: =D20+D21+D22 -> 28910596
A20: c./5. Intézmények ingatlanai | B20: 13. | C20: 31773532 | D20: 28459691
A21: c./6. Sportlétesítmények | B21: 14. | C21: 279645 | D21: 246617
A22: c./11. Folyamatban lévő ingatlan beruházás | B22: 15. | C22: 204288 | D22: 204288
A23: II./2. Üzleti vagyon | B23: 16. | C23: =C24+C28 -> 36137032 | D23: =D24+D28 -> 27554319
A24: a./ Forgalomképes ingatlanok | B24: 17. | C24: =C25+C26+C27 -> 32346791 | D24: =D25+D26+D27 -> 26577122
A25: a./1. Telkek, zártkerti és külterületi földterületek | B25: 18. | C25: 9533660 | D25: 9533660
A26: a./2. Épületek | B26: 19. | C26: 22616133 | D26: 16846464
A27: a./3. Folyamatban lévő ingatlan beruházás | B27: 20. | C27: 196998 | D27: 196998
A28: b./ Egyéb tárgyi eszközök | B28: 21. | C28: =C29+C30 -> 3790241 | D28: =D29+D30 -> 977197
A29: b./1. Gépek, berendezések, felszerelések, járművek | B29: 22. | C29: 3574107 | D29: 761063
A30: b./3. Beruházások, felújítások | B30: 23. | C30: 216134 | D30: 216134
A31: III. Befektetett pénzügyi eszközök | B31: 24. | C31: =C32+C36 -> 502956 | D31: =D32+D36 -> 502956
A32: III/1. Törzsvagyon | B32: 25. | C32: =C33+C35 -> 502956 | D32: =D33+D35 -> 502956
A33: a./ Forgalomképtelen | B33: 26. | C33: 0 | D33: 0
A34: b./ Korlátozottan forgalomképes | B34: 27. | C34: 0 | D34: 0
A35: 1. Tartós részesedések | B35: 28. | C35: 502956 | D35: 502956
A36: III/2. Üzleti vagyon | B36: 29. | C36: 0 | D36: 0
A37: IV. Koncesszióba, vagyonkezelésbe adott eszközök | B37: 30. | C37: 0 | D37: 0
A38: A.) Nemzeti vagyonba tartozó befektetett eszközök összesen | B38: 31. | C38: =C8+C11+C31+C37 -> 241181054 | D38: =D8+D11+D31+D37 -> 215985692
A39: I. Készletek | B39: 32. | C39: 23269 | D39: 23269
A40: II. Értékpapírok | B40: 33. | C40: 11500000 | D40: 11500000
A41: B.) Nemzeti vagyonba tartozó forgóeszközök | B41: 34. | C41: =C39+C40 -> 11523269 | D41: =D39+D40 -> 11523269
A42: I. Lekötött bankbetétek | B42: 35. | C42: 701854 | D42: 701854
A43: II. Pénztárak, csekkek, betétkönyvek | B43: 36. | C43: 2561 | D43: 2561
A44: III. Forintszámlák | B44: 37. | C44: 3742682 | D44: 3742682
A45: IV. Devizaszámlák | B45: 38. | C45: 2602 | D45: 2602
A46: C.) Pénzeszközök | B46: 39. | C46: =C42+C43+C44+C45 -> 4449699 | D46: =D42+D43+D44+D45 -> 4449699
A47: I. Költségvetési évben esedékes követelések | B47: 40. | C47: 4309855 | D47: 2128206
A48: II. Költségvetési évet követően esedékes követelések | B48: 41. | C48: 5774508 | D48: 5774508
A49: III. Követelés jellegű sajátos elszámolások | B49: 42. | C49: 307532 | D49: 307532
A50: D.) Követelések összesen | B50: 43. | C50: =C47+C48+C49 -> 10391895 | D50: =D47+D48+D49 -> 8210246
A51: I. Előzetesen felszámított általános forgalmi adó elszámolása | B51: 44. | C51: 75653 | D51: 75653
A52: II. Fizetendő általános forgalmi adó elszámolása | B52: 45. | C52: -88042 | D52: -88042
A53: III. Egyéb sajátos eszközoldali elszámolása | B53: 46. | C53: 1260 | D53: 1260
A54: E.) Egyéb sajátos eszközoldali elszámolások | B54: 47. | C54: =C51+C52+C53 -> -11129 | D54: =D51+D52+D53 -> -11129
A55: F) Aktív időbeli elhatárolások | B55: 48. | C55: 32654 | D55: 32654
A56: Eszközök összesen: | B56: 49. | C56: =C38+C41+C46+C50+C54+C55 -> 267567442 | D56: =D38+D41+D46+D50+D54+D55 -> 240190431
A57: I. Nemzeti vagyon induláskori értéke | B57: 50. | C57: 232769746 | D57: 232769746
A58: II. Nemzeti vagyon változásai | B58: 51. | C58: -6100121 | D58: -6100121
A59: III. Egyéb eszközök induláskori értéke és változásai | B59: 52. | C59: 1786404 | D59: 1786404
A60: IV. Felhalmozott eredmény | B60: 53. | C60: -11201549 | D60: -11201549
A61: VI. Mérleg szerinti eredmény | B61: 54. | C61: 3585911 | D61: 3585911
A62: G.) Saját tőke összesen | B62: 55. | C62: =C57+C58+C59+C60+C61 -> 220840391 | D62: =SUM(D57:D61) -> 220840391
A63: I. Költségvetési évben esedékes kötelezettségek | B63: 56. | C63: 242927 | D63: 242927
A64: II. Költségvetési évet követően esedékes kötelezettségek | B64: 57. | C64: 527043 | D64: 527043
A65: III. Kötelezettség jellegű sajátos elszámolások | B65: 58. | C65: 1189951 | D65: 1189951
A66: H.) Kötelezettségek összesen | B66: 59. | C66: =C63+C64+C65 -> 1959921 | D66: =SUM(D63:D65) -> 1959921
A67: I.) Kincstári számlavezetéssel kapcsolatos elszámolások | B67: 60. | C67: 0 | D67: 0
A68: J) Passzív időbeli elhatárolások | B68: 61. | C68: 17390119 | D68: 17390119
A69: Források összesen: | B69: 62. | C69: =C62+C66+C67+C68 -> 240190431 | D69: =D62+D66+D67+D68 -> 240190431
A71: ESZKÖZÖK | B71: sor- szám | C71: Bruttó érték eFt | D71: Nettó érték
A73: Önkormányzat VAGYONKIMUTATÁS a "0"-ra leírt eszközökről 2025.
A74: A/I. Immateriális javak (2+3) | B74: 1 | C74: =C75+C76 -> 583925 | D74: =D75+D76 -> 0
A75: "0"-ra leírt, de használatban lévő | B75: 2 | C75: 583925 | D75: 0
A76: "0"-ra leírt, használaton kívüli | B76: 3 | C76: 0 | D76: 0
A77: A/II. Tárgyi eszközök (5+8+11) | B77: 4 | C77: =C78+C81+C84 -> 2458244 | D77: 0
A78: 1. Ingatlanok és kapcsolódó vagyoni értékű jogok (6+7) | B78: 5 | C78: 299831 | D78: 0
A79: "0"-ra leírt, de használatban lévő | B79: 6 | C79: 299831 | D79: 0
A80: "0"-ra leírt, használaton kívüli | B80: 7 | C80: 0 | D80: 0
A81: 2. Gépek, berendezések, felszerelések és járművek (9+10) | B81: 8 | C81: 2158413 | D81: 0
A82: "0"-ra leírt, de használatban lévő | B82: 9 | C82: 2158413 | D82: 0
A83: "0"-ra leírt, használaton kívüli | B83: 10 | C83: 0 | D83: 0
A84: 3. Tenyészállatok (12+13) | B84: 11 | C84: 0 | D84: 0
A85: "0"-ra leírt, de használatban lévő | B85: 12 | C85: 0 | D85: 0
A86: "0"-ra leírt, használaton kívüli | B86: 13 | C86: 0 | D86: 0
A87: A/IV. Koncesszióba, vagyonkezelésbe adott eszközök (15+16) | B87: 14 | C87: =C88+C89 -> 0 | D87: 0
A88: "0"-ra leírt, de használatban lévő | B88: 15 | C88: 0 | D88: 0
A89: "0"-ra leírt, használaton kívüli | B89: 16 | C89: 0 | D89: 0
A90: ÖSSZESEN (1+4+14) | B90: 17 | C90: =C74+C77+C87 -> 3042169 | D90: 0
D92: adatok eFt-ban
A93: A | B93: B | C93: C | D93: D
A94: ESZKÖZÖK | B94: sor- szám | C94: Mennyiség (db) | D94: Bruttó Érték (eFt)
A96: Önkormányzat VAGYONKIMUTATÁS a használatban lévő kisértékű eszközökről és készletekről 2025.
A97: A/I. Immateriális javak | B97: 1 | C97: 513 | D97: 35633
A98: A/II. Tárgyi eszközök (3+4+5) | B98: 2 | C98: =C99+C100+C101 -> 44355 | D98: =D99+D100+D101 -> 1054184
A99: 1. Ingatlanok és kapcsolódó vagyoni értékű jogok | B99: 3 | C99: 0 | D99: 0
A100: 2. Gépek, berendezések, felszerelések és járművek | B100: 4 | C100: 44355 | D100: 1054184
A101: 3. Tenyészállatok | B101: 5 | C101: 0 | D101: 0
A102: B/I. Készletek (7+8+9+10+11) | B102: 6 | C102: =C103+C104+C105+C106+C107 -> 36732 | D102: =D103+D104+D105+D106+D107 -> 37924
A103: 1. Vásárolt készletek | B103: 7 | C103: 36057 | D103: 19206
A104: 2. Átsorolt, követelés fejében átvett készletek | B104: 8 | C104: 0 | D104: 0
A105: 3. Egyéb készletek | B105: 9 | C105: 675 | D105: 18718
...

Sheet 21. mell.
B3: 21. melléklet
B4: 2025. évi pénzkészlet változás kimutatása
D7: adatok eFt-ban
B8: 1. | C8: Pénztár nyitó egyenleg 2025.01.01. | D8: 1561
B9: 2. | C9: Bank nyitó egyenleg 2025.01.01. | D9: 10717116
B10: 3. | C10: Nyitó pénzkészlet 2025.01.01. | D10: =SUM(D8:D9) -> 10718677
B11: 4. | C11: Bevételi rovatos forgalom (+) | D11: 96673124
B12: 5. | C12: Maradvány igénybevétele (-) | D12: 9691033
B13: 6. | C13: vállalkozási maradványának igénybevétele (-) | D13: 0
B14: 7. | C14: Kiadások rovatos forgalom (-) | D14: 93790565
B15: 8. | C15: Sajátos elszámolások (36-os banki forgalom) (+/-) | D15: -204170
B16: 9. | C16: Egyéb sajátos kötelezettség jellegű elszámolások (+/-) | D16: -41870
B17: 10. | C17: Egyéb pénzeszközök és sajátos elszámolások mérlegfordulónapi értékelése során megállapított (nem realizált) árfolyamvesztesége tárgyidőszaki egyenlege | D17: 58
B18: 11. | C18: Pénzkészlet változás | D18: =D11-D12-D13-D14+D15-D16-D17 -> -6970832
B19: 12. | C19: Pénztár, betétkönyv, csekk záró egyenleg 2025.12.31. | D19: 2561
B20: 13. | C20: Bank záró egyenleg 2025.12.31. | D20: 4447138
B21: 14. | C21: Záró pénzkészlet 2025.12.31. | D21: =SUM(D19:D20) -> 4449699

Sheet 22. mell.
A1: 22. melléklet
A2: Adósság állomány, több évre vállalt kötelezettségek évenkénti bemutatása
B6: Adósságállomány
F7: adatok eFt-ban
B8: Év | C8: Tőke | D8: 2027. | E8: 2028. | F8: 2029.
B11: 2025. | D11: 0 | E11: 0 | F11: 0
B14: További kötelezettségek
F15: adatok eFt-ban
B16: Megnevezés | D16: 2027 | E16: 2028 | F16: 2029
B17: VIII. kerület Józsefváros Önkormányzata ellátási szerződés | D17: 5250 | E17: 5407.5 | F17: 5569.725
B18: Küldetés Egyesület ellátási szerződés | D18: 924 | E18: 951.72 | F18: 980.2716
B19: Utcai Szociális Munka – Menhely Alapítvány | D19: 1617 | E19: 1665.51 | F19: 1715.4753
B20: Támogató Szolgálat – Motiváció Mozgássérülteket Segítő Alapítvány | D20: 315 | E20: 324.45 | F20: 334.1835
B21: Férőhely fenntartási díj Magyar Vöröskereszt | D21: 4864.65 | E21: 5010.5895 | F21: 5160.9072
B22: Pszichiátriai betegek nappali ellátása Moravcsik Alapítvány | D22: 10080 | E22: 10382.4 | F22: 10693.872
B23: Fogyatékos személyek nappali ellátása Gond-Viselés Kht. | D23: 2893.8 | E23: 2980.614 | F23: 3070.0324
B24: Kék Pont Drogkonzultációs Központ és Drogambulancia Alapítvány | D24: 3150 | E24: 3244.5 | F24: 3341.835
B25: SOS Krízis Alapítvány | D25: 1575 | E25: 1622.25 | F25: 1670.9175
B26: Fogyatékos személyek nappali ellátása (gyermekek) Újbuda Önkrom. | D26: 9450 | E26: 9733.5 | F26: 10025.505
B27: Moravcsik Alapítvány | D27: 9600 | E27: 9600 | F27: 9600
... B30: Konkáv Köztes Átmenetek Nonprofit Kft. | D30: 15000 | E30: 15000 | F30: 0
B31: Jelzőrendszeres házi segítségnyújtás | D31: 9000 | E31: =D31*1.05 -> 9450 | F31: 0
B32: Forti Core Switchek (2026-ban premium support) | D32: 670 | E32: 690 | F32: 710
B33: Anydesk licencek | D33: 650 | E33: 700 | F33: 750
B34: C1 cafetéria rendszer | D34: 2000 | E34: 2000 | F34: 2000
B35: Céginfó online szolgáltatás | D35: 1300 | E35: 1300 | F35: 1300
B36: Végpontvédelem biztosítása | D36: 4700 | E36: 4800 | F36: 4900
B37: Tűzfalak licencelése | D37: 0 | E37: 0 | F37: 6400
B38: Honlap készítés www.ferencvaros.hu címre | D38: 4000 | E38: 4100 | F38: 4200
B39: Térinformatikai rendszer biztosítása (KAPU) | D39: 5000 | E39: 5200 | F39: 5400
B40: Mapinfo Pro szoftver előfizetés | D40: 900 | E40: 1000 | F40: 1100
B41: Maxi archiváló csomag | D41: 160 | E41: 170 | F41: 180
B42: Microsoft 365 Business Basic előfizetés | D42: 550 | E42: 600 | F42: 650
B43: Microsoft Teams licencek | D43: 2000 | E43: 2100 | F43: 2200
... B100: Köztemetés | D100: 17000 | E100: 17800 | F100: 18500
B101: Márton 8/a felújítás | D101: =1828695*0.2 -> 365739 | E101: 0 | F101: 0
B102: Haller park felújítás | D102: 150000 | E102: 0 | F102: 0
B103: Gát u. 23-25 építés | D103: 778978 | E103: 0 | F103: 0
B104: Társasházi tetőfelújítások | D104: 48000
B105: Hivatal őrzés | D105: 120000 | E105: 60000 | F105: 0
B106: FIÜK étkezés biztosítása | D106: 768358 | E106: 720000 | F106: 0
B107: Településrendezési eszközök | D107: 6081 | E107: 0 | F107: 0
B108: Fasorfenntartás | D108: 140000 | E108: 23510
B109: Utak, járdák karbantartása | D109: 210000 | E109: 0 | F109: 0
B110: Játszóeszközök rendszeres ellenőrzése, karbantartása, | D110: 22500 | E110: 0 | F110: 0
B111: Fitnesz eszközök, sporteszközök és napvitorlák rendszeres karbantartása, | D111: 14000 | E111: 0 | F111: 0
B112: Üllői út 169-179. sz. alatti kerékpártárolók üzemeltetése karbantartása | D112: 989 | E112: 989 | F112: 989
B113: Projekt menedzsment (egészséges utcák) | D113: 6722 | E113: 6722 | F113: 0
B114: Egészséges utcák - Viola utca tervezés | D114: 39350.188 | E114: 0 | F114: 0
B115: Egészséges utcák - Sobieski utca tervezés | D115: 33805.876 | E115: 0 | F115: 0
B116: Egészséges utcák - Ipar utca tervezés | D116: 27226.26 | E116: 0 | F116: 0
B117: Egészséges utcák - Angyal utca tervezés | D117: 14300.2 | E117: 0 | F117: 0
B118: Haller u. 54. építés | D118: 1000000 | E118: 500000 | F118: 0

Sheet 23.mell.
A1: 23. melléklet
B4: A helyi önkormányzat kötelező feladatai ellátásának költségvetési forrásai és kiadásai
B5: 2025. év
N7: adatok eFt-ban
B8: Kötelező feladatok (Mötv. 23. § (5) bekezdés alapján) | C8: 2025. évi I-XII. havi teljesítés | D8: Költségvetési bevételi előirányzat | E8: Önkormányzatok működési támogatása, elvonások és befizetések | F8: Közhatalmi bevételek | G8: Saját bevétel | H8: Támogatás Áht-n belülről | J8: Átvett pénzeszköz | L8: Előző évi mar. igénybev. | M8: Felhalm. Bev. | N8: Működési finanszírozási bevétel
G9: Működési bevételek | H9: Műk. Célú | I9: Felhal. Célú | J9: Műk. Célú | K9: Felhalm. Célú
A10: 1. | B10: Helyi közutak, közterek és parkok kezelése, fejlesztése és üzemeltetése | C10: =SUM(C11:C35) -> 994555 | D10: =SUM(E10:M10) -> 1639274 | E10: 933849 | L10: 705425
B11: 3054 Kerületi növényvédelem | C11: ='6.mell.'!H17 -> 3191 | L11: 4444
B12: 3056 Közterületüzemeltetési egyéb feladatok | C12: ='6.mell.'!H27 -> 11173 | L12: 3637
B13: 3057 Fasorfenntartás | C13: ='6.mell.'!H36 -> 110773 | L13: 115335
B14: 3058 Erdőgazdálkodás | C14: ='6.mell.'!H45 -> 11939 | L14: 11939
B15: 3061 Köztutak üzemeltetése | C15: ='6.mell.'!H63 -> 176 | L15: 461
B16: 3071 Köztisztasági feladatok | C16: ='6.mell.'!H72 -> 45789 | L16: 17593
B17: 3112 Játszóterek karbantartása | C17: ='6.mell.'!H99 -> 16756 | L17: 17851
B18: 3205 Környezetvédelem | C18: ='6.mell.'!H273 -> 74189 | L18: 33479
B19: 3216 FESZOFE Nonprofit Kft | C19: ='6.mell.'!H356 -> 306451 | L19: 35110
B20: 4010 Ifjúmunkás utca 28-30 Sportpályák felújítása | C20: ='8.mell.'!H10 -> 0
B21: 4012 Haller park | C21: ='8.mell.'!H11 -> 6947 | L21: 6947
B22: 4013 Valéria tér felújítása | C22: ='8.mell.'!H12 -> 0 | L22: 224
B23: 4014 Játszóterek, műfüves és sportpályák, fitness eszközök, zöldf.felúj., | C23: ='8.mell.'!H14 -> 63195 | L23: 155189
B24: 4015 Ifjúmunkás utca útburkolat felújítása | C24: ='8.mell.'!H15 -> 51026 | L24: 52654
B25: 4016 Thaly passzázs közvilágítás | C25: ='8.mell.'!H16 -> 1080 | L25: 1079
B26: 4018 Utak javítása, felújítása | C26: ='8.mell.'!H19 -> 134592 | L26: 134920
B27: 4019 Járdák felújítása | C27: ='8.mell.'!H20 -> 25151 | L27: 25151
B28: 4021 Egyéb közterületek felújítása, fejlesztése | C28: ='8.mell.'!H22 -> 67986 | L28: 23852
B29: 4022 kutyafuttatóf felújítása | C29: ='8.mell.'!H26 -> 3115 | L29: 30000
B30: 5005 Közlekedésbiztonsági fejlesztés | C30: ='9.mell '!H14 -> 25466
B31: 5006 Napfény gyáli fásitás | C31: ='9.mell '!H17 -> 0
B32: 5008 Tinódi park illemhelyiség | C32: ='9.mell '!H18 -> 35560 | L32: 35560
B33: 5011 Haller park illemhelyiség | C33: ='9.mell '!H22 -> 0
B34: 6143 Haller utca fejlesztés | C34: 0 | D34: 0
B35: 5025 Távíró utca "zöldparkoló" | C35: 0
A36: 2. | B36: Közterületek használatára vonatkozó szabályok és díjak megáll. | C36: =SUM(C37:C37) -> 22802 | D36: =SUM(E36:N36) -> 22802 | F36: 21823 | L36: 979
B37: 3911 Társasházak támogatása | C37: ='7.mell.'!H10 -> 22802 | L37: 979
A38: 3. | B38: Parkolás üzemeltetése | C38: =SUM(C39:C39) -> 1381088 | D38: =SUM(E38:M38) -> 1381088 | E38: 3532 | G38: 1254685 | L38: 122871
B39: 3212 Parkolási feladatok (FEV IX. Zrt. Parkolási feladatokkal együttt) | C39: ='6.mell.'!H339 -> 1381088 | L39: 122871
A40: 5. | B40: Helyi településrendezés, településfejlesztés | C40: =SUM(C41:C44) -> 1050695 | D40: =SUM(E40:N40) -> 1050695 | F40: 882955 | L40: 167740
B41: 3211 FEV IX. Zrt. | C41: ='6.mell.'!H328 -> 986726 | L41: 84190
B42: 3116 Magyar Máltai Szeretetszolgálat Egyesület Közz.Haszn. | C42: ='6.mell.'!H125 -> 5649 | L42: 1866
B43: 4121 Felújításokkal kapcsolatos tervezések | C43: ='8.mell.'!H34 -> 20793 | L43: 54438
B44: 4141 KÉSZ-ek tervezése | C44: ='8.mell.'!H78 -> 37527 | L44: 27246
A45: 6. | B45: Helyi településrendezési szabályok megalkotása | C45: 0 | D45: =SUM(E45:M45) -> 0
A46: 7. | B46: Turizmussal kapcsolatos szabályok | C46: 0 | D46: =SUM(E46:M46) -> 0
A47: 8. | B47: Ipari és keresk. tev. kapcs. szabályozási jogkörök | C47: 0 | D47: =SUM(E47:M47) -> 0
A48: 9. | B48: Egészségügyi alapell., az egészséges életmód segítését célzó szolg. | C48: =SUM(C49:C52) -> 136031 | D48: =SUM(E48:M48) -> 136031 | F48: 36055 | L48: 99976
B49: 3301 Egészségügyi prevenció | C49: ='6.mell.'!H473 -> 13599 | L49: 1184
B50: 3348 KÉK Pont | C50: ='6.mell.'!H665 -> 3000 | L50: 2600
B51: 3302 FESZ KN Kft. | C51: ='6.mell.'!H481 -> 0
B52: 5055 FESZ új épületbe beszerzések | C52: ='9.mell '!H59 -> 119432 | L52: 96192
A53: 10. | B53: Óvodai ellátás | C53: =SUM(C54:C63) -> 2438468 | D53: =SUM(E53:N53) -> 2438468 | E53: 1717193 | F53: 644774 | G53: 157 | H53: 18075 | I53: 1530 | L53: 56739
B54: 2305 Csicsergő Óvoda | C54: ='4.mell.'!H42 -> 317722 | L54: 1500
B55: 2309 Csudafa Óvoda | C55: ='4.mell.'!H77 -> 313085 | L55: 1032
B56: 2310 Epres Óvoda | C56: ='4.mell.'!H111 -> 160075 | L56: 100
B57: 2325 Kicsi Bocs Óvoda | C57: ='4.mell.'!H180 -> 322906 | L57: 2316
B58: 2315 Kerekerdő Óvoda | C58: ='4.mell.'!H146 -> 550757 | L58: 5664
B59: 2330 Liliom Óvoda | C59: ='4.mell.'!H214 -> 248782 | L59: 1508
B60: 2335 Méhecske Óvoda | C60: ='4.mell.'!H248 -> 159733 | L60: 1933
B61: 2345 Napfény Óvoda | C61: ='4.mell.'!H282 -> 172479 | L61: 1780
B62: 2360 Ugrifüles Óvoda | C62: ='4.mell.'!H316 -> 160217 | L62: 2510
B63: 3147 SNI, BMI gyermekek ellátása | C63: ='6.mell.'!H218 -> 32712 | L63: 38396
A64: 11. | B64: Gyermekjóléti szolgáltatások, szociális szolgált.ell. | C64: =SUM(C65:C75) -> 80632 | D64: =SUM(E64:N64) -> 80632 | F64: 47527 | H64: 8083 | J64: 5991 | L64: 19031
B65: 3081 Köztemetés | C65: ='6.mell.'!H81 -> 26074 | L65: 8032
B66: 3311 Lakbértámogatás | C66: ='6.mell.'!H535 -> 10458
B67: 3323 Születési és életkezdési támogatás | C67: ='6.mell.'!H575 -> 9440
B68: 3340 Jelzőrendszeres házi segítségnyújtás | C68: ='6.mell.'!H599 -> 6603 | L68: 959
B69: 3341 VIII. kerület Józsefváros Önkormányzata ellátási szerződés | C69: ='6.mell.'!H607 -> 4844 | L69: 4000
B70: 3342 Küldetés Egyesület ellátási szerződés | C70: ='6.mell.'!H616 -> 880
B71: 3345 Támogató Szolgálat (Motivácó Alapítvány) | C71: ='6.mell.'!H641 -> 300
B72: 3346 Férőhely fenntartási díj Magyar Vöröskereszt | C72: ='6.mell.'!H649 -> 2839 | L72: 969
B73: 3347 Fogyatékos személyek nappali ellátása Gond-viselés Kht. | C73: ='6.mell.'!H657 -> 2756 | L73: 2000
B74: 3349 Pszichiátriai betegek nappali ellátása Moravcsik Alapítvány | C74: ='6.mell.'!H673 -> 5760
B75: 3350 Fogyatékos személyek nappali ellátása gyermekek Újbuda Önk. | C75: ='6.mell.'!H681 -> 10678 | L75: 3071
A76: 12. | B76: Hajléktalanná vált személyek ell.és rehab., vmint megakadályozása | C76: =SUM(C77) -> 0 | D76: =SUM(E76:N76) -> 1027 | L76: 1027
B77: 3344 Utcai szociális munka (Menhely Alapítvány) | C77: ='6.mell.'!H633 -> 0 | L77: 1027
A78: 13. | B78: Helyi közművelődési tevékenység támogatása, kult. örökség véd. | C78: =SUM(C79:C85) -> 325076 | D78: =SUM(E78:N78) -> 325076 | E78: 321826 | G78: 3250
B79: 3428 Ferencvárosi Helytörténeti Egyesület | C79: ='6.mell.'!H829 -> 3000
B80: 3429 Karaván Művészeti Alapítvány | C80: ='6.mell.'!H837 -> 0
B81: 3431 Concerto Akadémia Nonprofit Kft. | C81: ='6.mell.'!H845 -> 0
B82: 3432 MÁV Szimfónikus Zenekari Alapítvány | C82: ='6.mell.'!H853 -> 8000
B83: 3931 Bursa Hungarica | C83: ='7.mell.'!H25 -> 250
B84: 3961 Zeneművészeti szervezetek támogatása | C84: ='7.mell.'!H39 -> 313826
B85: 3963 Budapest Art Center Nonprofit Kft. - Színházművészeti szerv.támogatása | C85: 0
A86: 14. | B86: Saját tulajdonú lakás és helyiség gazdálkodás | C86: =SUM(C87:C123) -> 3677511 | D86: =SUM(E86:N86) -> 4382175 | G86: 328418 | L86: 4053757
B87: 3111 Lakáslemondás térítés, lakásbiztosítés visszafizetése | C87: ='6.mell.'!H91 -> 1482144 | L87: 909129
B88: 3114 Ingatlanokkal kapcsolatos egyéb feladatok | C88: ='6.mell.'!H109 -> 137120 | L88: 27233
B89: 3115 Lakás és helyiség karbantartás, berendezési tárgyak cseréje | C89: ='6.mell.'!H117 -> 28569 | L89: 4216
B90: 3121 KF - rehabilitáció járulékos költségek | C90: ='6.mell.'!H134 -> 9081 | L90: 756
B91: 3122 Kényszer kiköltöztetés | C91: ='6.mell.'!H142 -> 2343 | L91: 540
B92: 3123 Bérlakás és egyéb ingatlan elidegenítés | C92: ='6.mell.'!H150 -> 9720 | L92: 1401
B93: 3124 Helyiség megszerzési díj | C93: ='6.mell.'!H158 -> 5000
B94: 3125 Életjáradéki szolgáltatás | C94: ='6.mell.'!H166 -> 0
B95: 3213 Önkormányzati bérlemények üzemeltetési költségei | C95: ='6.mell.'!H348 -> 669532 | L95: 19995
B96: 4114 Önkormányzati lakóházak tetőfelújítás | C96: ='8.mell.'!H33 -> 0
B97: 4122 Balázs Béla utca 27/B, felújítás-tervezés | C97: 0
B98: 4123 Közbeszerzési beszerzésekhez kapcsolódó többletkiadások | C98: 0
B99: 4124 Önkormányzati lakások komfortosítása | C99: ='8.mell.'!H38 -> 0 | L99: 5214
B100: 4125 Gát u. 24.-26. sz. ingatlan felújítás | C100: ='8.mell.'!H39 -> 0
B101: 4126 Önkor-i lakások komfort., lakások és helyiségek felújítása | C101: ='8.mell.'!H40 -> 140721 | L101: 30901
B102: 4127 Haller u. 50. függőfolyosó felújítás | C102: ='8.mell.'!H44 -> 0
B103: 4129 Telepy u. 34. személyfelvonó létesítése | C103: ='8.mell.'!H45 -> 0
...

Sheet 24.mell.
A1: 24. sz. melléklet
B2: A helyi önkormányzat önként vállalt feladatai ellátásának költségvetési forrásai és kiadásai
B3: 2025. év
M4: adatok eFt-ban
B5: Önként vállalt feladatok | C5: 2025. évi I-XII. havi teljesítés | D5: Költségvetési bevételi előirányzat | E5: Közhatalmi bevételek | F5: Működési bevételek | G5: Támogatás Áht-n belülről | I5: Átvett pénzeszköz | K5: Előző évi marad. Igénybev. | L5: Felhalmozási bevételek | M5: Kölcsön visszatérülés/Működ.finansz. Bevétel
G6: Működési célú | H6: Felhalmozási célú | I6: Működési célú | J6: Felhalmozási célú
A7: 2986 | B7: Ferencvárosi Pinceszínház | C7: ='4.mell.'!H681 -> 252043 | D7: =SUM(E7:M7) -> 252043 | F7: 250222 | K7: 1821
A8: 2975 | B8: FIÜK Munkásszálló, nyári táboroztatás, termelői piac,NOVUS (Inkubátor), jégpálya, tábor | C8: 175201 | D8: =SUM(E8:M8) -> 175201 | F8: 175201
A9: 2850 | B9: Ferencvárosi Egyesített Bölcsöde | C9: 13787 | D9: =SUM(E9:M9) -> 13787 | F9: 13787
A10: 2987 | B10: Ferencvárosi Egészségügyi Szolgálat | C10: 3155540 | D10: =SUM(E10:M10) -> 3155540 | F10: 435346 | G10: 2720194
A11: 3011 | B11: Balatonszéplaki Üdülő | C11: ='5.mell.'!H18 -> 69741 | D11: =SUM(E11:M11) -> 69741 | F11: 66788 | K11: 2953
A12: 3052 | B12: Termelői piac | C12: 0 | D12: =SUM(E12:M12) -> 0
A13: 3059 | B13: Ferencvárosi Klímastratégia végrehatása | C13: ='6.mell.'!H54 -> 5157 | D13: =SUM(E13:M13) -> 27939 | K13: 27939
A14: 3141 | B14: Oktatási támogatás | C14: ='6.mell.'!H175 -> 11417 | D14: =SUM(E14:M14) -> 11417 | F14: 11417
A15: 3148 | B15: Diákok látogatása Holocaust emlékközpontban | C15: ='6.mell.'!H227 -> 16 | D15: =SUM(E15:M15) -> 1000 | K15: 1000
A16: 3206 | B16: Részvételi költségvetés | C16: ='6.mell.'!H283 -> 2340 | D16: =SUM(E16:M16) -> 2340 | F16: 2340
A17: 3207 | B17: Ferenc busz működtetése | C17: ='6.mell.'!H291 -> 41260 | D17: =SUM(E17:M17) -> 41260 | F17: 41260
A18: 3209 | B18: Polgármesteri tisztséggel összefüggő egyéb feladatok | C18: ='6.mell.'!H308 -> 2228 | D18: =SUM(E18:M18) -> 2228 | F18: 2228
A19: 3210 | B19: Ferencvárosi Településképi Arculati Kézikönyv | C19: ='6.mell.'!H317 -> 0 | D19: =SUM(E19:M19) -> 0
A20: 3217 | B20: Médiacég | C20: ='6.mell.'!H366 -> 203519 | D20: =SUM(E20:M20) -> 203519 | F20: 189473 | K20: 14046
A21: 3221 | B21: CLAP Gyermekek helyi ügyekben való részvétele | C21: 1117 | D21: =SUM(E21:M21) -> 1220 | I21: 1220
A22: 3222 | B22: VEKOP-7 3 4-17-2017-00011 | C22: ='6.mell.'!H401 -> 0 | D22: =SUM(E22:M22) -> 100 | K22: 100
A23: 3226 | B23: EUCF pályázat | C23: ='6.mell.'!H419 -> 0 | D23: =SUM(E23:M23) -> 0
A24: 3227 | B24: NEXT LEVEL Parking pályázat | C24: =20198+3185 -> 23383 | D24: =SUM(E24:M24) -> 23383 | F24: 21745 | K24: 1638
A25: 3228 | B25: Fedett, zárható kerékpártárolók társasházak, lakótelepek környékén | C25: ='6.mell.'!H455 -> 6638 | D25: =SUM(E25:M25) -> 6638 | K25: 6638
A26: 3229 | B26: Budapesti Zöld Panel program | C26: ='6.mell.'!H464 -> 0 | D26: =SUM(E26:M26) -> 0
A27: 3230 | B27: dpt 2025-6 Drogos pályázat | C27: =SUM('6.mell.'!H437) -> 0 | D27: =SUM(E27:M27) -> 2582 | I27: 2582
A28: 3231 | B28: Testvértelepülési programok támogatása | C28: =SUM('6.mell.'!H446) -> 0 | D28: =SUM(E28:M28) -> 1400 | G28: 1400
A29: 3304 | B29: Krízis Alap-ból kifizetés | C29: ='6.mell.'!H492 -> 0 | D29: =SUM(E29:M29) -> 2296 | K29: 2296
A30: 3302 | B30: FESZ KN Kft. | C30: ='6.mell.'!H481 -> 0 | D30: =SUM(E30:M30) -> 0
A31: 3306 | B31: Gyermeknevelési támogatás | C31: ='6.mell.'!H501 -> 44963 | D31: =SUM(E31:M31) -> 44963 | F31: 44913 | K31: 50
A32: 3307 | B32: Védőoltás támogatása | C32: ='6.mell.'!H510 -> 322 | D32: =SUM(E32:M32) -> 322 | F32: 322
A33: 3308 | B33: CT vizsgálat | C33: ='6.mell.'!H519 -> 6480 | D33: =SUM(E33:M33) -> 6480 | F33: 3209 | K33: 3271
A34: 3309 | B34: Lakásfentartási támogatás | C34: ='6.mell.'!H527 -> 49023 | D34: =SUM(E34:M34) -> 49023 | F34: 48981 | K34: 42
A35: 3312 | B35: Rendkívüli támogatás | C35: ='6.mell.'!H543 -> 27402 | D35: =SUM(E35:M35) -> 27402 | F35: 27191 | K35: 211
A36: 3313 | B36: Jövedelempótló rendszeres támogatás | C36: ='6.mell.'!H551 -> 11410 | D36: =SUM(E36:M36) -> 11410 | F36: 11145 | K36: 265
A37: 3316 | B37: Adósságkezelési támogatás | C37: ='6.mell.'!H559 -> 2647 | D37: =SUM(E37:M37) -> 2647 | F37: 2635 | K37: 12
A38: 3317 | B38: Gyógyszertámogatás | C38: ='6.mell.'!H567 -> 24277 | D38: =SUM(E38:M38) -> 24277 | F38: 23920 | K38: 357
A39: 3325 | B39: Ferencvárosi 65+ támogatás | C39: ='6.mell.'!H583 -> 8420 | D39: =SUM(E39:M39) -> 8420 | F39: 8384 | K39: 36
A40: 3352 | B40: Kifli, túró rudi, tej beszerzés | C40: ='6.mell.'!H690 -> 19561 | D40: =SUM(E40:M40) -> 19561 | F40: 15342 | K40: 4219
A41: 3343 | B41: ÉFOÉSZ ellátási szerződés | C41: ='6.mell.'!H625 -> 11715 | D41: =SUM(E41:M41) -> 11715 | K41: 11715
A42: 3353 | B42: SOS Krízis Alapítvány | C42: ='6.mell.'!H699 -> 531 | D42: =SUM(E42:M42) -> 531 | F42: 79 | K42: 452
A43: 3355 | B43: Idősügyi Koncepció | C43: ='6.mell.'!H707 -> 21393 | D43: =SUM(E43:M43) -> 21393 | F43: 10063 | K43: 11330
A44: 3356 | B44: Közfoglalkoztatottak pályázat támogatásának önrésze, kapcsolódó egyéb kiadások támogatása | C44: ='6.mell.'!H715 -> 0 | D44: =SUM(E44:M44) -> 0
A45: 3411 | B45: Jégpálya | C45: ='6.mell.'!H752 -> 25000 | D45: =SUM(E45:M45) -> 25000 | F45: 25000
A46: 3415 | B46: Hátrányos helyzetű diákok sport támogatása | C46: ='6.mell.'!H779 -> 5500 | D46: =SUM(E46:M46) -> 5500 | F46: 5500
A47: 3416 | B47: Sport Alap | C47: ='6.mell.'!H787 -> 20000 | D47: =SUM(E47:M47) -> 20000 | F47: 20000
A48: 3421 | B48: Kulturális koncepció | C48: ='6.mell.'!H796 -> 44362 | D48: =SUM(E48:M48) -> 44362 | F48: 20854 | I48: 2062 | K48: 21446
A49: 3422 | B49: Egyéb rendezvények | C49: ='6.mell.'!H804 -> 11847 | D49: =SUM(E49:M49) -> 11847 | F49: 9045 | K49: 2802
A50: 3423 | B50: Testvérvárosi kapcsolatok | C50: ='6.mell.'!H813 -> 19456 | D50: =SUM(E50:M50) -> 19456 | F50: 14967 | I50: 1700 | K50: 2789
A51: 3424 | B51: Kitüntetésekkel kapcsolatos költségek | C51: ='6.mell.'!H821 -> 26975 | D51: =SUM(E51:M51) -> 26975 | F51: 24656 | K51: 2319
A52: 3433 | B52: Díszkivilágítás | C52: ='6.mell.'!H878 -> 50002 | D52: =SUM(E52:M52) -> 50002 | F52: 21310 | K52: 28692
A53: 3434 | B53: Bartók Táncegyüttes | C53: ='6.mell.'!H887 -> 0 | D53: =SUM(E53:M53) -> 0
A54: 3923 | B54: Polgárőr Egyesület támogatása | C54: ='7.mell.'!H13 -> 5000 | D54: =SUM(E54:M54) -> 5000 | F54: 5000
A55: 3924 | B55: IX. ker. Rendőrségi támogatás | C55: ='7.mell.'!H14 -> 23250 | D55: =SUM(E55:M55) -> 23250 | F55: 23250
A56: 3926 | B56: Tűzoltóság támogatása | C56: ='7.mell.'!H16 -> 0 | D56: =SUM(E56:M56) -> 0
A57: 3927 | B57: Faültetés támogatása | C57: ='7.mell.'!H17 -> 11500 | D57: =SUM(E57:M57) -> 11500 | F57: 6500 | K57: 5000
A58: 3928 | B58: Társasház felújítási pályázat | C58: ='7.mell.'!H18 -> 191836 | D58: =SUM(E58:M58) -> 196415 | K58: 196415
A59: 3932 | B59: Deák ösztöndíj | C59: ='7.mell.'!H26 -> 15000 | D59: =SUM(E59:M59) -> 15000 | F59: 15000
A60: 3934 | B60: Tanoda támogatás | C60: 0 | D60: =SUM(E60:M60) -> 0
A61: 3935 | B61: GAPS Alapítvány | C61: ='7.mell.'!H28 -> 0 | D61: =SUM(E61:M61) -> 0
A62: 3941 | B62: FESZOFE kiemelkedően közhasznú Non-Profit Kft működési támogatása | C62: ='7.mell.'!H31 -> 1119000 | D62: =SUM(E62:M62) -> 1119000 | F62: 1089000 | K62: 30000
A63: 3943 | B63: Akadálymentesítési támogatás | C63: ='7.mell.'!H32 -> 500 | D63: =SUM(E63:M63) -> 500 | F63: 500
A64: 3944 | B64: Orvosi rendelők energ. költs. Támogatása | C64: 0 | D64: =SUM(E64:M64) -> 0
A65: 3972 | B65: Kulturális tevékenység támogatása | C65: ='7.mell.'!H40 -> 45688 | D65: =SUM(E65:M65) -> 45688 | F65: 44738 | K65: 950
A66: 3973 | B66: Irodalmi pályázat | C66: ='7.mell.'!H44 -> 5364 | D66: =SUM(E66:M66) -> 5364 | F66: 4369 | K66: 995
A67: 3975 | B67: Konkáv Közösségi tér-Köztes Átmenetek Kft. | C67: ='7.mell.'!H48 -> 15000 | D67: =SUM(E67:M67) -> 15000 | F67: 15000
A68: 3987 | B68: Ruszin Nemzetiségi Önkormányzat | C68: ='7.mell.'!H52 -> 900 | D68: =SUM(E68:M68) -> 900 | F68: 900
A69: 3988 | B69: Horvát Nemzetiségi Önkormányzat | C69: ='7.mell.'!H53 -> 900 | D69: =SUM(E69:M69) -> 900 | F69: 900
A70: 3989 | B70: Nemzetiségi önkormányzatok pályázati támogatása | C70: ='7.mell.'!H51 -> 5500 | D70: =SUM(E70:M70) -> 5500 | F70: 5500
A71: 3990 | B71: Bolgár Nemzetiségi Önkormányzat | C71: ='7.mell.'!H54 -> 1000 | D71: =SUM(E71:M71) -> 1000 | F71: 1000
A72: 3991 | B72: Roma Nemzetiségi Önkormányzat | C72: ='7.mell.'!H55 -> 6025 | D72: =SUM(E72:M72) -> 6025 | F72: 4820 | K72: 1205
A73: 3992 | B73: Görög Nemzetiségi Önkormányzat | C73: ='7.mell.'!H56 -> 1400 | D73: =SUM(E73:M73) -> 1400 | F73: 1400
A74: 3993 | B74: Német Nemzetiségi Önkormányzat | C74: ='7.mell.'!H57 -> 900 | D74: =SUM(E74:M74) -> 900 | F74: 900
A75: 3994 | B75: Örmény Nemzetiségi Önkormányzat | C75: ='7.mell.'!H58 -> 900 | D75: =SUM(E75:M75) -> 900 | F75: 900
A76: 3995 | B76: Román Nemzetiségi Önkormányzat | C76: ='7.mell.'!H59 -> 692 | D76: =SUM(E76:M76) -> 692 | F76: 467 | K76: 225
A77: 3997 | B77: Szerb Nemzetiségi Önkormányzat | C77: ='7.mell.'!H60 -> 900 | D77: =SUM(E77:M77) -> 900 | F77: 900
A78: 3998 | B78: Szlovák Nemzetiségi Önkormányzat | C78: ='7.mell.'!H61 -> 1125 | D78: =SUM(E78:M78) -> 1125 | F78: 900 | K78: 225
A79: 3999 | B79: Ukrán Nemzetiségi Önkormányzat | C79: ='7.mell.'!H62 -> 1250 | D79: =SUM(E79:M79) -> 1250 | F79: 1000 | K79: 250
A80: 4020 | B80: Törd a betont | C80: ='8.mell.'!H21 -> 0 | D80: =SUM(E80:M80) -> 0
A81: 4132 | B81: Nem önkormányzati tulajdonú lakóépületek veszélyelhárítása | C81: ='8.mell.'!H72 -> 14819 | D81: =SUM(E81:M81) -> 14819 | F81: 3257 | K81: 11562
A82: 4324 | B82: FESZ épületének felújítása | C82: ='8.mell.'!H96 -> 0 | D82: =SUM(E82:M82) -> 0
A83: 5002 | B83: Ifjúmunkás utca 32. Fitnesz park | C83: ='9.mell '!H11 -> 0 | D83: =SUM(E83:M83) -> 45507 | K83: 45507
A84: 5003 | B84: MÁV lakótelep parkoló | C84: ='9.mell '!H12 -> 0 | D84: =SUM(E84:M84) -> 0
A85: 5004 | B85: MÁV csatornázás | C85: ='9.mell '!H13 -> 0 | D85: =SUM(E85:M85) -> 0
A86: 5009 | B86: Boráros téri lift tervezés | C86: ='9.mell '!H19 -> 0 | D86: =SUM(E86:M86) -> 0
A87: 5010 | B87: Szoborpark | C87: =SUM('9.mell '!H21) -> 1841 | D87: =SUM(E87:M87) -> 1841 | F87: 1841
A88: 5012 | B88: Belső-Ferencváros parkolás | C88: ='9.mell '!H23 -> 17717 | D88: =SUM(E88:M88) -> 181284 | K88: 181284
A89: 5013 | B89: Zöldfelületi kataszter, fakataszter elkészítése | C89: ='9.mell '!H26 -> 1963 | D89: =SUM(E89:M89) -> 1963 | F89: 1786 | K89: 177
A90: 5014 | B90: Faültetés | C90: ='9.mell '!H29 -> 18487 | D90: =SUM(E90:M90) -> 20000 | K90: 20000
A91: 5015 | B91: Kerékpáros infrastruktúra tervezés, kiépítés, fejlesztés | C91: ='9.mell '!H30 -> 2562 | D91: =SUM(E91:M91) -> 2562 | F91: 637 | K91: 1925
A92: 5016 | B92: Közterületi takarítógépek beszerzése | C92: ='9.mell '!H33 -> 0 | D92: =SUM(E92:M92) -> 0
A93: 5019 | B93: Pöttyös utca metrófelszín | C93: ='9.mell '!H35 -> 113344 | D93: =SUM(E93:M93) -> 113958 | K93: 113958
A94: 5023 | B94: Ecseri úti metró megálló felszíni rendezés | C94: ='9.mell '!H42 -> 893614 | D94: =SUM(E94:M94) -> 1810211 | K94: 1810211
A95: 5026 | B95: Új önkormányzati bérház építés-tervezés | C95: ='9.mell '!H45 -> 0 | D95: =SUM(E95:M95) -> 0
A96: 5034 | B96: Gyáli úti okososzlop telepítése | C96: ='9.mell '!H55 -> 108 | D96: =SUM(E96:M96) -> 108 | K96: 108
A97: 5062 | B97: Óvoda fejlesztés | C97: =SUM('9.mell '!H64) -> 31717 | D97: =SUM(E97:M97) -> 31717 | H97: 31717
A98: 6142 | B98: Fejlesztési céltartalék | C98: =SUM('10.mell. '!H22) -> 0 | D98: =SUM(E98:M98) -> 0
A99: 6143 | B99: Lónyay Property | C99: =SUM('10.mell. '!H23) -> 0 | D99: =SUM(E99:M99) -> 200000 | K99: 200000
B100: Mindösszesen | C100: =SUM(C7:C99) -> 6944475 | D100: =SUM(D7:D99) -> 8307099 | E100: =SUM(E7:E99) -> 0 | F100: =SUM(F7:F99) -> 2777788 | G100: =SUM(G7:G99) -> 2721594 | H100: =SUM(H7:H99) -> 31717 | I100: =SUM(I7:I99) -> 7564 | J100: =SUM(J7:J99) -> 0 | ... M100: =SUM(M7:M99) -> 0

Sheet 25.mell.
B3: 25. melléklet
B4: A helyi önkormányzat államigazgatási feladatai
B5: 2025. év
G7: adatok eFt-ban
