Workbook
Name adósság: 0
Name beruh: #REF!
Name beruh: #REF!
Name beruh: #REF!
Name beruh: #REF!
Name beruh: #REF!
Name beruh: #REF!
Name beruh: #REF!
Name beruh: #REF!
Name beruh: #REF!
Name beruh: #REF!
Name beruh: #REF!
Name beruh: #REF!
Name beruh: #REF!
Name beruh: #REF!
Name beruh: #REF!
Name beruh: #REF!
Name beruh: #REF!
Name beruh: #REF!
Name beruházás: #REF!
Name beruházás: #REF!
Name beruházás: #REF!
Name beruházás: #REF!
Name beruházás: #REF!
Name beruházás: #REF!
Name beruházás: #REF!
Name beruházás: #REF!
Name beruházás: #REF!
Name beruházás: #REF!
Name beruházás: #REF!
Name beruházás: #REF!
Name beruházás: #REF!
Name beruházás: #REF!
Name beruházás: #REF!
Name beruházás: #REF!
Name beruházás: #REF!
Name beruházás: #REF!
Name cs8_sz_melleklet_Dim01: "="
Name cs8_sz_melleklet_Dim02: "="
Name cs8_sz_melleklet_Dim03: "="
Name cs8_sz_melleklet_Dim04: "="
Name cs8_sz_melleklet_Dim05: "="
Name cs8_sz_melleklet_Dim06: "="
Name cs8_sz_melleklet_Dim07: "="
Name cs8_sz_melleklet_Dim08: "="
Name cs8_sz_melleklet_Dim09: "="
Name cs8_sz_melleklet_Dim10: "="
Name cs8_sz_melleklet_Dim11: "="
Name cs8_sz_melleklet_Dim12: "="
Name cs8_sz_mellekletAnchor: #REF!
Name cs8_sz_mellekletAnchor: #REF!
Name cs8_sz_mellekletAnchor: #REF!
Name cs8_sz_mellekletAnchor: #REF!
Name cs8_sz_mellekletAnchor: #REF!
Name cs8_sz_mellekletAnchor: #REF!
Name cs8_sz_mellekletAnchor: #REF!
Name cs8_sz_mellekletAnchor: #REF!
Name cs8_sz_mellekletAnchor: #REF!
Name cs8_sz_mellekletAnchor: #REF!
Name cs8_sz_mellekletAnchor: #REF!

Sheet 1.mell.
A1: 1. melléklet
A2: Működési-felhalmozási bevételek-kiadások mérlegszerű bemutatása
N4: adatok eFt-ban
A5: Bevétel | B5: 2025. évi előirányzat 5/2025. | C5: 2025. évi előirányzat 14/2025. | D5: 2025. évi előirányzat 18/2025. | E5: 2025. évi előirányzat 22/2025. | F5: 2025. évi előirányzat 1/2026. | G5: 2025. évi I-XII. havi teljesítés /2026. | H5: Kiadások | I5: 2025. évi előirányzat 5/2025. | J5: 2025. évi előirányzat 14/2025. | K5: 2025. évi előirányzat 18/2025. | L5: 2025. évi előirányzat 22/2025. | M5: 2025. évi előirányzat 1/2026. | N5: 2025. évi I-XII. havi teljesítés /2026.
H7: Személyi juttatások | I7: =SUM('3.mell.'!C133) -> 10611654 | J7: =SUM('3.mell.'!D133) -> 10834270 | K7: =SUM('3.mell.'!E133) -> 10993760 | L7: =SUM('3.mell.'!F133) -> 11428463 | M7: =SUM('3.mell.'!G133) -> 11447013 | N7: =SUM('3.mell.'!H133) -> 11212681
A8: Önkormányzatok működési támogatásai | B8: =SUM('2.mell. '!C214) -> 4179621 | C8: =SUM('2.mell. '!D214) -> 4610231 | D8: =SUM('2.mell. '!E214) -> 4712365 | E8: =SUM('2.mell. '!F214) -> 4824674 | F8: =SUM('2.mell. '!G214) -> 4911388 | G8: =SUM('2.mell. '!H214) -> 4908920 | H8: Munkaadókat terh. járulékok és szociális hozzájárulási adó | I8: =SUM('3.mell.'!C134) -> 1387720 | J8: =SUM('3.mell.'!D134) -> 1459903 | K8: =SUM('3.mell.'!E134) -> 1480305 | L8: =SUM('3.mell.'!F134) -> 1533390 | M8: =SUM('3.mell.'!G134) -> 1551189 | N8: =SUM('3.mell.'!H134) -> 1423960
A9: Elvonások és befizetések bevételei | B9: =SUM('2.mell. '!C17) -> 0 | C9: =SUM('2.mell. '!D17) -> 0 | D9: =SUM('2.mell. '!E17) -> 0 | E9: =SUM('2.mell. '!F17) -> 0 | F9: =SUM('2.mell. '!G17) -> 0 | G9: =SUM('2.mell. '!H17) -> 0 | H9: Dologi kiadások | I9: =SUM('3.mell.'!C135) -> 8807988 | J9: =SUM('3.mell.'!D135) -> 11316679 | K9: =SUM('3.mell.'!E135) -> 11594264 | L9: =SUM('3.mell.'!F135) -> 12027313 | M9: =SUM('3.mell.'!G135) -> 12265736 | N9: =SUM('3.mell.'!H135) -> 9677548
A10: Egyéb működési célú tám.bev. Áh-n belülről | B10: =SUM('2.mell. '!C217) -> 2641465 | C10: =SUM('2.mell. '!D217) -> 2682165 | D10: =SUM('2.mell. '!E217) -> 2687165 | E10: =SUM('2.mell. '!F217) -> 2702940 | F10: =SUM('2.mell. '!G217) -> 2760273 | G10: =SUM('2.mell. '!H217) -> 2760351 | H10: Ellátottak pénzbeli juttatásai | I10: =SUM('3.mell.'!C136) -> 205345 | J10: =SUM('3.mell.'!D136) -> 263297 | K10: =SUM('3.mell.'!E136) -> 265344 | L10: =SUM('3.mell.'!F136) -> 270344 | M10: =SUM('3.mell.'!G136) -> 270344 | N10: =SUM('3.mell.'!H136) -> 212672
A11: "Egészséges Budapest Program" Integr. Alapell. Járób. szakell. Központ megv. | B11: =SUM('2.mell. '!C216) -> 0 | C11: =SUM('2.mell. '!D216) -> 0 | D11: =SUM('2.mell. '!E216) -> 0 | E11: =SUM('2.mell. '!F216) -> 0 | F11: =SUM('2.mell. '!G216) -> 0 | G11: =SUM('2.mell. '!H216) -> 0
A12: Egyéb műk. célú támog.bevételei Áh-n belülről - EU-s pály. KEHOP-1.2.1-18-2018-00006 | B12: =SUM('2.mell. '!C218) -> 0 | C12: =SUM('2.mell. '!D218) -> 0 | D12: =SUM('2.mell. '!E218) -> 0 | E12: =SUM('2.mell. '!F218) -> 0 | F12: =SUM('2.mell. '!G218) -> 0 | G12: =SUM('2.mell. '!H218) -> 0 | H12: Egyéb működési célú kiadások | I12: =SUM('3.mell.'!C137) -> 4842759 | J12: =SUM('3.mell.'!D137) -> 5319316 | K12: =SUM('3.mell.'!E137) -> 5579003 | L12: =SUM('3.mell.'!F137) -> 5151942 | M12: =SUM('3.mell.'!G137) -> 6653033 | N12: =SUM('3.mell.'!H137) -> 4662076
A13: Egyéb műk. célú támog.bevételei Áh-n belülről - VEKOP-7 3 4-17-2017-00011 | B13: =SUM('2.mell. '!C219) -> 0 | C13: =SUM('2.mell. '!D219) -> 0 | D13: =SUM('2.mell. '!E219) -> 0 | E13: =SUM('2.mell. '!F219) -> 0 | F13: =SUM('2.mell. '!G219) -> 0 | G13: =SUM('2.mell. '!H219) -> 0 | H13: ebből: Általános tartalék | I13: ='10.mell. '!C12 -> 116739 | J13: ='10.mell. '!D12 -> 196301 | K13: ='10.mell. '!E12 -> 134926 | L13: ='10.mell. '!F12 -> 100000 | M13: ='10.mell. '!G12 -> 1416582 | N13: ='10.mell. '!H12 -> 0
H14: Céltartalék 6. sz. melléklet szerint | I14: ='10.mell. '!C14 -> 500000 | J14: ='10.mell. '!D19+'10.mell. '!D16 -> 500000 | K14: ='10.mell. '!E19+'10.mell. '!E16 -> 814917 | L14: ='10.mell. '!F19+'10.mell. '!F16 -> 387362 | M14: ='10.mell. '!G19+'10.mell. '!G16 -> 532170 | N14: ='10.mell. '!H19+'10.mell. '!H16 -> 0
A15: Működési célú támogatások Államháztartáson belülről összesen | B15: =SUM(B8:B14) -> 6821086 | C15: =SUM(C8:C14) -> 7292396 | D15: =SUM(D8:D14) -> 7399530 | E15: =SUM(E8:E14) -> 7527614 | F15: =SUM(F8:F14) -> 7671661 | G15: =SUM(G8:G14) -> 7669271
A16: Vagyoni típusú adók (Helyi adó) | B16: =SUM('2.mell. '!C221) -> 7272555 | C16: =SUM('2.mell. '!D221) -> 7272555 | D16: =SUM('2.mell. '!E221) -> 7272555 | E16: =SUM('2.mell. '!F221) -> 7272555 | F16: =SUM('2.mell. '!G221) -> 7686639 | G16: =SUM('2.mell. '!H221) -> 7686639
A17: Termékek és szolgáltatások adói | B17: =SUM('2.mell. '!C222) -> 10057538 | C17: =SUM('2.mell. '!D222) -> 10057538 | D17: =SUM('2.mell. '!E222) -> 10057538 | E17: =SUM('2.mell. '!F222) -> 10057538 | F17: =SUM('2.mell. '!G222) -> 10321341 | G17: =SUM('2.mell. '!H222) -> 10418364
A18: Egyéb közhatalmi bevételek | B18: =SUM('2.mell. '!C223) -> 1078041 | C18: =SUM('2.mell. '!D223) -> 1078041 | D18: =SUM('2.mell. '!E223) -> 1078041 | E18: =SUM('2.mell. '!F223) -> 1078041 | F18: =SUM('2.mell. '!G223) -> 1377013 | G18: =SUM('2.mell. '!H223) -> 1408845
A19: Közhatalmi bevételek összesen | B19: =SUM(B16:B18) -> 18408134 | C19: =SUM(C16:C18) -> 18408134 | D19: =SUM(D16:D18) -> 18408134 | E19: =SUM(E16:E18) -> 18408134 | F19: =SUM(F16:F18) -> 19384993 | G19: =SUM(G16:G18) -> 19513848
A20: Készletértékesítés ellenértéke | B20: =SUM('2.mell. '!C225) -> 50 | C20: =SUM('2.mell. '!D225) -> 50 | D20: =SUM('2.mell. '!E225) -> 776 | E20: =SUM('2.mell. '!F225) -> 776 | F20: =SUM('2.mell. '!G225) -> 976 | G20: =SUM('2.mell. '!H225) -> 976
A21: Szolgáltatások ellenértéke | B21: =SUM('2.mell. '!C226) -> 2408369 | C21: =SUM('2.mell. '!D226) -> 2405869 | D21: =SUM('2.mell. '!E226) -> 2435569 | E21: =SUM('2.mell. '!F226) -> 2467697 | F21: =SUM('2.mell. '!G226) -> 2654887 | G21: =SUM('2.mell. '!H226) -> 2655734
A22: Közvetített szolgáltatások ellenértéke | B22: =SUM('2.mell. '!C227) -> 212884 | C22: =SUM('2.mell. '!D227) -> 212999 | D22: =SUM('2.mell. '!E227) -> 220593 | E22: =SUM('2.mell. '!F227) -> 222714 | F22: =SUM('2.mell. '!G227) -> 243765 | G22: =SUM('2.mell. '!H227) -> 243807
A23: Tulajdonosi bevétel | B23: =SUM('2.mell. '!C228) -> 0 | C23: =SUM('2.mell. '!D228) -> 0 | D23: =SUM('2.mell. '!E228) -> 0 | E23: =SUM('2.mell. '!F228) -> 0 | F23: =SUM('2.mell. '!G228) -> 0 | G23: =SUM('2.mell. '!H228) -> 0
A24: Ellátási díjak | B24: =SUM('2.mell. '!C229) -> 196051 | C24: =SUM('2.mell. '!D229) -> 198551 | D24: =SUM('2.mell. '!E229) -> 198551 | E24: =SUM('2.mell. '!F229) -> 198551 | F24: =SUM('2.mell. '!G229) -> 250749 | G24: =SUM('2.mell. '!H229) -> 249565
A25: Kiszámlázott általános forgalmi adó | B25: =SUM('2.mell. '!C230) -> 681262 | C25: =SUM('2.mell. '!D230) -> 1588381 | D25: =SUM('2.mell. '!E230) -> 1588381 | E25: =SUM('2.mell. '!F230) -> 1595229 | F25: =SUM('2.mell. '!G230) -> 1704621 | G25: =SUM('2.mell. '!H230) -> 1704902
A26: Általános forgalmi adó visszatérítése | B26: =SUM('2.mell. '!C231) -> 18000 | C26: =SUM('2.mell. '!D231) -> 18000 | D26: =SUM('2.mell. '!E231) -> 52357 | E26: =SUM('2.mell. '!F231) -> 75977 | F26: =SUM('2.mell. '!G231) -> 96890 | G26: =SUM('2.mell. '!H231) -> 96890
A27: Kamatbevételek és más nyereségjellegű bevételek | B27: =SUM('2.mell. '!C232) -> 150000 | C27: =SUM('2.mell. '!D232) -> 150000 | D27: =SUM('2.mell. '!E232) -> 150004 | E27: =SUM('2.mell. '!F232) -> 150004 | F27: =SUM('2.mell. '!G232) -> 263496 | G27: =SUM('2.mell. '!H232) -> 261685
A28: Részesedések értékesítéséhez kapcsolódó realizált nyereség
A29: Biztosító által fizetett kártérítés | B29: ='2.mell. '!C233 -> 0 | C29: ='2.mell. '!D233 -> 0 | D29: ='2.mell. '!E233 -> 296 | E29: ='2.mell. '!F233 -> 296 | F29: ='2.mell. '!G233 -> 376 | G29: ='2.mell. '!H233 -> 376
A30: Egyéb működési bevételek | B30: =SUM('2.mell. '!C234) -> 71415 | C30: =SUM('2.mell. '!D234) -> 3554115 | D30: =SUM('2.mell. '!E234) -> 3569352 | E30: =SUM('2.mell. '!F234) -> 3575450 | F30: =SUM('2.mell. '!G234) -> 3609378 | G30: =SUM('2.mell. '!H234) -> 3644841
A31: Működési bevételek összesen | B31: =SUM(B20:B30) -> 3738031 | C31: =SUM(C20:C30) -> 8127965 | D31: =SUM(D20:D30) -> 8215879 | E31: =SUM(E20:E30) -> 8286694 | F31: =SUM(F20:F30) -> 8825138 | G31: =SUM(G20:G30) -> 8858776
A32: Egyéb működési célú átvett pénzeszköz | B32: =SUM('2.mell. '!C236) -> 0 | C32: =SUM('2.mell. '!D236) -> 0 | D32: =SUM('2.mell. '!E236) -> 44249 | E32: =SUM('2.mell. '!F236) -> 47049 | F32: =SUM('2.mell. '!G236) -> 57381 | G32: =SUM('2.mell. '!H236) -> 16355
A33: Működési célú átvett pénzeszközök összesen | B33: =SUM(B32) -> 0 | C33: =SUM(C32) -> 0 | D33: =SUM(D32) -> 44249 | E33: =SUM(E32) -> 47049 | F33: =SUM(F32) -> 57381 | G33: =SUM(G32) -> 16355
A34: Működési költségvetési bevételek mindösszesen | B34: =SUM(B33,B31,B19,B15) -> 28967251 | C34: =SUM(C33,C31,C19,C15) -> 33828495 | D34: =SUM(D33,D31,D19,D15) -> 34067792 | E34: =SUM(E33,E31,E19,E15) -> 34269491 | F34: =SUM(F33,F31,F19,F15) -> 35939173 | G34: =SUM(G33,G31,G19,G15) -> 36058250 | H34: Működési költségvetési kiadások mindösszesen | I34: =SUM(I7:I12) -> 25855466 | J34: =SUM(J7:J12) -> 29193465 | K34: =SUM(K7:K12) -> 29912676 | L34: =SUM(L7:L12) -> 30411452 | M34: =SUM(M7:M12) -> 32187315 | N34: =SUM(N7:N12) -> 27188937
A35: Felhalmozási célú önkormányzati támogatások | B35: =SUM('2.mell. '!C239) -> 1500000 | C35: =SUM('2.mell. '!D239) -> 1500000 | D35: =SUM('2.mell. '!E239) -> 1500000 | E35: =SUM('2.mell. '!F239) -> 1500000 | F35: =SUM('2.mell. '!G239) -> 1500000 | G35: =SUM('2.mell. '!H239) -> 750000
A36: "Egészséges Budapest Program" Integrélt Alapell. Járób. szakell. Közp. megv. | B36: =SUM('2.mell. '!C240) -> 0 | C36: =SUM('2.mell. '!D240) -> 0 | D36: =SUM('2.mell. '!E240) -> 0 | E36: =SUM('2.mell. '!F240) -> 0 | F36: =SUM('2.mell. '!G240) -> 0 | G36: =SUM('2.mell. '!H240) -> 0
A37: Ferencvárosi lakótömb rehabilitációjának I. üteme | B37: =SUM('2.mell. '!C241) -> 0 | C37: =SUM('2.mell. '!D241) -> 0 | D37: =SUM('2.mell. '!E241) -> 0 | E37: =SUM('2.mell. '!F241) -> 0 | F37: =SUM('2.mell. '!G241) -> 0 | G37: =SUM('2.mell. '!H241) -> 0 | H37: Beruházások | I37: =SUM('3.mell.'!C140) -> 4607090 | J37: =SUM('3.mell.'!D140) -> 5384399 | K37: =SUM('3.mell.'!E140) -> 5405951 | L37: =SUM('3.mell.'!F140) -> 5381322 | M37: =SUM('3.mell.'!G140) -> 5427937 | N37: =SUM('3.mell.'!H140) -> 2002404
A38: Egyéb felhalmozási célú támog.bevételei ÁH-n belülről - Fővárosi Önkormányzattól | B38: =SUM('2.mell. '!C242) -> 0 | C38: =SUM('2.mell. '!D242) -> 0 | D38: =SUM('2.mell. '!E242) -> 0 | E38: =SUM('2.mell. '!F242) -> 0 | F38: =SUM('2.mell. '!G242) -> 0 | G38: =SUM('2.mell. '!H242) -> 0 | H38: Felújítások | I38: =SUM('3.mell.'!C141) -> 4027276 | J38: =SUM('3.mell.'!D141) -> 8212690 | K38: =SUM('3.mell.'!E141) -> 8545679 | L38: =SUM('3.mell.'!F141) -> 8346783 | M38: =SUM('3.mell.'!G141) -> 8277417 | N38: =SUM('3.mell.'!H141) -> 2061051
A39: Egyéb felhalmozási célú támog.bevételei ÁH-n belülről | B39: =SUM('2.mell. '!C243) -> 0 | C39: =SUM('2.mell. '!D243) -> 0 | D39: =SUM('2.mell. '!E243) -> 0 | E39: =SUM('2.mell. '!F243) -> 1530 | F39: =SUM('2.mell. '!G243) -> 1530 | G39: =SUM('2.mell. '!H243) -> 1530 | H39: Egyéb felhalmozási célú kiadások | I39: =SUM('3.mell.'!C142) -> 1730691 | J39: =SUM('3.mell.'!D142) -> 2316754 | K39: =SUM('3.mell.'!E142) -> 2323694 | L39: =SUM('3.mell.'!F142) -> 2554212 | M39: =SUM('3.mell.'!G142) -> 2553612 | N39: =SUM('3.mell.'!H142) -> 1736341
A40: Felhalmozási célú támogatások Államháztartáson belülről összesen | B40: =SUM(B35:B39) -> 1500000 | C40: =SUM(C35:C39) -> 1500000 | D40: =SUM(D35:D39) -> 1500000 | E40: =SUM(E35:E39) -> 1501530 | F40: =SUM(F35:F39) -> 1501530 | G40: =SUM(G35:G39) -> 751530
A41: Ingatlanok értékesítése | B41: =SUM('2.mell. '!C245) -> 200000 | C41: =SUM('2.mell. '!D245) -> 200000 | D41: =SUM('2.mell. '!E245) -> 629867 | E41: =SUM('2.mell. '!F245) -> 932407 | F41: =SUM('2.mell. '!G245) -> 1013059 | G41: =SUM('2.mell. '!H245) -> 1110158
A42: Egyéb tárgyi eszköz értékesítése | B42: =SUM('2.mell. '!C246) -> 0 | C42: =SUM('2.mell. '!D246) -> 0 | D42: =SUM('2.mell. '!E246) -> 0 | E42: =SUM('2.mell. '!F246) -> 0 | F42: =SUM('2.mell. '!G246) -> 583 | G42: =SUM('2.mell. '!H246) -> 583
...

Sheet 2.mell. 
A1: 2. melléklet
A2: Az önkormányzat 2025. évi bevételei
I4: adatok eFt-ban
A5: Soszám | B5: Bevételek | C5: 2025. évi előirányzat 5/2025. | D5: 2025. évi előirányzat 14/2025. | E5: 2025. évi előirányzat 18/2025. | F5: 2025. évi előirányzat 22/2025. | G5: 2025. évi előirányzat 1/2026. | H5: 2025. évi I-XII. havi teljesítés /2026. | I5: Index 8./7.
A7: 1. | B7: 2. | C7: 3. | D7: 4. | E7: 5. | F7: 6. | G7: 7. | H7: 8. | I7: 9.
B8: I. Helyi Önkormányzat bevételei
A10: 1010 | B10: Önkormányzatok működési támogatásai | C10: =SUM(C11:C16) -> 4179621 | D10: =SUM(D11:D16) -> 4610231 | E10: =SUM(E11:E16) -> 4712365 | F10: =SUM(F11:F16) -> 4824674 | G10: =SUM(G11:G16) -> 4911388 | H10: =SUM(H11:H16) -> 4908920 | I10: =H10/G10 -> 0.99949749
A11: 1011 | B11: - Helyi önkormányzatok működésének általános támogatása | C11: 903394 | D11: =903394+33987 -> 937381 | E11: =903394+33987 -> 937381 | F11: =903394+33987 -> 937381 | G11: =903394+33987 -> 937381 | H11: 937381 | I11: =H11/G11 -> 1
A12: 1012 | B12: - Települési önkormányzatok egyes köznevelési feladatainak támogatása | C12: 1654015 | D12: 1654015 | E12: =1654015+54368 -> 1708383 | F12: =1654015+54368+11278 -> 1719661 | G12: =1654015+54368+11278 -> 1719661 | H12: 1719661 | I12: =H12/G12 -> 1
A13: 1013 | B13: - Települési önkormányzatok szociális, gyermekjóléti és gyermekétkeztési feladatainak támogatása | C13: 1592165 | D13: =1592165+61940 -> 1654105 | E13: =1654105+47766 -> 1701871 | F13: =1654105+47766+70220 -> 1772091 | G13: =1654105+47766+70220+86714 -> 1858805 | H13: 1858805 | I13: =H13/G13 -> 1
A14: 1014 | B14: - Települési önkormányzatok kulturális feladatainak támogatása | C14: 30047 | D14: =30047+313826 -> 343873 | E14: =30047+313826 -> 343873 | F14: =30047+313826+30811 -> 374684 | G14: =30047+313826+30811 -> 374684 | H14: 374684 | I14: =H14/G14 -> 1
A15: 1015 | B15: - Működési célú költségvetési támogatások és kiegészítő támogatások
A16: 1016 | B16: - Elszámolásból származó bevételek | D16: 20857 | E16: 20857 | F16: 20857 | G16: 20857 | H16: 18389 | I16: =H16/G16 -> 0.88167042
A17: 1020 | B17: Elvonások és befizetések bevételei
A18: 1029 | B18: "Egészséges Budapest Program" Integrélt Alapell. Járóbeteg szakell. Központ megv. | C18: 0 | D18: 0 | E18: 0 | F18: 0 | G18: 0 | H18: 0
A19: 1030 | B19: Egyéb működési célú támogatások bevételei államháztartáson belülről | G19: =8005+1400 -> 9405 | H19: 9483
A20: 1031 | B20: Egyéb műk. célú támog.bevételei Áh-n belülről - EU-s pályázat KEHOP-1.2.1-18-2018-00006
A21: 1032 | B21: VEKOP-7 3 4-17-2017-00011 József Attila
B22: Működési célú támogatások államháztartáson belülről összesen | C22: =SUM(C10+C21+C20+C18+C19) -> 4179621 | D22: =SUM(D10+D21+D20+D18+D19) -> 4610231 | E22: =SUM(E10+E21+E20+E18+E19) -> 4712365 | F22: =SUM(F10+F21+F20+F18+F19) -> 4824674 | G22: =SUM(G10+G21+G20+G18+G19) -> 4920793 | H22: =SUM(H10+H21+H20+H18+H19) -> 4918403 | I22: =H22/G22 -> 0.99951431
A24: 1040 | B24: Vagyoni típusú adók (Helyi adó) | C24: =SUM(C25:C26) -> 7272555 | D24: =SUM(D25:D26) -> 7272555 | E24: =SUM(E25:E26) -> 7272555 | F24: =SUM(F25:F26) -> 7272555 | G24: =SUM(G25:G26) -> 7686639 | H24: =SUM(H25:H26) -> 7686639 | I24: =H24/G24 -> 1
A25: 1041 | B25: Építményadó | C25: 6375549 | D25: 6375549 | E25: 6375549 | F25: 6375549 | G25: =6375549+583049 -> 6958598 | H25: 6958598 | I25: =H25/G25 -> 1
A26: 1042 | B26: Telekadó | C26: 897006 | D26: 897006 | E26: 897006 | F26: 897006 | G26: =897006-168965 -> 728041 | H26: 728041 | I26: =H26/G26 -> 1
A27: 1050 | B27: Termékek és szolgáltatások adói | C27: =SUM(C28:C30) -> 10057538 | D27: =SUM(D28:D30) -> 10057538 | E27: =SUM(E28:E30) -> 10057538 | F27: =SUM(F28:F30) -> 10057538 | G27: =SUM(G28:G30) -> 10321341 | H27: =SUM(H28:H30) -> 10418364 | I27: =H27/G27 -> 1.0094002
A28: 1051 | B28: Iparűzési adó | C28: 9357538 | D28: 9357538 | E28: 9357538 | F28: 9357538 | G28: =9357538+133743 -> 9491281 | H28: 9588304 | I28: =H28/G28 -> 1.0102223
A29: 1052 | B29: Belföldi gépjárművek adójának a helyi önkormányzatot megillető része
A30: 1053 | B30: Idegenforgalmi adó | C30: 700000 | D30: 700000 | E30: 700000 | F30: 700000 | G30: =700000+130060 -> 830060 | H30: 830060 | I30: =H30/G30 -> 1
A31: 1070 | B31: Egyéb közhatalmi bevételek | C31: =SUM(C32:C42) -> 1036541 | D31: =SUM(D32:D42) -> 1036541 | E31: =SUM(E32:E42) -> 1036541 | F31: =SUM(F32:F42) -> 1036541 | G31: =SUM(G32:G42) -> 1347534 | H31: =SUM(H32:H42) -> 1379200 | I31: =H31/G31 -> 1.0234992
A32: 1071 | B32: Igazgatásszolgáltatási díj | C32: 2000 | D32: 2000 | E32: 2000 | F32: 2000 | G32: =2000-1569 -> 431 | H32: 431 | I32: =H32/G32 -> 1
A33: 1072 | B33: Talajterhelési díj | G33: 4151 | H33: 4151
A34: 1073 | B34: Környezetvédelmi bírság | G34: 203686 | H34: 203686
A35: 1074 | B35: Szabálysértési bírság
A36: 1075 | B36: Helyi adó pótlék, bírság | C36: 30000 | D36: 30000 | E36: 30000 | F36: 30000 | G36: =30000+28530 -> 58530 | H36: 58530 | I36: =H36/G36 -> 1
A37: 1076 | B37: Iparűzési adó pótlék, bírság | C37: 26641 | D37: 26641 | E37: 26641 | F37: 26641 | G37: 26641 | H37: 35972 | I37: =H37/G37 -> 1.3502496
A38: 1077 | B38: Parkolási bírság, pótdíj | C38: 565900 | D38: 565900 | E38: 565900 | F38: 565900 | G38: =565900+8500 -> 574400 | H38: 574401 | I38: =H38/G38 -> 1.0000017
A39: 1078 | B39: Egyéb bírságból származó bevétel | C39: 5000 | D39: 5000 | E39: 5000 | F39: 5000 | G39: =5000+5897 -> 10897 | H39: 10897 | I39: =H39/G39 -> 1
A40: 1079 | B40: Közigazgatási bírság | C40: 7000 | D40: 7000 | E40: 7000 | F40: 7000 | G40: =7000+5367 -> 12367 | H40: 12368 | I40: =H40/G40 -> 1.0000809
A41: 1081 | B41: Közterületfoglalási díj | C41: 400000 | D41: 400000 | E41: 400000 | F41: 400000 | G41: =400000-7569 -> 392431 | H41: 414764 | I41: =H41/G41 -> 1.0569094
A42: 1211 | B42: Parkolóhely megváltás | G42: 64000 | H42: 64000
B43: Közhatalmi bevételek összesen | C43: =SUM(C24+C27+C31) -> 18366634 | D43: =SUM(D24+D27+D31) -> 18366634 | E43: =SUM(E24+E27+E31) -> 18366634 | F43: =SUM(F24+F27+F31) -> 18366634 | G43: =SUM(G24+G27+G31) -> 19355514 | H43: =SUM(H24+H27+H31) -> 19484203 | I43: =H43/G43 -> 1.0066487
A45: 1090 | B45: Szolgáltatások ellenértéke | C45: =SUM(C46:C54) -> 2140682 | D45: =SUM(D46:D54) -> 2140682 | E45: =SUM(E46:E54) -> 2140682 | F45: =SUM(F46:F54) -> 2140682 | G45: =SUM(G46:G54) -> 2306036 | H45: =SUM(H46:H54) -> 2306810 | I45: =H45/G45 -> 1.0003356
...

Sheet 3.mell.
A1: 3. melléklet
A2: Az önkormányzat 2025. évi kiadásai
I4: adatok eFt-ban
C5: 2025. évi előirányzat 5/2025. | D5: 2025. évi előirányzat 14/2025. | E5: 2025. évi előirányzat 18/2025. | F5: 2025. évi előirányzat 22/2025. | G5: 2025. évi előirányzat 1/2026. | H5: 2025. évi I-XII. havi teljesítés /2026. | I5: Index 8./7.
A6: Soszám | B6: Megnevezés
A8: 1. | B8: 2. | C8: 3. | D8: 4. | E8: 5. | F8: 6. | G8: 7. | H8: 8. | I8: 9.
B9: I. Polgármesteri Hivatal kiadásai
A11: 1710 | B11: Polgármesteri Hivatal kiadása (5. melléklet szerint) | C11: =SUM(C12:C19) -> 3901058 | D11: =SUM(D12:D19) -> 4340442 | E11: =SUM(E12:E19) -> 4340442 | F11: =SUM(F12:F19) -> 4575246 | G11: =SUM(G12:G19) -> 4597560 | H11: =SUM(H12:H19) -> 4100633 | I11: =SUM(H11/G11) -> 0.89191506
A12: 1711 | B12: Személyi juttatások | C12: =SUM('5.mell.'!C52) -> 2563391 | D12: =SUM('5.mell.'!D52) -> 2665485 | E12: =SUM('5.mell.'!E52) -> 2667485 | F12: =SUM('5.mell.'!F52) -> 2877485 | G12: =SUM('5.mell.'!G52) -> 2910832 | H12: =SUM('5.mell.'!H52) -> 2804847 | I12: =SUM(H12/G12) -> 0.96358945
A13: 1712 | B13: Munkaadókat terhelő járulékok és szociális hozzájárulási adó | C13: =SUM('5.mell.'!C53) -> 384329 | D13: =SUM('5.mell.'!D53) -> 414535 | E13: =SUM('5.mell.'!E53) -> 414795 | F13: =SUM('5.mell.'!F53) -> 439599 | G13: =SUM('5.mell.'!G53) -> 453166 | H13: =SUM('5.mell.'!H53) -> 403960 | I13: =SUM(H13/G13) -> 0.89141727
A14: 1713 | B14: Dologi kiadások | C14: =SUM('5.mell.'!C54) -> 676338 | D14: =SUM('5.mell.'!D54) -> 921366 | E14: =SUM('5.mell.'!E54) -> 909106 | F14: =SUM('5.mell.'!F54) -> 872849 | G14: =SUM('5.mell.'!G54) -> 896849 | H14: =SUM('5.mell.'!H54) -> 664572 | I14: =SUM(H14/G14) -> 0.74100768
A15: 1714 | B15: Ellátottak pénzbeli juttatásai | C15: =SUM('5.mell.'!C55) -> 0 | D15: =SUM('5.mell.'!D55) -> 0 | E15: =SUM('5.mell.'!E55) -> 0 | F15: =SUM('5.mell.'!F55) -> 0 | G15: =SUM('5.mell.'!G55) -> 0 | H15: =SUM('5.mell.'!H55) -> 0
A16: 1715 | B16: Egyéb működési célú kiadások | C16: ='5.mell.'!C56 -> 0 | D16: ='5.mell.'!D56 -> 0 | E16: ='5.mell.'!E56 -> 0 | F16: ='5.mell.'!F56 -> 0 | G16: ='5.mell.'!G56 -> 0 | H16: ='5.mell.'!H56 -> 0
A17: 1716 | B17: Beruházások | C17: =SUM('5.mell.'!C60) -> 213000 | D17: =SUM('5.mell.'!D60) -> 274056 | E17: =SUM('5.mell.'!E60) -> 284056 | F17: =SUM('5.mell.'!F60) -> 320313 | G17: =SUM('5.mell.'!G60) -> 254613 | H17: =SUM('5.mell.'!H60) -> 161460 | I17: =SUM(H17/G17) -> 0.63413887
A18: 1717 | B18: Felújítások | C18: =SUM('5.mell.'!C59) -> 61000 | D18: =SUM('5.mell.'!D59) -> 61000 | E18: =SUM('5.mell.'!E59) -> 61000 | F18: =SUM('5.mell.'!F59) -> 61000 | G18: =SUM('5.mell.'!G59) -> 78100 | H18: =SUM('5.mell.'!H59) -> 64794 | I18: =SUM(H18/G18) -> 0.82962868
A19: 1718 | B19: Egyéb felhalmozási célú kiadások - Munkáltatói kölcsön | C19: =SUM('5.mell.'!C61) -> 3000 | D19: =SUM('5.mell.'!D61) -> 4000 | E19: =SUM('5.mell.'!E61) -> 4000 | F19: =SUM('5.mell.'!F61) -> 4000 | G19: =SUM('5.mell.'!G61) -> 4000 | H19: =SUM('5.mell.'!H61) -> 1000 | I19: =SUM(H19/G19) -> 0.25
B21: II. Önkormányzat kiadásai
A23: 1750 | B23: Önkormányzat költségvetésben szereplő kiadások (6. melléklet szerint) | C23: =SUM(C24:C32) -> 6698893 | D23: =SUM(D24:D32) -> 8010236 | E23: =SUM(E24:E32) -> 8167003 | F23: =SUM(F24:F32) -> 8540753 | G23: =SUM(G24:G32) -> 8542967 | H23: =SUM(H24:H32) -> 6749021 | I23: =SUM(H23/G23) -> 0.79000902
A24: 1751 | B24: Személyi juttatások | C24: =SUM('6.mell.'!C898) -> 346934 | D24: =SUM('6.mell.'!D898) -> 357226 | E24: =SUM('6.mell.'!E898) -> 407736 | F24: =SUM('6.mell.'!F898) -> 399286 | G24: =SUM('6.mell.'!G898) -> 384721 | H24: =SUM('6.mell.'!H898) -> 354606 | I24: =SUM(H24/G24) -> 0.9217225
A25: 1752 | B25: Munkaadókat terhelő járulékok és szociális hozzájárulási adó | C25: =SUM('6.mell.'!C899) -> 51887 | D25: =SUM('6.mell.'!D899) -> 59760 | E25: =SUM('6.mell.'!E899) -> 65773 | F25: =SUM('6.mell.'!F899) -> 62283 | G25: =SUM('6.mell.'!G899) -> 60002 | H25: =SUM('6.mell.'!H899) -> 47583 | I25: =SUM(H25/G25) -> 0.79302357
A26: 1753 | B26: Dologi kiadások | C26: =SUM('6.mell.'!C900) -> 4529943 | D26: =SUM('6.mell.'!D900) -> 5275177 | E26: =SUM('6.mell.'!E900) -> 5342331 | F26: =SUM('6.mell.'!F900) -> 5481061 | G26: =SUM('6.mell.'!G900) -> 5477686 | H26: =SUM('6.mell.'!H900) -> 4471654 | I26: =SUM(H26/G26) -> 0.81633997
A27: 1754 | B27: Ellátottak pénzbeli juttatásai | C27: =SUM('6.mell.'!C901) -> 205000 | D27: =SUM('6.mell.'!D901) -> 262952 | E27: =SUM('6.mell.'!E901) -> 264999 | F27: =SUM('6.mell.'!F901) -> 269999 | G27: =SUM('6.mell.'!G901) -> 269999 | H27: =SUM('6.mell.'!H901) -> 212420 | I27: =SUM(H27/G27) -> 0.78674365
A28: 1755 | B28: Egyéb működési célú kiadások | C28: =SUM('6.mell.'!C902) -> 75600 | D28: =SUM('6.mell.'!D902) -> 122988 | E28: =SUM('6.mell.'!E902) -> 128231 | F28: =SUM('6.mell.'!F902) -> 145701 | G28: =SUM('6.mell.'!G902) -> 146951 | H28: =SUM('6.mell.'!H902) -> 116110 | I28: =SUM(H28/G28) -> 0.79012732
A29: 1756 | B29: Beruházások | C29: =SUM('6.mell.'!C905) -> 26400 | D29: =SUM('6.mell.'!D905) -> 79904 | E29: =SUM('6.mell.'!E905) -> 98264 | F29: =SUM('6.mell.'!F905) -> 120986 | G29: =SUM('6.mell.'!G905) -> 141171 | H29: =SUM('6.mell.'!H905) -> 41525 | I29: =SUM(H29/G29) -> 0.29414681
A30: 1757 | B30: Felújítások | C30: =SUM('6.mell.'!C906) -> 0 | D30: =SUM('6.mell.'!D906) -> 0 | E30: =SUM('6.mell.'!E906) -> 0 | F30: =SUM('6.mell.'!F906) -> 0 | G30: =SUM('6.mell.'!G906) -> 0 | H30: =SUM('6.mell.'!H906) -> 0
A31: 1758 | B31: Egyéb felhalmozási célú kiadások | C31: =SUM('6.mell.'!C907) -> 1463129 | D31: =SUM('6.mell.'!D907) -> 1852229 | E31: =SUM('6.mell.'!E907) -> 1859669 | F31: =SUM('6.mell.'!F907) -> 2061437 | G31: =SUM('6.mell.'!G907) -> 2062437 | H31: =SUM('6.mell.'!H907) -> 1505123 | I31: =SUM(H31/G31) -> 0.7297789
A33: 1760 | B33: Önkormányzat ktsv. szereplő Támogatások (7. melléklet szerint) | C33: =SUM(C34:C40) -> 1665520 | D33: =SUM(D34:D40) -> 2215590 | E33: =SUM(E34:E40) -> 2216385 | F33: =SUM(F34:F40) -> 2236085 | G33: =SUM(G34:G40) -> 2236085 | H33: =SUM(H34:H40) -> 1995408 | I33: =SUM(H33/G33) -> 0.89236679
A34: 1761 | B34: Személyi juttatások | C34: =SUM('7.mell.'!C65) -> 4513 | D34: =SUM('7.mell.'!D65) -> 5325 | E34: =SUM('7.mell.'!E65) -> 6467 | F34: =SUM('7.mell.'!F65) -> 6467 | G34: =SUM('7.mell.'!G65) -> 6467 | H34: =SUM('7.mell.'!H65) -> 5228 | I34: =SUM(H34/G34) -> 0.80841194
A35: 1762 | B35: Munkaadókat terhelő járulékok és szociális hozzájárulási adó | C35: =SUM('7.mell.'!C66) -> 587 | D35: =SUM('7.mell.'!D66) -> 770 | E35: =SUM('7.mell.'!E66) -> 923 | F35: =SUM('7.mell.'!F66) -> 923 | G35: =SUM('7.mell.'!G66) -> 923 | H35: =SUM('7.mell.'!H66) -> 636 | I35: =SUM(H35/G35) -> 0.68905742
A36: 1763 | B36: Dologi kiadások | C36: =SUM('7.mell.'!C67) -> 14000 | D36: =SUM('7.mell.'!D67) -> 15431 | E36: =SUM('7.mell.'!E67) -> 15431 | F36: =SUM('7.mell.'!F67) -> 15431 | G36: =SUM('7.mell.'!G67) -> 15431 | H36: =SUM('7.mell.'!H67) -> 6695 | I36: =SUM(H36/G36) -> 0.43386689
A37: 1764 | B37: Egyéb működési célú kiadások | C37: =SUM('7.mell.'!C68) -> 1405420 | D37: =SUM('7.mell.'!D68) -> 1752101 | E37: =SUM('7.mell.'!E68) -> 1752101 | F37: =SUM('7.mell.'!F68) -> 1770051 | G37: =SUM('7.mell.'!G68) -> 1772051 | H37: =SUM('7.mell.'!H68) -> 1763156 | I37: =SUM(H37/G37) -> 0.99498039
A38: 1765 | B38: Beruházási kiadások | C38: =SUM('7.mell.'!C71) -> 8000 | D38: =SUM('7.mell.'!D71) -> 13000 | E38: =SUM('7.mell.'!E71) -> 13000 | F38: =SUM('7.mell.'!F71) -> 13000 | G38: =SUM('7.mell.'!G71) -> 13000 | H38: =SUM('7.mell.'!H71) -> 4294 | I38: =SUM(H38/G38) -> 0.33030769
A39: 1766 | B39: Egyéb felhalmozási célú kiadások | C39: =SUM('7.mell.'!C72) -> 233000 | D39: =SUM('7.mell.'!D72) -> 428963 | E39: =SUM('7.mell.'!E72) -> 428463 | F39: =SUM('7.mell.'!F72) -> 430213 | G39: =SUM('7.mell.'!G72) -> 428213 | H39: =SUM('7.mell.'!H72) -> 215399 | I39: =SUM(H39/G39) -> 0.50301836
A41: 1770 | B41: Önkormányzati Felújítási kiadások (8. sz. melléklet szerint) | C41: =SUM(C42:C48) -> 3578624 | D41: =SUM(D42:D48) -> 7630749 | E41: =SUM(E42:E48) -> 8030239 | F41: =SUM(F42:F48) -> 8045239 | G41: =SUM(G42:G48) -> 8045239 | H41: =SUM(H42:H48) -> 1760233 | I41: =SUM(H41/G41) -> 0.21879188
A42: 1771 | B42: Személyi juttatások | C42: ='8.mell.'!C106 -> 0 | D42: ='8.mell.'!D106 -> 1256 | E42: ='8.mell.'!E106 -> 1256 | F42: ='8.mell.'!F106 -> 1256 | G42: ='8.mell.'!G106 -> 1256 | H42: ='8.mell.'!H106 -> 1156 | I42: =SUM(H42/G42) -> 0.92038217
A43: 1772 | B43: Munkaadókat terhelő járulékok és szociális hozzájárulási adó | C43: ='8.mell.'!C107 -> 0 | D43: ='8.mell.'!D107 -> 299 | E43: ='8.mell.'!E107 -> 299 | F43: ='8.mell.'!F107 -> 299 | G43: ='8.mell.'!G107 -> 299 | H43: ='8.mell.'!H107 -> 173 | I43: =SUM(H43/G43) -> 0.57859532
A44: 1773 | B44: Dologi kiadások | C44: =SUM('8.mell.'!C108) -> 0 | D44: =SUM('8.mell.'!D108) -> 3857 | E44: =SUM('8.mell.'!E108) -> 61374 | F44: =SUM('8.mell.'!F108) -> 319375 | G44: =SUM('8.mell.'!G108) -> 329676 | H44: =SUM('8.mell.'!H108) -> 48065 | I44: =SUM(H44/G44) -> 0.14579466
A45: 1774 | B45: Egyéb működési célú kiadás | C45: =SUM('8.mell.'!M109) -> 0 | D45: =SUM('8.mell.'!N109) -> 0 | E45: =SUM('8.mell.'!O109) -> 0 | F45: =SUM('8.mell.'!P109) -> 0 | G45: =SUM('8.mell.'!Q109) -> 0 | H45: =SUM('8.mell.'!R109) -> 0
A46: 1775 | B46: Beruházások | C46: =SUM('8.mell.'!C112) -> 0 | D46: =SUM('8.mell.'!D112) -> 92730 | E46: =SUM('8.mell.'!E112) -> 144075 | F46: =SUM('8.mell.'!F112) -> 165625 | G46: =SUM('8.mell.'!G112) -> 174225 | H46: =SUM('8.mell.'!H112) -> 98472 | I46: =SUM(H46/G46) -> 0.56520017
A47: 1776 | B47: Felújítások | C47: =SUM('8.mell.'!C113) -> 3547062 | D47: =SUM('8.mell.'!D113) -> 7501045 | E47: =SUM('8.mell.'!E113) -> 7791673 | F47: =SUM('8.mell.'!F113) -> 7527122 | G47: =SUM('8.mell.'!G113) -> 7507821 | H47: =SUM('8.mell.'!H113) -> 1597548 | I47: =SUM(H47/G47) -> 0.21278451
...

Sheet 4.mell.
A1: 4. melléklet
A2: Költségvetési szervek 2025. évi költségvetése
I4: adatok eFt-ban
A5: Sorsz. | B5: Megnevezés | C5: 2025. évi előirányzat 5/2025. | D5: 2025. évi előirányzat 14/2025. | E5: 2025. évi előirányzat 18/2025. | F5: 2025. évi előirányzat 22/2025. | G5: 2025. évi előirányzat 1/2026. | H5: 2025. évi I-XII. havi teljesítés /2026. | I5: Index 8./7.
A8: 1. | B8: 2. | C8: 3. | D8: 4. | E8: 5. | F8: 6. | G8: 7. | H8: 8. | I8: 9.
A9: 2305 | B9: Csicsergő Óvoda /Thaly K. u. 38./
B10: Elvonások és befizetések bevételei
B11: Egyéb működési célú támogatások bevételei Áh-n belülről | F11: 1050 | G11: =1050+500 -> 1550 | H11: 1550 | I11: =H11/G11 -> 1
B12: Működési célú támogatások Áh-n belülről összesen | F12: 1050 | G12: =1050+500 -> 1550 | H12: =SUM(H10:H11) -> 1550 | I12: =H12/G12 -> 1
B13: Szolgáltatások ellenértéke
B14: Egyéb szolgáltatás
B15: Bérleti díjak
B16: Közvetített szolgáltatások ellenértéke
B17: Ellátási díjak
B18: Kiszámlázott általános forgalmi adó
B19: Kamatbevételek és más nyereségjelegű bevételek
B20: Egyéb működési bevételek | D20: 115 | E20: 115 | F20: 115 | G20: =115+5 -> 120 | H20: 120 | I20: =H20/G20 -> 1
B21: Működési bevételek összesen | D21: 115 | E21: 115 | F21: 115 | G21: =115+5 -> 120 | H21: =SUM(H14:H20) -> 120 | I21: =H21/G21 -> 1
B22: Egyéb működési célú átvett pénzeszköz
B23: Működési költségvetési bevételek mindösszesen | D23: 115 | E23: 115 | F23: =115+1050 -> 1165 | G23: =G12+G21 -> 1670 | H23: =H12+H21 -> 1670 | I23: =H23/G23 -> 1
B24: Egyéb felhalmozási célú támogatások bevételei államháztartáson belülről
B25: Felhalmozási költségvetési bevételek mindösszesen
B26: Előző év költségvetési maradványának igénybevétele | D26: 1500 | E26: 1500 | F26: 1500 | G26: 1500 | H26: 1500 | I26: =H26/G26 -> 1
B27: Irányító szervi támogatás | C27: 309566 | D27: =309566+1353 -> 310919 | E27: =310919+1535 -> 312454 | F27: =310919+1535+14814 -> 327268 | G27: =310919+1535+14814 -> 327268 | H27: 317448 | I27: =H27/G27 -> 0.96999401
B28: Működési finanszírozási bevételek | C28: =SUM(C26:C27) -> 309566 | D28: =SUM(D26:D27) -> 312419 | E28: =SUM(E26:E27) -> 313954 | F28: =SUM(F26:F27) -> 328768 | G28: =SUM(G26:G27) -> 328768 | H28: =SUM(H26:H27) -> 318948 | I28: =H28/G28 -> 0.97013091
B29: Előző év költségvetési maradványának igénybevétele
B30: Felhalmozási finanszírozási bevételek
B31: Bevételek mindösszesen | C31: =SUM(C23+C25+C28+C30) -> 309566 | D31: =SUM(D23+D25+D28+D30) -> 312534 | E31: =SUM(E23+E25+E28+E30) -> 314069 | F31: =SUM(F23+F25+F28+F30) -> 329933 | G31: =SUM(G23+G25+G28+G30) -> 330438 | H31: =SUM(H23+H25+H28+H30) -> 320618 | I31: =H31/G31 -> 0.97028187
B32: Személyi juttatások | C32: 261925 | D32: =261925+202 -> 262127 | E32: =262127+960 -> 263087 | F32: =262127+960+14814 -> 277901 | G32: =262127+960+14814 -> 277901 | H32: 274728 | I32: =H32/G32 -> 0.98858226
B33: Munkaadókat terhelő járulékok és szociális hozzájárulási adó | C33: 39353 | D33: =39353+1022 -> 40375 | E33: =40375+125 -> 40500 | F33: =40375+125 -> 40500 | G33: =40375+125 -> 40500 | H33: 36386 | I33: =H33/G33 -> 0.89841975
B34: Dologi kiadások | C34: 6472 | D34: =6472+276+1353+115 -> 8216 | E34: =6472+276+1353+115 -> 8216 | F34: =6472+276+1353+115+1050 -> 9266 | G34: =6472+276+1353+115+1050+505 -> 9771 | H34: 4989 | I34: =H34/G34 -> 0.51059257
B35: Ellátottak pénzbeli juttatásai
B36: Egyéb működési célú kiadások
B37: Működési költségvetési kiadások mindösszesen | C37: =SUM(C32:C36) -> 307750 | D37: =SUM(D32:D36) -> 310718 | E37: =SUM(E32:E36) -> 311803 | F37: =SUM(F32:F36) -> 327667 | G37: =SUM(G32:G36) -> 328172 | H37: =SUM(H32:H36) -> 316103 | I37: =H37/G37 -> 0.96322355
B38: Beruházások (bútorok, berendezési tárgyak) | C38: 1816 | D38: 1816 | E38: =1816+450 -> 2266 | F38: =1816+450 -> 2266 | G38: =1816+450 -> 2266 | H38: 1619 | I38: =H38/G38 -> 0.71447485
B39: Felújítások
B40: Egyéb felhalmozási célú kiadások
B41: Felhalmozási költségvetési kiadások mindösszesen | C41: =SUM(C38:C40) -> 1816 | D41: =SUM(D38:D40) -> 1816 | E41: =SUM(E38:E40) -> 2266 | F41: =SUM(F38:F40) -> 2266 | G41: =SUM(G38:G40) -> 2266 | H41: =SUM(H38:H40) -> 1619 | I41: =H41/G41 -> 0.71447485
B42: Kiadások mindösszesen | C42: =SUM(C37+C41) -> 309566 | D42: =SUM(D37+D41) -> 312534 | E42: =SUM(E37+E41) -> 314069 | F42: =SUM(F37+F41) -> 329933 | G42: =SUM(G37+G41) -> 330438 | H42: =SUM(H37+H41) -> 317722 | I42: =H42/G42 -> 0.96151774
A43: 2309 | B43: Csudafa Óvoda /Óbester u. 9./
...

Sheet 5.mell.
A1: 5. melléklet
A2: A Polgármesteri Hivatal kiadásai 2025.
I3: adatok eFt-ban
C4: 2025. évi előirányzat 5/2025. | D4: 2025. évi előirányzat 14/2025. | E4: 2025. évi előirányzat 18/2025. | F4: 2025. évi előirányzat 22/2025. | G4: 2025. évi előirányzat 1/2026. | H4: 2025. évi I-XII. havi teljesítés /2026. | I4: Index 8./7.
A5: Sorsz. | B5: Kiadás megnevezése
A7: 1. | B7: 2. | C7: 3. | D7: 4. | E7: 5. | F7: 6. | G7: 7. | H7: 8. | I7: 9.
A8: 3010 | B8: Üdülőhelyi szálláshely szolgáltatás | C8: =SUM(C18) -> 68450 | D8: =SUM(D18) -> 71403 | E8: =SUM(E18) -> 71403 | F8: =SUM(F18) -> 88903 | G8: =SUM(G18) -> 88903 | H8: =SUM(H18) -> 69741 | I8: =H8/G8 -> 0.78446172
A9: 3011 | B9: Balatonszéplaki Üdülő
B10: Személyi juttatások | C10: 3000 | D10: =3000+494 -> 3494 | E10: =3494+2000 -> 5494 | F10: =3494+2000 -> 5494 | G10: =3494+2000 -> 5494 | H10: 4436 | I10: =H10/G10 -> 0.80742628
B11: Munkaadókat terhelő jár. és szociális hozzájár.adó | C11: 450 | D11: =450+25 -> 475 | E11: =475+260 -> 735 | F11: =475+260 -> 735 | G11: =475+260 -> 735 | H11: 662 | I11: =H11/G11 -> 0.90068027
B12: Dologi kiadások és egyéb folyó kiadások | C12: 16000 | D12: =16000+2434 -> 18434 | E12: =18434-2260 -> 16174 | F12: =18434-2260 -> 16174 | G12: =18434-2260 -> 16174 | H12: 6014 | I12: =H12/G12 -> 0.37183133
B13: Ellátottak pénzbeli juttatásai
B14: Egyéb működési célú kiadások
B15: Beruházások | C15: 13000 | D15: 13000 | E15: 13000 | F15: =13000+2000 -> 15000 | G15: =13000+2000-4000 -> 11000 | H15: 3260 | I15: =H15/G15 -> 0.29636364
B16: Felújítások | C16: 36000 | D16: 36000 | E16: 36000 | F16: =36000+15500 -> 51500 | G16: =36000+15500+4000 -> 55500 | H16: 55369 | I16: =H16/G16 -> 0.99763964
B17: Egyéb felhalmozási célú kiadások
B18: Költségvetési kiadások | C18: =SUM(C10:C17) -> 68450 | D18: =SUM(D10:D17) -> 71403 | E18: =SUM(E10:E17) -> 71403 | F18: =SUM(F10:F17) -> 88903 | G18: =SUM(G10:G17) -> 88903 | H18: =SUM(H10:H17) -> 69741 | I18: =H18/G18 -> 0.78446172
A19: 3020 | B19: Általános közszolgáltatások | C19: =SUM(C29+C49) -> 3832608 | D19: =SUM(D29+D49) -> 4269039 | E19: =SUM(E29+E49) -> 4269039 | F19: =SUM(F29+F49) -> 4486343 | G19: =SUM(G29+G49) -> 4507658 | H19: =SUM(H29+H49) -> 4029893 | I19: =H19/G19 -> 0.89401037
A20: 3021 | B20: Polgármesteri Hivatal igazgatási kiadásai
B21: Személyi juttatások | C21: 2560391 | D21: =2560391+101600 -> 2661991 | E21: =2560391+101600 -> 2661991 | F21: =2560391+101600+210000 -> 2871991 | G21: =2560391+101600+210000+13600+988+17874 -> 2904453 | H21: =2780664+988+17874 -> 2799526 | I21: =H21/G21 -> 0.96387375
B22: Munkaadókat terhelő jár. és szociális hozzájár.adó | C22: 383879 | D22: =383879+30181 -> 414060 | E22: =383879+30181 -> 414060 | F22: =383879+30181+24804 -> 438864 | G22: =383879+30181+24804+11000+129+2324 -> 452317 | H22: =400732+129+2323 -> 403184 | I22: =H22/G22 -> 0.89137485
B23: Dologi kiadások és egyéb folyó kiadások | C23: 490000 | D23: =490000+81222+93479 -> 664701 | E23: =490000+81222+93479 -> 664701 | F23: =490000+81222+93479-48175 -> 616526 | G23: =490000+81222+93479-48175+24000 -> 640526 | H23: 505386 | I23: =H23/G23 -> 0.78901715
B24: Ellátottak pénzbeli juttatásai
B25: Egyéb működési célú kiadások
B26: Beruházások | C26: 150000 | D26: =150000+2026 -> 152026 | E26: =150000+2026 -> 152026 | F26: =150000+2026-2000 -> 150026 | G26: =150000+2026-2000-61700 -> 88326 | H26: 38424 | I26: =H26/G26 -> 0.43502479
B27: Felújítások | C27: 25000 | D27: 25000 | E27: 25000 | F27: =25000-15500 -> 9500 | G27: =25000-15500+13100 -> 22600 | H27: 9425 | I27: =H27/G27 -> 0.4170354
B28: Egyéb felhalmozási célú kiadások - Munkáltatói kölcsön | C28: 3000 | D28: =3000+1000 -> 4000 | E28: =3000+1000 -> 4000 | F28: =3000+1000 -> 4000 | G28: =3000+1000 -> 4000 | H28: 1000 | I28: =H28/G28 -> 0.25
B29: Költségvetési kiadások | C29: =SUM(C21:C28) -> 3612270 | D29: =SUM(D21:D28) -> 3921778 | E29: =SUM(E21:E28) -> 3921778 | F29: =SUM(F21:F28) -> 4090907 | G29: =SUM(G21:G28) -> 4112222 | H29: =SUM(H21:H28) -> 3756945 | I29: =H29/G29 -> 0.91360462
A30: 3027 | B30: EU-s és önkormányzati választás
B31: Személyi juttatások | G31: 885 | H31: 885 | I31: =H31/G31 -> 1
B32: Munkaadókat terhelő jár. és szociális hozzájár.adó | G32: 114 | H32: 114 | I32: =H32/G32 -> 1
B33: Dologi kiadások és egyéb folyó kiadások
B34: Ellátottak pénzbeli juttatásai
B35: Egyéb működési célú kiadások
B36: Beruházások
B37: Felújítások
B38: Egyéb felhalmozási célú kiadások
B39: Költségvetési kiadások | G39: =G31+G32 -> 999 | H39: =H31+H32 -> 999 | I39: =H39/G39 -> 1
A40: 3026 | B40: Informatikai működés és fejlesztés
B41: Személyi juttatások
...

Sheet 6.mell.
A1: 6. melléklet
A2: Az önkormányzat költségvetésében szereplő 2025. évi kiadások
J4: adatok eFt-ban
C5: 2025. évi előirányzat 5/2025. | D5: 2025. évi előirányzat 14/2025. | E5: 2025. évi előirányzat 18/2025. | F5: 2025. évi előirányzat 22/2025. | G5: 2025. évi előirányzat 1/2026. | H5: 2025. évi I-XII. havi teljesítés /2026. | I5: Index 8./7. | J5: Felhasználást és beszámolást koordináló
A6: Sorsz. | B6: Kiadás megnevezése | J6: bizottság
A8: 1. | B8: 2. | C8: 3. | D8: 4. | E8: 5. | F8: 6. | G8: 7. | H8: 8. | I8: 9. | J8: 10.
A9: 3050 | B9: Egyéb kommunális feladatok | C9: =SUM(C17+C27+C36+C45+C54) -> 240000 | D9: =SUM(D17+D27+D36+D45+D54) -> 403294 | E9: =SUM(E17+E27+E36+E45+E54) -> 403294 | F9: =SUM(F17+F27+F36+F45+F54) -> 396294 | G9: =SUM(G17+G27+G36+G45+G54) -> 396294 | H9: =SUM(H17+H27+H36+H45+H54) -> 142233 | I9: =H9/G9 -> 0.35890778
A10: 3054 | B10: Közterületi növényvédelem
B11: Személyi juttatások
B12: Munkaadókat terhelő jár. és szociális hozzájár.adó | J12: Városfejlesztési Bizottság
B13: Dologi kiadások és egyéb folyó kiadások | C13: 15000 | D13: =15000+4444 -> 19444 | E13: =19444 -> 19444 | F13: =19444 -> 19444 | G13: =19444 -> 19444 | H13: 3191 | I13: =H13/G13 -> 0.16411232 | J13: (beszámolás)
B14: Ellátottak pénzbeli juttatásai
B15: Egyéb működési célú kiadások
B16: Felhalmozási költségvetési kiadások
B17: Költségvetési kiadások | C17: =SUM(C13:C16) -> 15000 | D17: =SUM(D13:D16) -> 19444 | E17: =SUM(E13:E16) -> 19444 | F17: =SUM(F13:F16) -> 19444 | G17: =SUM(G13:G16) -> 19444 | H17: =SUM(H13:H16) -> 3191 | I17: =H17/G17 -> 0.16411232
A18: 3056 | B18: Közterületüzemeltetési egyéb feladatok
B19: Személyi juttatások | J19: Városfejlesztési Bizottság
B20: Munkaadókat terhelő jár. és szociális hozzájár.adó | J20: (beszámolás)
B21: Dologi kiadások és egyéb folyó kiadások | C21: 25000 | D21: =25000+3397 -> 28397 | E21: =28397-1800-5000 -> 21597 | F21: =28397-1800-5000-568 -> 21029 | G21: =28397-1800-5000-568-1850-2800 -> 16379 | H21: 8817 | I21: =H21/G21 -> 0.53831125
B22: Ellátottak pénzbeli juttatásai
B23: Egyéb működési célú kiadások | E23: =1800+5000 -> 6800 | F23: =1800+5000 -> 6800 | G23: =1800+5000 -> 6800 | H23: 1800 | I23: =H23/G23 -> 0.26470588
B24: Felújítási kiadások
B25: Beruházások | D25: 240 | E25: 240 | F25: 240 | G25: =240+2800 -> 3040 | H25: 0 | I25: =H25/G25 -> 0
B26: Felhalmozási költségvetési kiadások | F26: 568 | G26: 568 | H26: 556 | I26: =H26/G26 -> 0.97887324
B27: Költségvetési kiadások | C27: =SUM(C21:C25) -> 25000 | D27: =SUM(D21:D25) -> 28637 | E27: =SUM(E21:E25) -> 28637 | F27: =SUM(F21:F26) -> 28637 | G27: =SUM(G21:G26) -> 26787 | H27: =SUM(H21:H26) -> 11173 | I27: =H27/G27 -> 0.41710531
A28: 3057 | B28: Fasorfenntartás
B29: Személyi juttatások | J29: Városfejlesztési Bizottság
B30: Munkaadókat terhelő jár. és szociális hozzájár.adó | J30: (beszámolás)
B31: Dologi kiadások és egyéb folyó kiadások | C31: 140000 | D31: =140000+115335 -> 255335 | E31: =255335 -> 255335 | F31: =255335 -> 255335 | G31: =255335 -> 255335 | H31: 110773 | I31: =H31/G31 -> 0.43383398
B32: Ellátottak pénzbeli juttatásai
B33: Egyéb működési célú kiadások
B34: Felújítási kiadások
B35: Beruházások
B36: Költségvetési kiadások | C36: =SUM(C31:C35) -> 140000 | D36: =SUM(D31:D35) -> 255335 | E36: =SUM(E31:E35) -> 255335 | F36: =SUM(F31:F35) -> 255335 | G36: =SUM(G31:G35) -> 255335 | H36: =SUM(H31:H35) -> 110773 | I36: =H36/G36 -> 0.43383398
A37: 3058 | B37: Erdőgazdálkodás
B38: Személyi juttatások | J38: Városfejlesztési Bizottság
B39: Munkaadókat terhelő jár. és szociális hozzájár.adó | J39: (beszámolás)
B40: Dologi kiadások és egyéb folyó kiadások | C40: 10000 | D40: =10000+11939 -> 21939 | E40: =21939 -> 21939 | F40: =21939 -> 21939 | G40: =21939+1850 -> 23789 | H40: 11939 | I40: =H40/G40 -> 0.50187061
B41: Ellátottak pénzbeli juttatásai
B42: Egyéb működési célú kiadások
...

Sheet 7.mell.
A2: 7. melléklet
A3: Az önkormányzat költségvetésében szereplő támogatások 2025. évi kiadásai
J4: adatok eFt-ban
C5: 2025. évi előirányzat 5/2025. | D5: 2025. évi előirányzat 14/2025. | E5: 2025. évi előirányzat 18/2025. | F5: 2025. évi előirányzat 22/2025. | G5: 2025. évi előirányzat 1/2026. | H5: 2025. évi I-XII. havi teljesítés /2026. | I5: Index 8./7. | J5: Felhasználást és beszámolást koordináló
A6: Sorsz. | B6: Feladat megnevezése | J6: bizottság
A8: 1. | B8: 2. | C8: 3. | D8: 4. | E8: 5. | F8: 6. | G8: 7. | H8: 8. | I8: 9. | J8: 10.
B9: Egyéb általános szolgáltatások
A10: 3911 | B10: Társasházak támogatása | C10: 25000 | D10: =25000+979 -> 25979 | E10: =25979 -> 25979 | F10: =25979 -> 25979 | G10: =25979 -> 25979 | H10: 22802 | I10: =H10/G10 -> 0.87770892
A11: 3910 | B11: Összesen | C11: =SUM(C10:C10) -> 25000 | D11: =SUM(D10:D10) -> 25979 | E11: =SUM(E10:E10) -> 25979 | F11: =SUM(F10:F10) -> 25979 | G11: =SUM(G10:G10) -> 25979 | H11: =SUM(H10:H10) -> 22802 | I11: =H11/G11 -> 0.87770892
B12: Közrend és közbiztonság, közösségi szolgáltatások
A13: 3923 | B13: Polgárőr Egyesület támogatása | C13: 5000 | D13: 5000 | E13: 5000 | F13: 5000 | G13: 5000 | H13: 5000 | I13: =H13/G13 -> 1
A14: 3924 | B14: IX. kerületi Rendőrkapitányság támogatása | C14: 24000 | D14: 24000 | E14: 24000 | F14: 24000 | G14: 24000 | H14: 23250 | I14: =H14/G14 -> 0.96875
A15: 3925 | B15: FEV IX. Zrt. támogatása | C15: 204900 | D15: 204900 | E15: 204900 | F15: 204900 | G15: 204900 | H15: 204900 | I15: =H15/G15 -> 1 | J15: Városfejlesztési Biz.,Gazdasági Biz. (beszámolás)
A16: 3926 | B16: Tűzoltóság támogtása | C16: 2000 | D16: 2000 | E16: 2000 | F16: 2000 | G16: 2000 | H16: 0 | I16: =H16/G16 -> 0
A17: 3927 | B17: Faültetés támogatása | C17: 5000 | D17: =5000+5000 -> 10000 | E17: =10000 -> 10000 | F17: =10000+1500 -> 11500 | G17: =10000+1500 -> 11500 | H17: 11500 | I17: =H17/G17 -> 1 | J17: Városfejlesztési Bizottság (beszámolás)
A18: 3928 | B18: Társasház felújítási pályázat | C18: =SUM(C22+C19) -> 222000 | D18: =SUM(D22+D19) -> 418415 | E18: =SUM(E22+E19) -> 418415 | F18: =SUM(F22+F19) -> 418415 | G18: =SUM(G22+G19) -> 418415 | H18: =SUM(H22+H19) -> 191836 | I18: =H18/G18 -> 0.45848261 | J18: Városfejlesztési Bizottság
B19: ebből:társasházak lépcsőházi kamerák támogatása | C19: =SUM(C20:C21) -> 22000 | D19: =SUM(D20:D21) -> 28431 | E19: =SUM(E20:E21) -> 28431 | F19: =SUM(F20:F21) -> 28431 | G19: =SUM(G20:G21) -> 28431 | H19: =SUM(H20:H21) -> 10989 | I19: =H19/G19 -> 0.38651472
B20: Dologi kiadások | C20: 14000 | D20: =14000+1431 -> 15431 | E20: =15431 -> 15431 | F20: =15431 -> 15431 | G20: =15431 -> 15431 | H20: 6695 | I20: =H20/G20 -> 0.43386689
B21: Beruházási kiadások | C21: 8000 | D21: =8000+5000 -> 13000 | E21: =13000 -> 13000 | F21: =13000 -> 13000 | G21: =13000 -> 13000 | H21: 4294 | I21: =H21/G21 -> 0.33030769
B22: Egyéb felhalmozási célú kiadások | C22: 200000 | D22: =200000+189984 -> 389984 | E22: =389984 -> 389984 | F22: =389984 -> 389984 | G22: =389984 -> 389984 | H22: 180847 | I22: =H22/G22 -> 0.46372928
A23: 3920 | B23: Összesen | C23: =C13+C14+C15+C16+C17+C18 -> 462900 | D23: =D13+D14+D15+D16+D17+D18 -> 664315 | E23: =E13+E14+E15+E16+E17+E18 -> 664315 | F23: =F13+F14+F15+F16+F17+F18 -> 665815 | G23: =G13+G14+G15+G16+G17+G18 -> 665815 | H23: =H13+H14+H15+H16+H17+H18 -> 436486 | I23: =H23/G23 -> 0.65556649
B24: Oktatás
A25: 3931 | B25: Bursa Hungarica | C25: 2000 | D25: 2000 | E25: 2000 | F25: 2000 | G25: 2000 | H25: 250 | I25: =H25/G25 -> 0.125 | J25: Kulturális Bizottság (beszámolás)
A26: 3932 | B26: Deák Alapítvány | C26: 15000 | D26: 15000 | E26: 15000 | F26: 15000 | G26: 15000 | H26: 15000 | I26: =H26/G26 -> 1 | J26: Kulturális Bizottság (beszámolás)
A27: 3934 | B27: Tanoda támogatás | I27: =SUM(G27/G27) -> #DIV/0!
A28: 3935 | B28: GAPS Alapítvány
A29: 3930 | B29: Összesen | C29: =SUM(C25:C28) -> 17000 | D29: =SUM(D25:D28) -> 17000 | E29: =SUM(E25:E28) -> 17000 | F29: =SUM(F25:F28) -> 17000 | G29: =SUM(G25:G28) -> 17000 | H29: =SUM(H25:H28) -> 15250 | I29: =H29/G29 -> 0.89705882
B30: Egészszégügy, szociális védelem
A31: 3941 | B31: FESZOFE kiemelkedően közhasznú Non-profit Kft működési tám. | C31: =1134000-60000 -> 1074000 | D31: =1074000+30000 -> 1104000 | E31: =1104000 -> 1104000 | F31: =1104000+15000 -> 1119000 | G31: =1104000+15000 -> 1119000 | H31: 1119000 | I31: =H31/G31 -> 1 | J31: Városfejl. Biz., Szoc. és Eügyi Biz., Gazdasági Biz. (beszámolás)
A32: 3943 | B32: Akadálymentesítési támogatás | C32: 1000 | D32: 1000 | E32: =E33+E34+E35 -> 1000 | F32: =F33+F34+F35 -> 1000 | G32: =G33+G34+G35 -> 1000 | H32: =H33+H34+H35 -> 500 | I32: =H32/G32 -> 0.5 | J32: Szociális és egészségügyi Bizottság (beszámolás)
B33: Személyi juttatás | E33: 442 | F33: 442 | G33: 442 | H33: 442 | I33: =H33/G33 -> 1
B34: Munkaadókat terhelő járulékok | E34: 58 | F34: 58 | G34: 58 | H34: 58 | I34: =H34/G34 -> 1
B35: Egyéb felhalmozási célú kiadások | C35: 1000 | D35: 1000 | E35: =1000-500 -> 500 | F35: =1000-500 -> 500 | G35: =1000-500 -> 500 | H35: 0 | I35: =H35/G35 -> 0
A36: 3944 | B36: Orvosi rendelők energ. költs. Támogatása | I36: =SUM(G36/G36) -> #DIV/0!
A37: 3940 | B37: Összesen: | C37: =SUM(C31:C32)+C36 -> 1075000 | D37: =SUM(D31:D32)+D36 -> 1105000 | E37: =SUM(E31:E32)+E36 -> 1105000 | F37: =SUM(F31:F32)+F36 -> 1120000 | G37: =SUM(G31:G32)+G36 -> 1120000 | H37: =SUM(H31:H32)+H36 -> 1119500 | I37: =H37/G37 -> 0.99955357
B38: Szabadidő, sport, kultúra, vallás
A39: 3961 | B39: Zeneművészeti szervezetek támogatása | D39: 313826 | E39: 313826 | F39: 313826 | G39: 313826 | H39: 313826 | I39: =H39/G39 -> 1
A40: 3972 | B40: Kulturális tevékenység, egyházi és civil szerv.támog támogatása | C40: 45000 | D40: =D41+D42+D43 -> 45950 | E40: =E41+E42+E43 -> 45950 | F40: =F41+F42+F43 -> 49150 | G40: =G41+G42+G43 -> 49150 | H40: =H41+H42+H43 -> 45688 | I40: =H40/G40 -> 0.92956256 | J40: Kulturális Bizottság, Szociális és Egészségügyi Bizottság
B41: Dologi kiadások
B42: Egyéb működési célú kiadások | D42: =45000+950 -> 45950 | E42: =45000+950 -> 45950 | F42: =45000+950-250+3200 -> 48900 | G42: =45000+950-250+3200 -> 48900 | H42: 45438 | I42: =H42/G42 -> 0.92920245
...

Sheet 8.mell.
A1: 8. melléklet
A2: 2025. évi felújítások (felújítási kiadások, egyéb felhalmozási célú kiadások és egyéb felújítási munkákhoz kapcsolódó kiadások)
J3: adatok eFt-ban
C4: 2025. évi előirányzat 5/2025. | D4: 2025. évi előirányzat 14/2025. | E4: 2025. évi előirányzat 18/2025. | F4: 2025. évi előirányzat 22/2025. | G4: 2025. évi előirányzat 1/2026. | H4: 2025. évi I-XII. havi teljesítés /2026. | I4: Index 8./7. | J4: Felhasználást és beszámolást koordináló
A5: Sorsz. | B5: Feladat megnevezése | J5: bizottság
A7: 1. | B7: 2. | C7: 3. | D7: 4. | E7: 5. | F7: 6. | G7: 7. | H7: 8. | I7: 9. | J7: 10.
B8: I. Önkormányzati felújítások
B9: Egyéb kommunális feladatok
A10: 4010 | B10: Ifjúmunkás utca 28-30 Sportpályák felújítása
A11: 4012 | B11: Haller park felújítás | C11: 196947 | D11: 196947 | E11: =196947+40000 -> 236947 | F11: =196947+40000 -> 236947 | G11: =196947+40000 -> 236947 | H11: 6947 | I11: =H11/G11 -> 0.029318793 | J11: Városfejlesztési Bizottság (beszámolás)
A12: 4013 | B12: Valéria tér felújítása | D12: =D13 -> 224 | E12: =E13 -> 224 | F12: =F13 -> 224 | G12: =G13 -> 224 | H12: =H13 -> 0 | I12: =H12/G12 -> 0
B13: Dologi kiadások | D13: 224 | E13: 224 | F13: 224 | G13: 224 | H13: 0 | I13: =H13/G13 -> 0
A14: 4014 | B14: Játszóterek, műfüves és sportpályák, fitness eszközök, zöldf. felúj., | C14: 155189 | D14: =155189+90000 -> 245189 | E14: =245189 -> 245189 | F14: =245189 -> 245189 | G14: =245189 -> 245189 | H14: 63195 | I14: =H14/G14 -> 0.25773995 | J14: Városfejlesztési Bizottság, József A. Városrészi Önk.
A15: 4015 | B15: Ifjúmunkás u. útburkolat felújítása | C15: 52654 | D15: 52654 | E15: 52654 | F15: 52654 | G15: 52654 | H15: 51026 | I15: =H15/G15 -> 0.96908117
A16: 4016 | B16: Thaly passzázs közvilágítás | C16: 10000 | D16: =10000+1079 -> 11079 | E16: =E17+E18 -> 11079 | F16: =F17+F18 -> 11079 | G16: =G17+G18 -> 11079 | H16: =H17+H18 -> 1080 | I16: =H16/G16 -> 0.097481722
B17: Beruházások | D17: 1079 | E17: 1079 | F17: 1079 | G17: 1079 | H17: 1080 | I17: =H17/G17 -> 1.0009268
B18: Felújítások | D18: 10000 | E18: 10000 | F18: 10000 | G18: 10000 | H18: 0 | I18: =H18/G18 -> 0
A19: 4018 | B19: Utak felújítása, javítása | C19: =150000+134920 -> 284920 | D19: =150000+134920 -> 284920 | E19: =284920 -> 284920 | F19: =284920 -> 284920 | G19: =284920 -> 284920 | H19: 134592 | I19: =H19/G19 -> 0.47238523
A20: 4019 | B20: Járdák felújítása | C20: =60000+25151 -> 85151 | D20: =60000+25151 -> 85151 | E20: =85151 -> 85151 | F20: =85151 -> 85151 | G20: =85151 -> 85151 | H20: 25151 | I20: =H20/G20 -> 0.2953694
A21: 4020 | B21: "Törd a betont"
A22: 4021 | B22: Egyéb közterületek felújítása, fejlesztése | C22: 89131 | D22: =D24+D25 -> 103852 | E22: =E23+E24+E25 -> 103852 | F22: =F23+F24+F25 -> 103852 | G22: =G23+G24+G25 -> 103852 | H22: =H23+H24+H25 -> 67986 | I22: =H22/G22 -> 0.65464315
B23: Dologi kiadások | E23: 2301 | F23: 2301 | G23: =2301+1 -> 2302 | H23: 2302 | I23: =H23/G23 -> 1
B24: Beruházások | D24: =1+16000 -> 16001 | E24: =16001+25300 -> 41301 | F24: =16001+25300 -> 41301 | G24: =16001+25300+6200 -> 47501 | H24: 42719 | I24: =H24/G24 -> 0.89932844
B25: Felújítások | D25: =89131+14720-16000 -> 87851 | E25: =87851-27601 -> 60250 | F25: =87851-27601 -> 60250 | G25: =87851-27601-6201 -> 54049 | H25: 22965 | I25: =H25/G25 -> 0.42489223
A26: 4022 | B26: Kutyafuttatók felújítása | C26: =30000+30000 -> 60000 | D26: =30000+30000 -> 60000 | E26: =E27+E28+E29 -> 60000 | F26: =F27+F28+F29 -> 60000 | G26: =G27+G28+G29 -> 60000 | H26: =H27+H28+H29 -> 3115 | I26: =H26/G26 -> 0.051916667
B27: Dologi kiadások | E27: 1005 | F27: 1005 | G27: 1005 | H27: 0 | I27: =H27/G27 -> 0
B28: Beruházások | E28: 1435 | F28: 1435 | G28: 1435 | H28: 1435 | I28: =H28/G28 -> 1
B29: Felújítások | E29: =60000-2440 -> 57560 | F29: =60000-2440 -> 57560 | G29: =60000-2440 -> 57560 | H29: 1680 | I29: =H29/G29 -> 0.029186935
A30: 4010 | B30: Egyéb kommunális feladatok összesen | C30: =SUM(C11:C26) -> 933992 | D30: =D11+D12+D14+D15+D16+D19+D20+D22+D26 -> 1040016 | E30: =E11+E12+E14+E15+E16+E19+E20+E22+E26 -> 1080016 | F30: =F11+F12+F14+F15+F16+F19+F20+F22+F26 -> 1080016 | G30: =G11+G12+G14+G15+G16+G19+G20+G22+G26 -> 1080016 | H30: =H11+H12+H14+H15+H16+H19+H20+H22+H26 -> 353092 | I30: =H30/G30 -> 0.32693219
B31: Önkormányzati vagyonnal való gazdálkodás - Ingatlanügyek
A32: 4111 | B32: Soroksári út 84- Koppány utca 3. Épületbontás
A33: 4114 | B33: Önkormányzati lakóházak tetőfelújítás | C33: 72000 | D33: =72000+72000 -> 144000 | E33: =144000 -> 144000 | F33: =144000 -> 144000 | G33: =144000 -> 144000 | H33: 0 | I33: =H33/G33 -> 0
A34: 4121 | B34: Felújításokkal kapcsolatos tervezések , MÁV csatorna tervezés | C34: =64438+110000 -> 174438 | D34: =D36+D37 -> 184438 | E34: =E36+E37+E35 -> 175408 | F34: =F36+F37+F35 -> 179263 | G34: =G36+G37+G35 -> 179263 | H34: =H36+H37+H35 -> 20793 | I34: =H34/G34 -> 0.11599159 | J34: Városfejlesztési Biz, József A. Városr. Önk. (beszámolás)
B35: Dologi kiadások | E35: 14713 | F35: =14713+16200 -> 30913 | G35: =14713+16200+10300 -> 41213 | H35: 11297 | I35: =H35/G35 -> 0.27411254
B36: Beruházások | D36: 6000 | E36: =6000+10100 -> 16100 | F36: =6000+10100 -> 16100 | G36: =6000+10100 -> 16100 | H36: 5845 | I36: =H36/G36 -> 0.36304348
B37: Felújítások | D37: =168438+10000 -> 178438 | E37: =178438-16885-6858-10100 -> 144595 | F37: =178438-16885-6858-10100-16200+3855 -> 132250 | G37: =178438-16885-6858-10100-16200+3855-10300 -> 121950 | H37: 3651 | I37: =H37/G37 -> 0.029938499
A38: 4124 | B38: Önkormányzati lakások komfortosítása | D38: 5214 | E38: 5214 | F38: 5214 | G38: 5214 | H38: 0 | I38: =H38/G38 -> 0
A39: 4125 | B39: Gát u. 24.-26. sz. ingatlan felújítás
A40: 4126 | B40: Önkormányzati lakások komfortosítása, lakások és helyiségek felújítása | C40: 130901 | D40: =D41+D43 -> 230901 | E40: =E41+E43 -> 230901 | F40: =F41+F43 -> 230901 | G40: =G41+G43+G42 -> 226646 | H40: =H41+H43+H42 -> 140721 | I40: =H40/G40 -> 0.62088455
B41: Dologi kiadások | D41: 3100 | E41: =3100+876+5000 -> 8976 | F41: =3100+876+5000 -> 8976 | G41: =3100+876+5000 -> 8976 | H41: 4905 | I41: =H41/G41 -> 0.54645722
...

Sheet 9.mell 
A1: 9. melléklet
A2: 2025. évi beruházási, fejlesztési kiadások
J4: adatok eFt-ban
C5: 2025. évi előirányzat 5/2025. | D5: 2025. évi előirányzat 14/2025. | E5: 2025. évi előirányzat 18/2025. | F5: 2025. évi előirányzat 22/2025. | G5: 2025. évi előirányzat 1/2026. | H5: 2025. évi I-XII. havi teljesítés /2026. | I5: Index 8./7. | J5: Felhasználást és beszámolást koordináló
A6: Sorsz. | B6: Feladat megnevezése | J6: bizottság
A8: 1. | B8: 2. | C8: 3. | D8: 4. | E8: 5. | F8: 6. | G8: 7. | H8: 8. | I8: 9. | J8: 10.
B9: I. Önkormányzati beruházások összesen
B10: Egyéb kommunális feladatok
A11: 5002 | B11: Ifjúmunkás utca 32. Fitnesz park | C11: 45507 | D11: 45507 | E11: 45507 | F11: 45507 | G11: 45507 | H11: 0 | I11: =H11/G11 -> 0
A12: 5003 | B12: MÁV lakótelep parkoló
A13: 5004 | B13: MÁV csatornázás | C13: 50000 | D13: 50000 | E13: 50000 | F13: 50000 | G13: 50000 | H13: 0 | I13: =H13/G13 -> 0
A14: 5005 | B14: Közlekedésbiztonsági fejlesztés | C14: 30000 | D14: =30000+30000 -> 60000 | E14: =E15+E16 -> 60000 | F14: =F15+F16 -> 60000 | G14: =G15+G16 -> 60000 | H14: =H15+H16 -> 25466 | I14: =H14/G14 -> 0.42443333
B15: Dologi kiadások | E15: 312 | F15: 312 | G15: 312 | H15: 311 | I15: =H15/G15 -> 0.99679487
B16: Beruházások | E16: =60000-312 -> 59688 | F16: =60000-312 -> 59688 | G16: =60000-312 -> 59688 | H16: 25155 | I16: =H16/G16 -> 0.4214415
A17: 5006 | B17: Napfény u. - Gyáli sarok fásítás
A18: 5008 | B18: Tinódi parkba illemhelyiség | C18: 35560 | D18: 35560 | E18: 35560 | F18: 35560 | G18: 35560 | H18: 35560 | I18: =H18/G18 -> 1
A19: 5009 | B19: Boráros téri lift tervezése
A20: 5010 | B20: Elektromos rásegítésű teherszállító kerékpár | I20: =H20/G20 -> #DIV/0!
A21: 5010 | B21: Szoborpark | C21: 20000 | D21: 20000 | E21: 20000 | F21: 20000 | G21: 20000 | H21: 1841 | I21: =H21/G21 -> 0.09205
A22: 5011 | B22: Haller parkba illemhelyiség építése
A23: 5012 | B23: Belső-Ferencváros akadálymentesítés | C23: 181284 | D23: 181284 | E23: 181284 | F23: 181284 | G23: 181284 | H23: =H24+H25 -> 17717 | I23: =H23/G23 -> 0.097730633
B24: Beruházások | F24: =-27000+181284 -> 154284 | G24: =-27000+181284 -> 154284 | H24: 17717 | I24: =H24/G24 -> 0.11483368
B25: Egyéb felhalmozási célú kiadások | F25: 27000 | G25: 27000 | H25: 0
A26: 5013 | B26: Zöldfelületi kataszter, fakataszter elkészítése | C26: 14000 | D26: =D27+D28 -> 14176 | E26: =E27+E28 -> 14176 | F26: =F27+F28 -> 14176 | G26: =G27+G28 -> 14176 | H26: =H27+H28 -> 1963 | I26: =H26/G26 -> 0.13847348 | J26: Városfejlesztési Biz., József A. Városrészi Önk. (beszámolás)
B27: Dologi kiadások | D27: =176+2324 -> 2500 | E27: =2500+2508 -> 5008 | F27: =2500+2508 -> 5008 | G27: =2500+2508 -> 5008 | H27: 1963 | I27: =H27/G27 -> 0.39197284
B28: Beruházások | D28: =14000-2324 -> 11676 | E28: =11676-2508 -> 9168 | F28: =11676-2508 -> 9168 | G28: =11676-2508 -> 9168 | H28: 0 | I28: =H28/G28 -> 0
A29: 5014 | B29: Faültetés | C29: 35000 | D29: =35000+20000 -> 55000 | E29: =55000 -> 55000 | F29: =55000 -> 55000 | G29: =55000 -> 55000 | H29: 18487 | I29: =H29/G29 -> 0.33612727 | J29: Városfejlesztési Biz., József A. Városrészi Önk. (beszámolás)
A30: 5015 | B30: Kerékpáros infr. tervezés, kiépítés, fejlesztés, okosbicikli tárolók | C30: 15000 | D30: =D31+D32 -> 16925 | E30: =E31+E32 -> 16925 | F30: =F31+F32 -> 16925 | G30: =G31+G32 -> 16925 | H30: =H31+H32 -> 2562 | I30: =H30/G30 -> 0.15137371 | J30: Városfejlesztési Biz., József A. Városrészi Önk. (beszámolás)
B31: Dologi kiadások | D31: 4000 | E31: 4000 | F31: 4000 | G31: 4000 | H31: 637 | I31: =H31/G31 -> 0.15925
B32: Beruházások | D32: =12925 -> 12925 | E32: =12925 -> 12925 | F32: =12925 -> 12925 | G32: =12925 -> 12925 | H32: 1925 | I32: =H32/G32 -> 0.14893617
A33: 5016 | B33: Közterületi takarítógépek beszerzése | D33: 60000 | E33: 60000 | F33: 60000 | G33: 60000 | H33: 0 | I33: =H33/G33 -> 0 | J33: Városfejlesztési Bizottság
A34: 5018 | B34: Boráros téri lámpás zebra
A35: 5019 | B35: Pöttyös utcai metró felszíni rendezés | C35: 113958 | D35: =D36+D37 -> 113958 | E35: =E36+E37 -> 113958 | F35: =F36+F37 -> 113958 | G35: =G36+G37 -> 113958 | H35: =H36+H37 -> 113344 | I35: =H35/G35 -> 0.99461205
B36: Dologi kiadások | D36: 300 | E36: 300 | F36: 300 | G36: 300 | H36: 286 | I36: =H36/G36 -> 0.95333333
B37: Beruházások | D37: 113658 | E37: 113658 | F37: 113658 | G37: 113658 | H37: 113058 | I37: =H37/G37 -> 0.99472101
A38: 5010 | B38: Összesen: | C38: =SUM(C11:C35) -> 540309 | D38: =D11+D13+D14+D18+D21+D23+D26+D29+D30+D33+D35 -> 652410 | E38: =E11+E13+E14+E18+E21+E23+E26+E29+E30+E33+E35 -> 652410 | F38: =F11+F13+F14+F18+F21+F23+F26+F29+F30+F33+F35 -> 652410 | G38: =G11+G13+G14+G18+G21+G23+G26+G29+G30+G33+G35 -> 652410 | H38: =H11+H13+H14+H18+H21+H23+H26+H29+H30+H33+H35 -> 216940 | I38: =H38/G38 -> 0.33252096
