Workbook
Name adósság: 0
Name beruh: #REF!
Name beruh: #REF!
Name beruh: #REF!
Name beruh: #REF!
Name beruh: #REF!
Name beruh: #REF!
Name beruh: #REF!
Name beruh: #REF!
Name beruh: #REF!
Name beruh: #REF!
Name beruházás: #REF!
Name beruházás: #REF!
Name beruházás: #REF!
Name beruházás: #REF!
Name beruházás: #REF!
Name beruházás: #REF!
Name beruházás: #REF!
Name beruházás: #REF!
Name beruházás: #REF!
Name beruházás: #REF!
Name cs8_sz_melleklet_Dim01: "="
Name cs8_sz_melleklet_Dim02: "="
Name cs8_sz_melleklet_Dim03: "="
Name cs8_sz_melleklet_Dim04: "="
Name cs8_sz_melleklet_Dim05: "="
Name cs8_sz_melleklet_Dim06: "="
Name cs8_sz_melleklet_Dim07: "="
Name cs8_sz_melleklet_Dim08: "="
Name cs8_sz_melleklet_Dim09: "="
Name cs8_sz_melleklet_Dim10: "="
Name cs8_sz_melleklet_Dim11: "="
Name cs8_sz_melleklet_Dim12: "="
Name cs8_sz_mellekletAnchor: #REF!
Name cs9_sz_melleklet_Dim01: "="
Name cs9_sz_melleklet_Dim02: "="
Name cs9_sz_melleklet_Dim03: "="
Name cs9_sz_melleklet_Dim04: "="
Name cs9_sz_melleklet_Dim05: "="
Name cs9_sz_melleklet_Dim06: "="
Name cs9_sz_melleklet_Dim07: "="
Name cs9_sz_melleklet_Dim08: "="
Name cs9_sz_melleklet_Dim09: "="
Name cs9_sz_melleklet_Dim10: "="
Name cs9_sz_melleklet_Dim11: "="
Name cs9_sz_melleklet_Dim12: "="
Name cs9_sz_mellekletAnchor: #REF!
Name csAlapy_rendeleti_tabla_excel_Dim01: "="
Name csAlapy_rendeleti_tabla_excel_Dim02: "="
Name csAlapy_rendeleti_tabla_excel_Dim03: "="
Name csAlapy_rendeleti_tabla_excel_Dim04: "="
Name csAlapy_rendeleti_tabla_excel_Dim05: "="
Name csAlapy_rendeleti_tabla_excel_Dim06: "="
Name csAlapy_rendeleti_tabla_excel_Dim07: "="
Name csAlapy_rendeleti_tabla_excel_Dim08: "="
Name csAlapy_rendeleti_tabla_excel_Dim09: "="
Name csAlapy_rendeleti_tabla_excel_Dim10: "="
Name csAlapy_rendeleti_tabla_excel_Dim11: "="
Name csAlapy_rendeleti_tabla_excel_Dim12: "="
Name csAllowDetailBudgeting: 1

Sheet 1. mell 1. pont
A1: 1. melléklet 1. pont
A2: Működési-felhalmozási bevételek-kiadások mérlegszerű bemutatása
H4: (eFt-ban)
A5: Bevétel | B5: 2026. évi előirányzat 2/2026. | C5: 2026. évi előirányzat 5/2026. | D5: 2026. évi előirányzat …/2026. | E5: Kiadások | F5: 2026. évi előirányzat 2/2026. | G5: 2026. évi előirányzat 5/2026. | H5: 2026. évi előirányzat …/2026.
E7: Személyi juttatások | F7: ='1. mell 3. pont '!C136 -> 12115657 | G7: ='1. mell 3. pont '!D136 -> 12194262 | H7: ='1. mell 3. pont '!E136 -> 12571108
A8: Önkormányzatok működési támogatásai | B8: ='1. mell 2 pont '!C245 -> 4286488 | C8: ='1. mell 2 pont '!D245 -> 4286488 | D8: ='1. mell 2 pont '!E245 -> 5111886 | E8: Munkaadókat terh. járulékok és szociális hozzájárulási adó | F8: ='1. mell 3. pont '!C137 -> 1646072 | G8: ='1. mell 3. pont '!D137 -> 1651772 | H8: ='1. mell 3. pont '!E137 -> 1769363
A9: Elvonások és befizetések bevételei | B9: ='1. mell 2 pont '!C246 -> 0 | C9: ='1. mell 2 pont '!D246 -> 0 | D9: ='1. mell 2 pont '!E246 -> 3281 | E9: Dologi kiadások | F9: ='1. mell 3. pont '!C138 -> 9869279 | G9: ='1. mell 3. pont '!D138 -> 9786370 | H9: ='1. mell 3. pont '!E138 -> 11088881
A10: Egyéb működési célú tám.bev. Áh-n belülről | B10: ='1. mell 2 pont '!C248 -> 2543412 | C10: ='1. mell 2 pont '!D248 -> 2543412 | D10: ='1. mell 2 pont '!E248 -> 2789893 | E10: Ellátottak pénzbeli juttatásai | F10: ='1. mell 3. pont '!C139 -> 244845 | G10: ='1. mell 3. pont '!D139 -> 244845 | H10: ='1. mell 3. pont '!E139 -> 251964
A11: "Egészséges Budapest Program" Integr. Alapell. Járób. szakell. Központ megv. | B11: 0 | C11: 0 | D11: 0
A12: Egyéb műk. célú támog.bevételei Áh-n belülről - EU-s pály. KEHOP-1.2.1-18-2018-00006 | B12: 0 | C12: 0 | D12: 0 | E12: Egyéb működési célú kiadások | F12: ='1. mell 3. pont '!C140 -> 5700041 | G12: ='1. mell 3. pont '!D140 -> 5700041 | H12: ='1. mell 3. pont '!E140 -> 5536491
A13: Egyéb műk. célú támog.bevételei Áh-n belülről - VEKOP-7 3 4-17-2017-00011 | B13: 0 | C13: 0 | D13: 0 | E13: ebből: Általános tartalék | F13: ='1. mell 3. pont '!C82 -> 350000 | G13: ='1. mell 3. pont '!D82 -> 350000 | H13: ='1. mell 3. pont '!E82 -> 431868
E14: Működési céltartalék 6. sz. melléklet szerint | F14: ='1. mell 3. pont '!C83 -> 609413 | G14: ='1. mell 3. pont '!D83 -> 609413 | H14: ='1. mell 3. pont '!E83 -> 0
A15: Működési célú támogatások Államháztartáson belülről összesen | B15: =SUM(B8:B14) -> 6829900 | C15: =SUM(C8:C14) -> 6829900 | D15: =SUM(D8:D14) -> 7905060
A16: Vagyoni típusú adók (Helyi adó) | B16: ='1. mell 2 pont '!C254 -> 7550000 | C16: ='1. mell 2 pont '!D254 -> 7550000 | D16: ='1. mell 2 pont '!E254 -> 7550000
A17: Termékek és szolgáltatások adói | B17: ='1. mell 2 pont '!C255 -> 10643750 | C17: ='1. mell 2 pont '!D255 -> 10643750 | D17: ='1. mell 2 pont '!E255 -> 10643750
A18: Egyéb közhatalmi bevételek | B18: ='1. mell 2 pont '!C256 -> 1178433 | C18: ='1. mell 2 pont '!D256 -> 1178433 | D18: ='1. mell 2 pont '!E256 -> 1178433
A19: Közhatalmi bevételek összesen | B19: =SUM(B16:B18) -> 19372183 | C19: =SUM(C16:C18) -> 19372183 | D19: =SUM(D16:D18) -> 19372183
A20: Készletértékesítés ellenértéke | B20: ='1. mell 2 pont '!C260 -> 200 | C20: ='1. mell 2 pont '!D260 -> 200 | D20: ='1. mell 2 pont '!E260 -> 200
A21: Szolgáltatások ellenértéke | B21: ='1. mell 2 pont '!C261 -> 2828612 | C21: ='1. mell 2 pont '!D261 -> 2831683 | D21: ='1. mell 2 pont '!E261 -> 2828083
A22: Közvetített szolgáltatások ellenértéke | B22: ='1. mell 2 pont '!C262 -> 249324 | C22: ='1. mell 2 pont '!D262 -> 247852 | D22: ='1. mell 2 pont '!E262 -> 247852
A23: Tulajdonosi bevétel | B23: ='1. mell 2 pont '!C263 -> 0 | C23: ='1. mell 2 pont '!D263 -> 0 | D23: ='1. mell 2 pont '!E263 -> 0
A24: Ellátási díjak | B24: ='1. mell 2 pont '!C264 -> 288465 | C24: ='1. mell 2 pont '!D264 -> 288465 | D24: ='1. mell 2 pont '!E264 -> 292065
A25: Kiszámlázott általános forgalmi adó | B25: ='1. mell 2 pont '!C265 -> 881172 | C25: ='1. mell 2 pont '!D265 -> 881604 | D25: ='1. mell 2 pont '!E265 -> 881604
A26: Általános forgalmi adó visszatérítése | B26: ='1. mell 2 pont '!C266 -> 73000 | C26: ='1. mell 2 pont '!D266 -> 73000 | D26: ='1. mell 2 pont '!E266 -> 73000
A27: Kamatbevételek és más nyereségjellegű bevételek | B27: ='1. mell 2 pont '!C267 -> 150000 | C27: ='1. mell 2 pont '!D267 -> 150000 | D27: ='1. mell 2 pont '!E267 -> 150000
A28: Részesedések értékesítéséhez kapcsolódó realizált nyereség | B28: ='1. mell 2 pont '!C268 -> 0 | C28: ='1. mell 2 pont '!D268 -> 0 | D28: ='1. mell 2 pont '!E268 -> 0
A29: Biztosító által fizetett kártérítés | B29: 0 | C29: 0 | D29: 0
A30: Egyéb működési bevételek | B30: ='1. mell 2 pont '!C269 -> 68956 | C30: ='1. mell 2 pont '!D269 -> 68956 | D30: ='1. mell 2 pont '!E269 -> 68956
A31: Működési bevételek összesen | B31: =SUM(B20:B30) -> 4539729 | C31: =SUM(C20:C30) -> 4541760 | D31: =SUM(D20:D30) -> 4541760
A32: Egyéb működési célú átvett pénzeszköz | B32: ='1. mell 2 pont '!C273 -> 13775 | C32: ='1. mell 2 pont '!D273 -> 13775 | D32: ='1. mell 2 pont '!E273 -> 13775
A33: Működési célú átvett pénzeszközök összesen | B33: =SUM(B32) -> 13775 | C33: =SUM(C32) -> 13775 | D33: =SUM(D32) -> 13775
A34: Működési költségvetési bevételek mindösszesen | B34: =SUM(B33,B31,B19,B15) -> 30755587 | C34: =SUM(C33,C31,C19,C15) -> 30757618 | D34: =SUM(D33,D31,D19,D15) -> 31832778 | E34: Működési költségvetési kiadások mindösszesen | F34: =SUM(F7:F12) -> 29575894 | G34: =SUM(G7:G12) -> 29577290 | H34: =SUM(H7:H12) -> 31217807
A35: Felhalmozási célú önkormányzati támogatások | B35: ='1. mell 2 pont '!C285 -> 963158 | C35: ='1. mell 2 pont '!D285 -> 1713158 | D35: =SUM('1. mell 2 pont '!E279) -> 1500000
A36: "Egészséges Budapest Program" Integrélt Alapell. Járób. szakell. Közp. megv. | B36: 0 | C36: 0 | D36: 0
A37: Ferencvárosi lakótömb rehabilitációjának I. üteme | B37: 0 | C37: 0 | D37: 0 | E37: Beruházások | F37: ='1. mell 3. pont '!C143 -> 4206463 | G37: ='1. mell 3. pont '!D143 -> 4207098 | H37: ='1. mell 3. pont '!E143 -> 4488054.9
A38: Egyéb felhalmozási célú támog.bevételei ÁH-n belülről - Fővárosi Önkormányzattól | B38: 0 | C38: 0 | D38: 0 | E38: Felújítások | F38: ='1. mell 3. pont '!C144 -> 9243387 | G38: ='1. mell 3. pont '!D144 -> 9243387 | H38: ='1. mell 3. pont '!E144 -> 9910638.1
A39: Egyéb felhalmozási célú támog.bevételei ÁH-n belülről | B39: 0 | C39: 0 | D39: =SUM('1. mell 2 pont '!E282,'1. mell 2 pont '!E283) -> 213458 | E39: Egyéb felhalmozási célú kiadások | F39: ='1. mell 3. pont '!C145 -> 1538541 | G39: ='1. mell 3. pont '!D145 -> 2288541 | H39: ='1. mell 3. pont '!E145 -> 2498422
A40: Felhalmozási célú támogatások Államháztartáson belülről összesen | B40: =SUM(B35:B39) -> 963158 | C40: =SUM(C35:C39) -> 1713158 | D40: =SUM(D35:D39) -> 1713458 | E40: Felhalmozási célú céltartalék 6. sz. melléklet szerint | H40: =SUM('1. mell 3. pont '!E146) -> 609413
A41: Ingatlanok értékesítése | B41: ='1. mell 2 pont '!C287 -> 950000 | C41: ='1. mell 2 pont '!D287 -> 950000 | D41: ='1. mell 2 pont '!E287 -> 950000
A42: Egyéb tárgyi eszköz értékesítése
A43: Részesedések értékesítése, részesedések megszűnéséhez kapcsolódó bevételek
A44: Felhalmozási bevételek összesen | B44: =SUM(B41:B43) -> 950000 | C44: =SUM(C41:C43) -> 950000 | D44: =SUM(D41:D43) -> 950000
A45: Felhalmozási célú visszatérítendő tám. kölcsönök visszatérülései államháztartáson kívülről | B45: ='1. mell 2 pont '!C292 -> 17000 | C45: ='1. mell 2 pont '!D292 -> 17000 | D45: ='1. mell 2 pont '!E292 -> 17000
A46: Egyéb felhalmozási célú átvett pénzeszközök
A47: Felhalmozási célú átvett pénzeszközök összesen | B47: =SUM(B45:B46) -> 17000 | C47: =SUM(C45:C46) -> 17000 | D47: =SUM(D45:D46) -> 17000
A48: Felhalmozási költségvetési bevételek mindösszesen | B48: =SUM(B47,B44,B40) -> 1930158 | C48: =SUM(C47,C44,C40) -> 2680158 | D48: =SUM(D47,D44,D40) -> 2680458 | E48: Felhalmozási költségvetési kiadások mindösszesen | F48: =SUM(F35:F47) -> 14988391 | G48: =SUM(G35:G47) -> 15739026 | H48: =SUM(H35:H46) -> 17506528
A49: Előző év költségvetési maradványának igénybevétele | B49: ='1. mell 2 pont '!C300 -> 550000 | C49: ='1. mell 2 pont '!D300 -> 550000 | D49: ='1. mell 2 pont '!E300 -> 2225936 | E49: Államháztartáson belüli megelőlegezések tárgyéven belül | F49: 0 | G49: 0 | H49: 0
A50: Államháztartáson belüli megelőlegezések | B50: ='1. mell 2 pont '!C302 -> 0 | C50: ='1. mell 2 pont '!D302 -> 0 | D50: ='1. mell 2 pont '!E302 -> 0 | E50: Államháztartáson belüli megelőlegezések visszafizetése | F50: ='1. mell 3. pont '!C150 -> 171460 | G50: ='1. mell 3. pont '!D150 -> 171460 | H50: ='1. mell 3. pont '!E150 -> 171460
A51: Irányító szervi támogatás | B51: ='1. mell 2 pont '!C301 -> 15574501 | C51: ='1. mell 2 pont '!D301 -> 15741601 | D51: ='1. mell 2 pont '!E301 -> 16732773 | E51: Irányító szervi támogatások folyósítása | F51: ='1. mell 3. pont '!C149 -> 15574501 | G51: ='1. mell 3. pont '!D149 -> 15741601 | H51: ='1. mell 3. pont '!E149 -> 16732773
A52: Belföldi értékpapírok bevételei (államkötvény névértéke) | B52: ='1. mell 2 pont '!C303 -> 11500000 | C52: ='1. mell 2 pont '!D303 -> 11500000 | D52: ='1. mell 2 pont '!E303 -> 11500000 | E52: Lekötött betétek
A53: Vállalkozási maradvány | B53: ='1. mell 2 pont '!C304 -> 0 | C53: ='1. mell 2 pont '!D304 -> 0 | D53: ='1. mell 2 pont '!E304 -> 1862 | E53: Államkötvény vásárlás
A54: Lekötött betétek
A55: Működési finanszírozási bevételek | B55: =SUM(B49:B54) -> 27624501 | C55: =SUM(C49:C54) -> 27791601 | D55: =SUM(D49:D54) -> 30460571 | E55: Működési finanszírozási kiadások | F55: =SUM(F49:F52) -> 15745961 | G55: =SUM(G49:G52) -> 15913061 | H55: =SUM(H49:H52) -> 16904233
A56: Előző év költségvetési maradványának igénybevétele | B56: ='1. mell 2 pont '!C308 -> 0 | C56: ='1. mell 2 pont '!D308 -> 0 | D56: ='1. mell 2 pont '!E308 -> 654761 | E56: Hitel-, kölcsöntörlesztés államháztartáson kívülre | F56: 0 | G56: 0 | H56: 0
A57: Felhalmozási finanszírozási bevételek összesen | B57: =SUM(B56:B56) -> 0 | C57: =SUM(C56:C56) -> 0 | D57: =SUM(D56:D56) -> 654761 | E57: Felhalmozási finanszírozási kiadások mindösszesen | F57: =SUM(F56:F56) -> 0 | G57: =SUM(G56:G56) -> 0 | H57: =SUM(H56:H56) -> 0
A59: BEVÉTELEK MINDÖSSZ.:(Irányítószervi támogatás, lekötött betét nélkül) | B59: =SUM(B34+B48+B56+B49+B52+B54+B50+B53) -> 44735745 | C59: =SUM(C34+C48+C56+C49+C52+C54+C50+C53) -> 45487776 | D59: =SUM(D34+D48+D56+D49+D52+D54+D50+D53) -> 48895795 | E59: KIADÁSOK MINDÖSSZ.:(Irányítószervi tám., lekötött bet. nélkül) | F59: =SUM(F34+F48+F56+F50+F52)+F49 -> 44735745 | G59: =SUM(G34+G48+G56+G50+G52)+G49 -> 45487776 | H59: =SUM(H34+H48+H56+H50+H52)+H49 -> 48895795

Sheet 1. mell 2 pont 
A1: 1. melléklet 2. pont
A2: Az önkormányzat 2026. évi bevételei
F3: (eFt-ban)
A4: Sorsz. | B4: Megnevezés | C4: 2026. évi előirányzat 2/2026. | D4: 2026. évi előirányzat 5/2026. | E4: 2026. évi előirányzat ../2026. | F4: Index 5./4.
A7: 1. | B7: 2. | C7: 3. | D7: 4. | E7: 5. | F7: 6.
A9: 1010 | B9: Önkormányzatok működési támogatásai | C9: =SUM(C10:C15) -> 4286488 | D9: =SUM(D10:D15) -> 4286488 | E9: =SUM(E10:E15) -> 5111886 | F9: =E9/D9 -> 1.1925581
A10: 1011 | B10: - Helyi önkormányzatok működésének általános támogatása | C10: 930867 | D10: 930867 | E10: =930867+50139 -> 981006 | F10: =E10/D10 -> 1.0538627
A11: 1012 | B11: - Települési önkormányzatok egyes köznevelési feladatainak támogatása | C11: 1680415 | D11: 1680415 | E11: =1680415+110628+53088 -> 1844131 | F11: =E11/D11 -> 1.0974259
A12: 1013 | B12: - Települési önkormányzatok szociális, gyermekjóléti és gyermekétkeztési feladatainak támogatása | C12: 1645473 | D12: 1645473 | E12: =1645473+75509+26695+24909+84168 -> 1856754 | F12: =E12/D12 -> 1.1284014
A13: 1014 | B13: - Települési önkormányzatok kulturális feladatainak támogatása | C13: 29733 | D13: 29733 | E13: =29733+313826+72020 -> 415579 | F13: =E13/D13 -> 13.977029
A14: 1015 | B14: - Működési célú költségvetési támogatások és kiegészítő támogatások
A15: 1016 | B15: - Elszámolásból származó bevételek | E15: 14416
A16: 1020 | B16: Elvonások és befizetések bevételei | E16: 3281
A17: 1029 | B17: "Egészséges Budapest Program" Integrélt Alapell. Járóbeteg szakell. Központ megv.
A18: 1030 | B18: Egyéb működési célú támogatások bevételei államháztartáson belülről | C18: 8000 | D18: 8000 | E18: =8000+212131 -> 220131 | F18: =E18/D18 -> 27.516375
A19: 1031 | B19: Egyéb műk. célú támog.bevételei Áh-n belülről - EU-s pályázat KEHOP-1.2.1-18-2018-00006
A20: 1032 | B20: VEKOP-7 3 4-17-2017-00011 József Attila
B22: Működési célú támogatások államháztartáson belülről összesen | C22: =SUM(C20,C19,C18,C17,C16,C9) -> 4294488 | D22: =SUM(D20,D19,D18,D17,D16,D9) -> 4294488 | E22: =SUM(E20,E19,E18,E17,E16,E9) -> 5335298 | F22: =E22/D22 -> 1.2423595
A24: 1040 | B24: Vagyoni típusú adók (Helyi adó) | C24: =SUM(C25:C26) -> 7550000 | D24: =SUM(D25:D26) -> 7550000 | E24: =SUM(E25:E26) -> 7550000 | F24: =E24/D24 -> 1
A25: 1041 | B25: Építményadó | C25: 6800000 | D25: 6800000 | E25: 6800000 | F25: =E25/D25 -> 1
A26: 1042 | B26: Telekadó | C26: 750000 | D26: 750000 | E26: 750000 | F26: =E26/D26 -> 1
A27: 1050 | B27: Termékek és szolgáltatások adói | C27: =SUM(C28:C30) -> 10643750 | D27: =SUM(D28:D30) -> 10643750 | E27: =SUM(E28:E30) -> 10643750 | F27: =E27/D27 -> 1
A28: 1051 | B28: Iparűzési adó | C28: 9823750 | D28: 9823750 | E28: 9823750 | F28: =E28/D28 -> 1
A29: 1052 | B29: Belföldi gépjárművek adójának a helyi önkormányzatot megillető része
A30: 1053 | B30: Idegenforgalmi adó | C30: 820000 | D30: 820000 | E30: 820000 | F30: =E30/D30 -> 1
A31: 1070 | B31: Egyéb közhatalmi bevételek | C31: =SUM(C32:C42) -> 1145433 | D31: =SUM(D32:D42) -> 1145433 | E31: =SUM(E32:E42) -> 1145433 | F31: =E31/D31 -> 1
A32: 1071 | B32: Igazgatásszolgáltatási díj | C32: 250 | D32: 250 | E32: 250 | F32: =E32/D32 -> 1
A33: 1072 | B33: Talajterhelési díj
A34: 1073 | B34: Környezetvédelmi bírság
A35: 1074 | B35: Szabálysértési bírság
A36: 1075 | B36: Helyi adó pótlék, bírság | C36: 40000 | D36: 40000 | E36: 40000 | F36: =E36/D36 -> 1
A37: 1076 | B37: Iparűzési adó pótlék, bírság | C37: 28306 | D37: 28306 | E37: 28306 | F37: =E37/D37 -> 1
A38: 1077 | B38: Parkolási bírság, pótdíj | C38: 633877 | D38: 633877 | E38: 633877 | F38: =E38/D38 -> 1
A39: 1078 | B39: Egyéb bírságból származó bevétel
A40: 1079 | B40: Közigazgatási bírság | C40: 23000 | D40: 23000 | E40: 23000 | F40: =E40/D40 -> 1
A41: 1081 | B41: Közterületfoglalási díj | C41: 420000 | D41: 420000 | E41: 420000 | F41: =E41/D41 -> 1
B43: Közhatalmi bevételek összesen | C43: =SUM(C24+C27+C31) -> 19339183 | D43: =SUM(D24+D27+D31) -> 19339183 | E43: =SUM(E24+E27+E31) -> 19339183 | F43: =E43/D43 -> 1
A45: 1090 | B45: Szolgáltatások ellenértéke | C45: =SUM(C46:C54) -> 2601262 | D45: =SUM(D46:D54) -> 2601262 | E45: =SUM(E46:E54) -> 2601262 | F45: =E45/D45 -> 1
A46: 1091 | B46: - Közterületfoglalási díj
A47: 1092 | B47: - Parkolási díj, ügyviteli költség | C47: 1673262 | D47: 1673262 | E47: 1673262 | F47: =E47/D47 -> 1
A48: 1093 | B48: - Egyéb szolgáltatás | C48: 4000 | D48: 4000 | E48: 4000 | F48: =E48/D48 -> 1
A49: 1094 | B49: - Bérleti díjak | C49: =14000 -> 14000 | D49: =14000 -> 14000 | E49: =14000 -> 14000 | F49: =E49/D49 -> 1
A50: 1095 | B50: - Lakbér bevételek | C50: 500000 | D50: 500000 | E50: 500000 | F50: =E50/D50 -> 1
A51: 1096 | B51: - Helyiség bérleti díj | C51: 370000 | D51: 370000 | E51: 370000 | F51: =E51/D51 -> 1
A52: 1097 | B52: - Helyiség megszerzési díj
A53: 1098 | B53: - Nyomvonal létesítés kártalanítás
A54: 1099 | B54: - Munkásszálló bérleti díj | C54: 40000 | D54: 40000 | E54: 40000 | F54: =E54/D54 -> 1
A55: 1100 | B55: Közvetített szolgáltatások ellenértéke | C55: =SUM(C56:C58) -> 199124 | D55: =SUM(D56:D58) -> 199124 | E55: =SUM(E56:E58) -> 199124 | F55: =E55/D55 -> 1
A56: 1101 | B56: - Önkormányzat közvetített szolgáltatások ellenértéke | C56: 11200 | D56: 11200 | E56: 11200 | F56: =E56/D56 -> 1
A57: 1102 | B57: - Vagyonkezeléssel kapcsolatos közvetített szolgáltatások ellenértéke | C57: 90000 | D57: 90000 | E57: 90000 | F57: =E57/D57 -> 1
A58: 1103 | B58: - Parkolással kapcsolatos közvetített szolgáltatások ellenértéke | C58: 97924 | D58: 97924 | E58: 97924 | F58: =E58/D58 -> 1
A59: 1105 | B59: Tulajdonosi bevételek
A60: 1110 | B60: Ellátási díjak
A61: 1120 | B61: Kiszámlázott általános forgalmi adó | C61: =SUM(C62:C64) -> 750450 | D61: =SUM(D62:D64) -> 750450 | E61: =SUM(E62:E64) -> 750450 | F61: =E61/D61 -> 1
A62: 1121 | B62: - Önkormányzat ÁFA | C62: 13230 | D62: 13230 | E62: 13230 | F62: =E62/D62 -> 1
A63: 1122 | B63: - Vagyonkezelési és városfejlesztési feladatokkal kapcsolatos ÁFA | C63: 259000 | D63: 259000 | E63: 259000 | F63: =E63/D63 -> 1
A64: 1123 | B64: - Parkolási feladatokkal kapcsolatos ÁFA | C64: 478220 | D64: 478220 | E64: 478220 | F64: =E64/D64 -> 1
A65: 1130 | B65: Általános forgalmi adó visszatérítése
A66: 1140 | B66: Kamatbevételek és más nyereségjellegű bevételek | C66: =C67 -> 150000 | D66: =D67 -> 150000 | E66: =E67 -> 150000 | F66: =E66/D66 -> 1
A67: 1141 | B67: - Önkormányzat kamat | C67: 150000 | D67: 150000 | E67: 150000 | F67: =E67/D67 -> 1
A68: 1152 | B68: Biztosító által fizetett kártérítés
A69: 1150 | B69: Egyéb működési bevételek | C69: 500 | D69: 500 | E69: 500 | F69: =E69/D69 -> 1
A70: 1151 | B70: Egyéb működési bevételek - Parkolási feladatokkal kapcsolatban | C70: 38531 | D70: 38531 | E70: 38531 | F70: =E70/D70 -> 1
B72: Működési bevételek összesen | C72: =SUM(C66+C69+C65+C61+C60+C55+C45+C59+C70)+C68 -> 3739867 | D72: =SUM(D66+D69+D65+D61+D60+D55+D45+D59+D70)+D68 -> 3739867 | E72: =SUM(E66+E69+E65+E61+E60+E55+E45+E59+E70)+E68 -> 3739867 | F72: =E72/D72 -> 1
A74: 1160 | B74: Egyéb működési célú átvett pénzeszköz
A75: 1161 | B75: "Krízis Alap" bevétel
A76: 1162 | B76: NEXT LEVEL Parking pályázat | C76: 13775 | D76: 13775 | E76: 13775 | F76: =E76/D76 -> 1
A77: 1163 | B77: Ferencvárosi Humanitárius Alap
A78: 1164 | B78: CLAP Gyermekek helyi ügyekben való részvétele
A79: 1165 | B79: HERO pályázat /Felhalm célű önk. Tám Óvoda felj
A80: 1169 | B80: EUCF pályázat
B81: FSZKA drogprevenciós pályázat
B82: BGA Zrt. Testvérvárosi találkozók
B84: Működési célú átvett pénzeszközök összesen | C84: =SUM(C73:C83) -> 13775 | D84: =SUM(D73:D83) -> 13775 | E84: =SUM(E73:E83) -> 13775 | F84: =E84/D84 -> 1
B86: Működési költségvetési bevételek mindösszesen | C86: =SUM(C72+C43+C22+C84) -> 27387313 | D86: =SUM(D72+D43+D22+D84) -> 27387313 | E86: =SUM(E72+E43+E22+E84) -> 28428123 | F86: =E86/D86 -> 1.0380034
A88: 1165 | B88: Felhalmozási célú önkormányzati támogatások Óvodafejlesztés | C88: 750000 | D88: 1500000 | E88: 1500000 | F88: =E88/D88 -> 1
A89: 1166 | B89: "Egészséges Budapest Program" Integrélt Alapell. Járóbeteg szakell. Központ megv.
A90: 1170 | B90: Egyéb felhalmozási célú támog.bevételei Áh-n belülről - EU-s pályázatok kapcsán
A91: 1180 | B91: Egyéb felhalmozási célú támog.bevételei Áh-n belülről - Fővárosi Önkormányzattól | C91: =SUM(C92:C98) -> 213158 | D91: =SUM(D92:D98) -> 213158 | E91: =SUM(E92:E98) -> 213158 | F91: =E91/D91 -> 1
A92: 1182 | B92: Bakáts projekt
A93: 1183 | B93: TÉR-KÖZ 2018
A94: 1186 | B94: Fedett, zárható kerékpártárolók társasházak, lakótelepek környékén
B95: Egészséges utcák - Viola utca | C95: 69767 | D95: 69767 | E95: 69767 | F95: =E95/D95 -> 1
B96: Egészséges utcák - Sobieski utca | C96: 62704 | D96: 62704 | E96: 62704 | F96: =E96/D96 -> 1
B97: Egészséges utcák - Ipar utca | C97: 52136 | D97: 52136 | E97: 52136 | F97: =E97/D97 -> 1
B98: Egészséges utcák - Angyal u. | C98: 28551 | D98: 28551 | E98: 28551 | F98: =E98/D98 -> 1
A99: 1187 | B99: FESZ részesedés
A100: 1185 | B100: Egyéb felhalmozási célú támogatás bevételei
B102: Felhalmozási célú támogatások államháztartáson belülről összesen | C102: =SUM(C100,C99,C91,C90,C89,C88) -> 963158 | D102: =SUM(D100,D99,D91,D90,D89,D88) -> 1713158 | E102: =SUM(E100,E99,E91,E90,E89,E88) -> 1713158 | F102: =E102/D102 -> 1
A104: 1190 | B104: Ingatlanok értékesítése | C104: =SUM(C105:C108) -> 950000 | D104: =SUM(D105:D108) -> 950000 | E104: =SUM(E105:E108) -> 950000 | F104: =E104/D104 -> 1
A105: 1191 | B105: Földterület, telek, ingatlan értékesítése | C105: 650000 | D105: 650000 | E105: 650000
A106: 1194 | B106: Helyiség értékesítés | C106: 100000 | D106: 100000 | E106: 100000
A107: 1195 | B107: Önkormányzati lakások értékesítése | C107: 200000 | D107: 200000 | E107: 200000 | F107: =E107/D107 -> 1
B109: Felhalmozási bevételek összesen | C109: =SUM(C104) -> 950000 | D109: =SUM(D104) -> 950000 | E109: =SUM(E104) -> 950000 | F109: =E109/D109 -> 1
A111: 1200 | B111: Felhalmozási célú visszatérítendő tám., kölcsönök visszatérülései államháztartáson kívülről | C111: =SUM(C112:C113) -> 15000 | D111: =SUM(D112:D113) -> 15000 | E111: =SUM(E112:E113) -> 15000 | F111: =E111/D111 -> 1
A112: 1201 | B112: Helyi támogatás, házmesterek visszafizetése
A113: 1202 | B113: Társasházak befizetései | C113: 15000 | D113: 15000 | E113: 15000 | F113: =E113/D113 -> 1
A114: 1209 | B114: NEXT LEVEL Parking pályázat
A115: 1210 | B115: Egyéb felhalmozási célú átvett pénzeszközök
A116: 1211 | B116: Parkolóhely megváltás
...

Sheet 1. mell 3. pont 
A1: 1. melléklet 3. pont
A2: Az önkormányzat 2026. évi kiadásai
F4: (eFt-ban)
A5: Sorsz. | B5: Megnevezés | C5: 2026. évi előirányzat 2/2026. | D5: 2026. évi előirányzat 5/2026. | E5: 2026. évi előirányzat ../2026. | F5: Index 5./4.
A8: 1. | B8: 2. | C8: 3. | D8: 4. | E8: 5. | F8: 6.
B9: I. Polgármesteri Hivatal kiadásai
A11: 1710 | B11: Polgármesteri Hivatal kiadása (3. melléklet 1.pont. melléklet szerint) | C11: =SUM(C12:C19) -> 4995397 | D11: =SUM(D12:D19) -> 4995397 | E11: =SUM(E12:E19) -> 5376303 | F11: =SUM(E11/D11) -> 1.0762514
A12: 1711 | B12: Személyi juttatások | C12: ='3 mell 1. pont'!C72 -> 3332083 | D12: ='3 mell 1. pont'!D72 -> 3332083 | E12: ='3 mell 1. pont'!E72 -> 3457779 | F12: =E12/D12 -> 1.0377229
A13: 1712 | B13: Munkaadókat terhelő járulékok és szociális hozzájárulási adó | C13: ='3 mell 1. pont'!C73 -> 454723 | D13: ='3 mell 1. pont'!D73 -> 454723 | E13: ='3 mell 1. pont'!E73 -> 494810 | F13: =E13/D13 -> 1.088157
A14: 1713 | B14: Dologi kiadások | C14: ='3 mell 1. pont'!C74 -> 633736 | D14: ='3 mell 1. pont'!D74 -> 633736 | E14: ='3 mell 1. pont'!E74 -> 832229 | F14: =E14/D14 -> 1.3132109
A15: 1714 | B15: Ellátottak pénzbeli juttatásai | C15: ='3 mell 1. pont'!C75 -> 0 | D15: ='3 mell 1. pont'!D75 -> 0 | E15: ='3 mell 1. pont'!E75 -> 0
A16: 1715 | B16: Egyéb működési célú kiadások | C16: ='3 mell 1. pont'!C76 -> 0 | D16: ='3 mell 1. pont'!D76 -> 0 | E16: ='3 mell 1. pont'!E76 -> 0
A17: 1716 | B17: Beruházások | C17: ='3 mell 1. pont'!C80 -> 415755 | D17: ='3 mell 1. pont'!D80 -> 415755 | E17: ='3 mell 1. pont'!E80 -> 419245 | F17: =E17/D17 -> 1.0083944
A18: 1717 | B18: Felújítások | C18: ='3 mell 1. pont'!C79 -> 156100 | D18: ='3 mell 1. pont'!D79 -> 156100 | E18: ='3 mell 1. pont'!E79 -> 169240 | F18: =E18/D18 -> 1.0841768
A19: 1718 | B19: Egyéb felhalmozási célú kiadások - Munkáltatói kölcsön | C19: ='3 mell 1. pont'!C81 -> 3000 | D19: ='3 mell 1. pont'!D81 -> 3000 | E19: ='3 mell 1. pont'!E81 -> 3000 | F19: =E19/D19 -> 1
B21: II. Önkormányzat kiadásai
A23: 1750 | B23: Önkormányzat költségvetésben szereplő kiadások (3. melléklet 2.pont. melléklet szerint) | C23: =SUM(C24:C32) -> 7231873 | D23: =SUM(D24:D32) -> 7064773 | E23: =SUM(E24:E32) -> 7738125 | F23: =SUM(E23/D23) -> 1.0953112
A24: 1751 | B24: Személyi juttatások | C24: ='3 mell. 2. pont'!C941 -> 420407 | D24: ='3 mell. 2. pont'!D941 -> 420407 | E24: ='3 mell. 2. pont'!E941 -> 436344 | F24: =E24/D24 -> 1.0379085
A25: 1752 | B25: Munkaadókat terhelő járulékok és szociális hozzájárulási adó | C25: ='3 mell. 2. pont'!C942 -> 64421 | D25: ='3 mell. 2. pont'!D942 -> 64421 | E25: ='3 mell. 2. pont'!E942 -> 68721 | F25: =E25/D25 -> 1.0667484
A26: 1753 | B26: Dologi kiadások | C26: ='3 mell. 2. pont'!C943 -> 5086437 | D26: ='3 mell. 2. pont'!D943 -> 4919337 | E26: ='3 mell. 2. pont'!E943 -> 5519916 | F26: =E26/D26 -> 1.1220854
A27: 1754 | B27: Ellátottak pénzbeli juttatásai | C27: ='3 mell. 2. pont'!C944 -> 244500 | D27: ='3 mell. 2. pont'!D944 -> 244500 | E27: ='3 mell. 2. pont'!E944 -> 251619 | F27: =E27/D27 -> 1.0291166
A28: 1755 | B28: Egyéb működési célú kiadások | C28: ='3 mell. 2. pont'!C945 -> 111788 | D28: ='3 mell. 2. pont'!D945 -> 111788 | E28: ='3 mell. 2. pont'!E945 -> 116088 | F28: =E28/D28 -> 1.0384657
A29: 1756 | B29: Beruházások | C29: ='3 mell. 2. pont'!C948 -> 53400 | D29: ='3 mell. 2. pont'!D948 -> 53400 | E29: ='3 mell. 2. pont'!E948 -> 85395 | F29: =E29/D29 -> 1.5991573
A30: 1757 | B30: Felújítások | C30: ='3 mell. 2. pont'!C949 -> 0 | D30: ='3 mell. 2. pont'!D949 -> 0 | E30: ='3 mell. 2. pont'!E949 -> 0
A31: 1758 | B31: Egyéb felhalmozási célú kiadások | C31: ='3 mell. 2. pont'!C950 -> 1250920 | D31: ='3 mell. 2. pont'!D950 -> 1250920 | E31: ='3 mell. 2. pont'!E950 -> 1260042 | F31: =E31/D31 -> 1.0072922
A33: 1760 | B33: Önkormányzat ktsv. szereplő Támogatások (3. melléklet 3.pont. melléklet szerint) | C33: =SUM(C34:C40) -> 1887001 | D33: =SUM(D34:D40) -> 1887001 | E33: =SUM(E34:E40) -> 2409237 | F33: =SUM(E33/D33) -> 1.2767545
A34: 1761 | B34: Személyi juttatások | C34: ='3 mell 3. pont'!C66 -> 10644 | D34: ='3 mell 3. pont'!D66 -> 10644 | E34: ='3 mell 3. pont'!E66 -> 11879 | F34: =E34/D34 -> 1.1160278
A35: 1762 | B35: Munkaadókat terhelő járulékok és szociális hozzájárulási adó | C35: ='3 mell 3. pont'!C67 -> 2004 | D35: ='3 mell 3. pont'!D67 -> 2004 | E35: ='3 mell 3. pont'!E67 -> 2286 | F35: =E35/D35 -> 1.1407186
A36: 1763 | B36: Dologi kiadások | C36: ='3 mell 3. pont'!C68 -> 14243 | D36: ='3 mell 3. pont'!D68 -> 14243 | E36: ='3 mell 3. pont'!E68 -> 14243 | F36: =E36/D36 -> 1
A37: 1764 | B37: Egyéb működési célú kiadások | C37: ='3 mell 3. pont'!C69 -> 1617610 | D37: ='3 mell 3. pont'!D69 -> 1617610 | E37: ='3 mell 3. pont'!E69 -> 1937570 | F37: =E37/D37 -> 1.197798
A38: 1765 | B38: Beruházási kiadások | C38: ='3 mell 3. pont'!C72 -> 5000 | D38: ='3 mell 3. pont'!D72 -> 5000 | E38: ='3 mell 3. pont'!E72 -> 5000 | F38: =E38/D38 -> 1
A39: 1766 | B39: Egyéb felhalmozási célú kiadások | C39: ='3 mell 3. pont'!C73 -> 237500 | D39: ='3 mell 3. pont'!D73 -> 237500 | E39: ='3 mell 3. pont'!E73 -> 438259 | F39: =E39/D39 -> 1.8453011
A41: 1770 | B41: Önkormányzati Felújítási kiadások (4. sz. melléklet szerint) | C41: =SUM(C42:C48) -> 8743502 | D41: =SUM(D42:D48) -> 8743502 | E41: =SUM(E42:E48) -> 9146490 | F41: =SUM(E41/D41) -> 1.04609
A42: 1771 | B42: Személyi juttatások | C42: ='4.mell.'!C71 -> 0 | D42: ='4.mell.'!D71 -> 0 | E42: ='4.mell.'!E71 -> 0
A43: 1772 | B43: Munkaadókat terhelő járulékok és szociális hozzájárulási adó | C43: ='4.mell.'!C72 -> 0 | D43: ='4.mell.'!D72 -> 0 | E43: ='4.mell.'!E72 -> 0
A44: 1773 | B44: Dologi kiadások | C44: ='4.mell.'!C73 -> 0 | D44: ='4.mell.'!D73 -> 0 | E44: ='4.mell.'!E73 -> 0
A45: 1774 | B45: Egyéb működési célú kiadás | C45: ='4.mell.'!C74 -> 0 | D45: ='4.mell.'!D74 -> 0 | E45: ='4.mell.'!E74 -> 0
A46: 1775 | B46: Beruházások | C46: ='4.mell.'!C77 -> 0 | D46: ='4.mell.'!D77 -> 0 | E46: ='4.mell.'!E77 -> 0
A47: 1776 | B47: Felújítások | C47: ='4.mell.'!C78 -> 8696381 | D47: ='4.mell.'!D78 -> 8696381 | E47: ='4.mell.'!E78 -> 9099369 | F47: =E47/D47 -> 1.0463397
A48: 1777 | B48: Egyéb felhalmozási célú kiadások | C48: ='4.mell.'!C79 -> 47121 | D48: ='4.mell.'!D79 -> 47121 | E48: ='4.mell.'!E79 -> 47121 | F48: =E48/D48 -> 1
A50: 1780 | B50: Önkormányzati Fejlesztési, beruházási kiadások (5. sz. melléklet szerint) | C50: =SUM(C51:C57) -> 3354874 | D50: =SUM(D51:D57) -> 3354874 | E50: =SUM(E51:E57) -> 3364874 | F50: =SUM(E50/D50) -> 1.0029807
A51: 1781 | B51: Személyi juttatások | C51: ='5.mell. '!C54 -> 0 | D51: ='5.mell. '!D54 -> 0 | E51: ='5.mell. '!E54 -> 0
A52: 1782 | B52: Munkaadókat terhelő járulékok és szociális hozzájárulási adó | C52: ='5.mell. '!C55 -> 0 | D52: ='5.mell. '!D55 -> 0 | E52: ='5.mell. '!E55 -> 0
A53: 1783 | B53: Dologi kiadások | C53: ='5.mell. '!C56 -> 0 | D53: ='5.mell. '!D56 -> 0 | E53: ='5.mell. '!E56 -> 0
A54: 1784 | B54: Egyéb működési célú kiadás | C54: ='5.mell. '!C57 -> 0 | D54: ='5.mell. '!D57 -> 0 | E54: ='5.mell. '!E57 -> 0
A55: 1785 | B55: Beruházások | C55: ='5.mell. '!C61 -> 3354874 | D55: ='5.mell. '!D61 -> 3354874 | E55: ='5.mell. '!E61 -> 3364874 | F55: =E55/D55 -> 1.0029807
A56: 1786 | B56: Felújítások | C56: ='5.mell. '!C60 -> 0 | D56: ='5.mell. '!D60 -> 0 | E56: ='5.mell. '!E60 -> 0
A57: 1787 | B57: Egyéb felhalmozási célú kiadások | C57: ='5.mell. '!C62 -> 0 | D57: ='5.mell. '!D62 -> 0 | E57: ='5.mell. '!E62 -> 0
A59: 1790 | B59: Felhalmozási célú visszatérítendő tám., kölcsönönök törlesztése államháztartáson belülre
A60: 1795 | B60: Márton 5./a
A62: 1801 | B62: Kamat kiadás, banki költségek, tranzakciós díjak - Dologi kiadások | C62: 95000 | D62: 95000 | E62: =95000+4640 -> 99640 | F62: =SUM(E62/D62) -> 1.0488421
A64: 1802 | B64: Fővárosi IPA visszafizetése - Dologi kiadások | C64: 18321 | D64: 18321 | E64: 18321 | F64: =SUM(E64/D64) -> 1
A66: 1803 | B66: Szolidaritási hozzájárulási adó - Egyéb működési célú kiadások | C66: 3011230 | D66: 3011230 | E66: 3011230 | F66: =SUM(E66/D66) -> 1
A68: 1804 | B68: Fizetendő általános forgalmi adó - Dologi kiadások | C68: 268296 | D68: 268296 | E68: 268296 | F68: =SUM(E68/D68) -> 1
A70: 1806 | B70: Elvonások és befizetések | C70: =C71 -> 0 | D70: =D71 -> 0 | E70: =E71 -> 0
B71: - Egyéb működési célú kiadások
A72: 1807 | B72: Elvonások és befizetések | C72: =C73 -> 0 | D72: =D73 -> 750000 | E72: =E73 -> 750000
B73: - Egyéb felhalmozási célú kiadások | D73: 750000 | E73: 750000
A75: 1809 | B75: Parkolóhely megváltása | C75: =C76 -> 0 | D75: =D76 -> 0 | E75: =E76 -> 0
B76: - Egyéb felhalmozási célú kiadások
A78: 1810 | B78: Területfejlesztési Alap befizetések (IPA adóbevétei többlet miatt) | C78: 0 | D78: 0 | E78: =E79 -> 36451
B79: - Egyéb működési célú kiadások | E79: 36451
A82: 1812 | B82: Általános tartalék - Egyéb működési célú kiadás | C82: ='6.mell. '!C12 -> 350000 | D82: ='6.mell. '!D12 -> 350000 | E82: ='6.mell. '!E12 -> 431868
A83: 1813 | B83: Céltartalék - Egyéb működési célú kiadás | C83: ='6.mell. '!C14 -> 609413 | D83: ='6.mell. '!D14 -> 609413 | E83: =SUM('6.mell. '!E16) -> 0
A84: 1814 | B84: Felhalmozási célú céltartalék | E84: =SUM('6.mell. '!E20) -> 609413
A85: 1816 | B85: Tartalék összesen | C85: ='6.mell. '!C26 -> 959413 | D85: ='6.mell. '!D26 -> 959413 | E85: ='6.mell. '!E26 -> 1041281
B87: Működési költségvetési kiadások
A88: 1821 | B88: Személyi juttatások | C88: =SUM(C12+C24+C34+C42+C51) -> 3763134 | D88: =SUM(D12+D24+D34+D42+D51) -> 3763134 | E88: =SUM(E12+E24+E34+E42+E51) -> 3906002 | F88: =E88/D88 -> 1.0379652
A89: 1822 | B89: Munkaadókat terhelő járulékok és szociális hozzájárulási adó | C89: =SUM(C13+C25+C35+C43+C52) -> 521148 | D89: =SUM(D13+D25+D35+D43+D52) -> 521148 | E89: =SUM(E13+E25+E35+E43+E52) -> 565817 | F89: =E89/D89 -> 1.0857127
A90: 1823 | B90: Dologi kiadások | C90: =SUM(C14+C26+C36+C44+C53+C62+C64+C68) -> 6116033 | D90: =SUM(D14+D26+D36+D44+D53+D62+D64+D68) -> 5948933 | E90: =SUM(E14+E26+E36+E44+E53+E62+E64+E68) -> 6752645 | F90: =E90/D90 -> 1.1351019
A91: 1824 | B91: Ellátottak pénzbeli juttatásai | C91: =SUM(C15+C27) -> 244500 | D91: =SUM(D15+D27) -> 244500 | E91: =SUM(E15+E27) -> 251619 | F91: =E91/D91 -> 1.0291166
A92: 1825 | B92: Egyéb működési célú kiadások | C92: =SUM(C16+C28+C37+C45+C54+C66+C70+C82+C83) -> 5700041 | D92: =SUM(D16+D28+D37+D45+D54+D66+D70+D82+D83) -> 5700041 | E92: =SUM(E16+E28+E37+E45+E54+E66+E70+E82+E83)+E78 -> 5533207 | F92: =E92/D92 -> 0.97073109
B93: ebből tartalék: | C93: =SUM(C85) -> 959413 | D93: =SUM(D85) -> 959413 | E93: =SUM('6.mell. '!E12,'6.mell. '!E16) -> 431868 | F93: =E93/D93 -> 0.45013774
A94: 1820 | B94: Működési költségvetési kiadások mindösszesen | C94: =SUM(C88:C93)-C93 -> 16344856 | D94: =SUM(D88:D93)-D93 -> 16177756 | E94: =SUM(E88:E93)-E93 -> 17009290 | F94: =E94/D94 -> 1.0513998
B96: Felhalmozási költségvetési kiadások
A97: 1831 | B97: Beruházások | C97: =SUM(C17+C29+C46+C55+C38) -> 3829029 | D97: =SUM(D17+D29+D46+D55+D38) -> 3829029 | E97: =SUM(E17+E29+E46+E55+E38) -> 3874514 | F97: =E97/D97 -> 1.011879
A98: 1832 | B98: Felújítások | C98: =SUM(C18+C30+C47+C56) -> 8852481 | D98: =SUM(D18+D30+D47+D56) -> 8852481 | E98: =SUM(E18+E30+E47+E56) -> 9268609 | F98: =E98/D98 -> 1.0470069
A99: 1833 | B99: Egyéb felhalmozási célú kiadások | C99: =SUM(C31+C48+C39+C57+C59+C19+C72+C75) -> 1538541 | D99: =SUM(D31+D48+D39+D57+D59+D19+D72+D75) -> 2288541 | E99: =SUM(E31+E48+E39+E57+E59+E19+E72+E75) -> 2498422 | F99: =E99/D99 -> 1.0917095
B100: Felhalmozási célú céltartalék | E100: =SUM(E84) -> 609413
A101: 1830 | B101: Felhalmozási költségvetés kiadások mindösszesen | C101: =SUM(C97:C100) -> 14220051 | D101: =SUM(D97:D100) -> 14970051 | E101: =SUM(E97:E100) -> 16250958 | F101: =E101/D101 -> 1.0855646
A103: 1842 | B103: Tárgyévi finanszírozási megelőlegezések
A104: 1843 | B104: Államháztartáson belüli megelőlegezések visszafizetése | C104: 171460 | D104: 171460 | E104: 171460 | F104: =E104/D104 -> 1
A105: 1844 | B105: Belföldi értékpapírok kiadásai
A106: 1845 | B106: Irányító szervi támogatás folyosítása | C106: =SUM(C107:C109) -> 15574501 | D106: =SUM(D107:D109) -> 15741601 | E106: =SUM(E107:E109) -> 16732773 | F106: =SUM(E106/D106) -> 1.0629651
A107: 1846 | B107: Költségvetési szervek támogatása | C107: ='2.mell'!C759 -> 9900247 | D107: ='2.mell'!D759 -> 10067347 | E107: ='2.mell'!E759 -> 10909499 | F107: =E107/D107 -> 1.0836518
A108: 1847 | B108: Költségvetési szervek étkezés támogatása | C108: ='2.mell'!C760 -> 808307 | D108: ='2.mell'!D760 -> 808307 | E108: ='2.mell'!E760 -> 808307 | F108: =E108/D108 -> 1
A109: 1849 | B109: Polgármesteri Hivatal támogatása | C109: ='1. mell 2 pont '!C181 -> 4865947 | D109: ='1. mell 2 pont '!D181 -> 4865947 | E109: ='1. mell 2 pont '!E181 -> 5014967 | F109: =E109/D109 -> 1.0306251
A110: 1840 | B110: Működési finanszírozási kiadások | C110: =SUM(C106+C104+C105)+C103 -> 15745961 | D110: =SUM(D106+D104+D105)+D103 -> 15913061 | E110: =SUM(E106+E104+E105)+E103 -> 16904233 | F110: =E110/D110 -> 1.0622867
A112: 1851 | B112: Hitel-, kölcsön törlesztése államháztartáson kívülre
A113: 1865 | B113: Felhalmozási finanszírozási kiadások | C113: =SUM(C112) -> 0 | D113: =SUM(D112) -> 0 | E113: =SUM(E112) -> 0
A115: 1870 | B115: PH és Önkormányzat költségvetési kiadásai mindössz: | C115: =SUM(C113+C110+C101+C94) -> 46310868 | D115: =SUM(D113+D110+D101+D94) -> 47060868 | E115: =SUM(E113+E110+E101+E94) -> 50164481 | F115: =E115/D115 -> 1.0659489
B117: III. Költségvetési szervek kiadásai (2.sz.mell.sz.)
B119: Működési költségvetési kiadások
A120: 1911 | B120: Személyi juttatások | C120: ='2.mell'!C765 -> 8352523 | D120: ='2.mell'!D765 -> 8431128 | E120: ='2.mell'!E765 -> 8665106 | F120: =E120/D120 -> 1.0277517
A121: 1912 | B121: Munkaadókat terhelő járulékok és szociális hozzájárulási adó | C121: ='2.mell'!C766 -> 1124924 | D121: ='2.mell'!D766 -> 1130624 | E121: ='2.mell'!E766 -> 1203546 | F121: =E121/D121 -> 1.0644971
A122: 1913 | B122: Dologi kiadások | C122: ='2.mell'!C767 -> 3753246 | D122: ='2.mell'!D767 -> 3837437 | E122: ='2.mell'!E767 -> 4336236 | F122: =E122/D122 -> 1.1299823
A123: 1915 | B123: Ellátottak pénzbeli juttatási | C123: ='2.mell'!C768 -> 345 | D123: ='2.mell'!D768 -> 345 | E123: ='2.mell'!E768 -> 345 | F123: =E123/D123 -> 1
A124: 1916 | B124: Egyéb működési célú kiadások | C124: ='2.mell'!C769 -> 0 | D124: ='2.mell'!D769 -> 0 | E124: ='2.mell'!E769 -> 3284
A125: 1910 | B125: Működési költségvetési kiadások mindösszesen | C125: =SUM(C120:C124) -> 13231038 | D125: =SUM(D120:D124) -> 13399534 | E125: =SUM(E120:E124) -> 14208517 | F125: =SUM(E125/D125) -> 1.060374
B126: Felhalmozási költségvetési kiadások
...

Sheet 2.mell
A1: 2. melléklet
A2: Költségvetési szervek 2026. évi költségvetése
F4: (eFt-ban)
A5: Sorsz. | B5: Megnevezés | C5: 2026. évi előirányzat 2/2026. | D5: 2026. évi előirányzat 5/2026. | E5: 2026. évi előirányzat ../2026. | F5: Index 5./4.
A8: 1. | B8: 2. | C8: 3. | D8: 4. | E8: 5. | F8: 6.
A9: 2305 | B9: Csicsergő Óvoda /Thaly K. u. 38./
B10: Elvonások és befizetések bevételei
B11: Egyéb működési célú támogatások bevételei Áh-n belülről
B12: Működési célú támogatások Áh-n belülről összesen
B13: Szolgáltatások ellenértéke
B14: Egyéb szolgáltatás
B15: Bérleti díjak
B16: Közvetített szolgáltatások ellenértéke
B17: Ellátási díjak
B18: Kiszámlázott általános forgalmi adó
B19: Általános forgalmi adó visszatérítése
B20: Kamatbevételek és más nyereségjelegű bevételek
B21: Egyéb működési bevételek
... B26: Felhalmozási költségvetési bevételek mindösszesen
B27: Előző év költségvetési maradványának igénybevétele | E27: 2896
B28: Irányító szervi támogatás | C28: 345557 | D28: 345557 | E28: =345557+506+6744 -> 352807 | F28: =E28/D28 -> 1.0209806
B29: Működési finanszírozási bevételek | C29: =SUM(C27:C28) -> 345557 | D29: =SUM(D27:D28) -> 345557 | E29: =SUM(E27:E28) -> 355703 | F29: =E29/D29 -> 1.0293613
B30: Előző év költségvetési maradványának igénybevétele
B31: Felhalmozási finanszírozási bevételek
B32: Bevételek mindösszesen | C32: =SUM(C24+C26+C29+C31) -> 345557 | D32: =SUM(D24+D26+D29+D31) -> 345557 | E32: =SUM(E24+E26+E29+E31) -> 355703 | F32: =E32/D32 -> 1.0293613
B33: Személyi juttatások | C33: 289452 | D33: 289452 | E33: =289452+135+5437 -> 295024 | F33: =E33/D33 -> 1.0192502
B34: Munkaadókat terhelő járulékok és szociális hozzájárulási adó | C34: 43392 | D34: 43392 | E34: =43392+1353+1307 -> 46052 | F34: =E34/D34 -> 1.0613016
B35: Dologi kiadások | C35: 7379 | D35: 7379 | E35: =7379+506+1408 -> 9293 | F35: =E35/D35 -> 1.2593847
B36: Ellátottak pénzbeli juttatásai
B37: Egyéb működési célú kiadások
B38: Működési költségvetési kiadások mindösszesen | C38: =SUM(C33:C37) -> 340223 | D38: =SUM(D33:D37) -> 340223 | E38: =SUM(E33:E37) -> 350369 | F38: =E38/D38 -> 1.0298216
B39: Beruházások (bútorok, berendezési tárgyak) | C39: 5334 | D39: 5334 | E39: 5334 | F39: =E39/D39 -> 1
B40: Felújítások
B41: Egyéb felhalmozási célú kiadások
B42: Felhalmozási költségvetési kiadások mindösszesen | C42: =SUM(C39:C41) -> 5334 | D42: =SUM(D39:D41) -> 5334 | E42: =SUM(E39:E41) -> 5334 | F42: =E42/D42 -> 1
B43: Kiadások mindösszesen | C43: =SUM(C38+C42) -> 345557 | D43: =SUM(D38+D42) -> 345557 | E43: =SUM(E38+E42) -> 355703 | F43: =E43/D43 -> 1.0293613
A44: 2309 | B44: Csudafa Óvoda /Óbester u. 9./
B45: Elvonások és befizetések bevételei
B46: Egyéb működési célú támogatások bevételei Áh-n belülről
B47: Működési célú támogatások Áh-n belülről összesen
B48: Szolgáltatások ellenértéke
B49: Egyéb szolgáltatás
B50: Bérleti díjak
B51: Közvetített szolgáltatások ellenértéke
B52: Ellátási díjak
B53: Kiszámlázott általános forgalmi adó
B54: Általános forgalmi adó visszatérítése
B55: Kamatbevételek és más nyereségjelegű bevételek
B56: Egyéb működési bevételek
... B61: Felhalmozási költségvetési bevételek mindösszesen
B62: Előző év költségvetési maradványának igénybevétele | E62: 875
B63: Irányító szervi támogatás | C63: 344329 | D63: 344329 | E63: =344329+2306+7680 -> 354315 | F63: =E63/D63 -> 1.0290013
B64: Működési finanszírozási bevételek | C64: =SUM(C62:C63) -> 344329 | D64: =SUM(D62:D63) -> 344329 | E64: =SUM(E62:E63) -> 355190 | F64: =E64/D64 -> 1.0315425
B65: Előző év költségvetési maradványának igénybevétele
B66: Felhalmozási finanszírozási bevételek
B67: Bevételek mindösszesen | C67: =SUM(C59+C61+C64+C66) -> 344329 | D67: =SUM(D59+D61+D64+D66) -> 344329 | E67: =SUM(E59+E61+E64+E66) -> 355190 | F67: =E67/D67 -> 1.0315425
B68: Személyi juttatások | C68: 290371 | D68: 290371 | E68: =290371+706+6000 -> 297077 | F68: =E68/D68 -> 1.0230946
B69: Munkaadókat terhelő járulékok és szociális hozzájárulási adó | C69: 43379 | D69: 43379 | E69: =43379+1465+169+1680 -> 46693 | F69: =E69/D69 -> 1.0763964
B70: Dologi kiadások | C70: 6261 | D70: 6261 | E70: =6261+841 -> 7102 | F70: =E70/D70 -> 1.1343236
B71: Ellátottak pénzbeli juttatásai
B72: Egyéb működési célú kiadások
B73: Működési költségvetési kiadások mindösszesen | C73: =SUM(C68:C72) -> 340011 | D73: =SUM(D68:D72) -> 340011 | E73: =SUM(E68:E72) -> 350872 | F73: =E73/D73 -> 1.0319431
B74: Beruházások (bútorok, berendezési tárgyak) | C74: 4318 | D74: 4318 | E74: 4318 | F74: =E74/D74 -> 1
B75: Felújítások
B76: Egyéb felhalmozási célú kiadások
B77: Felhalmozási költségvetési kiadások mindösszesen | C77: =SUM(C74:C76) -> 4318 | D77: =SUM(D74:D76) -> 4318 | E77: =SUM(E74:E76) -> 4318 | F77: =E77/D77 -> 1
B78: Kiadások mindösszesen | C78: =SUM(C73+C77) -> 344329 | D78: =SUM(D73+D77) -> 344329 | E78: =SUM(E73+E77) -> 355190 | F78: =E78/D78 -> 1.0315425
A79: 2310 | B79: Epres Óvoda /Epreserdő u. 10./
B80: Elvonások és befizetések bevételei
B81: Egyéb működési célú támogatások bevételei Áh-n belülről
B82: Működési célú támogatások Áh-n belülről összesen
B83: Szolgáltatások ellenértéke
B84: Egyéb szolgáltatás
B85: Bérleti díjak
B86: Közvetített szolgáltatások ellenértéke
B87: Ellátási díjak
B88: Kiszámlázott általános forgalmi adó
B89: Általános forgalmi adó visszatérítése
B90: Kamatbevételek és más nyereségjelegű bevételek
B91: Egyéb működési bevételek
... B96: Felhalmozási költségvetési bevételek mindösszesen
B97: Előző év költségvetési maradványának igénybevétele | E97: 2242
B98: Irányító szervi támogatás | C98: 175014 | D98: 175014 | E98: =175014+5060 -> 180074 | F98: =E98/D98 -> 1.028912
B99: Működési finanszírozási bevételek | C99: =SUM(C97:C98) -> 175014 | D99: =SUM(D97:D98) -> 175014 | E99: =SUM(E97:E98) -> 182316 | F99: =E99/D99 -> 1.0417224
B100: Előző év költségvetési maradványának igénybevétele | E100: 300
B101: Felhalmozási finanszírozási bevételek | E101: =E100 -> 300
B102: Bevételek mindösszesen | C102: =SUM(C94+C96+C99+C101) -> 175014 | D102: =SUM(D94+D96+D99+D101) -> 175014 | E102: =SUM(E94+E96+E99+E101) -> 182616 | F102: =E102/D102 -> 1.0434365
B103: Személyi juttatások | C103: 145231 | D103: 145231 | E103: =145231+82+2000 -> 147313 | F103: =E103/D103 -> 1.0143358
B104: Munkaadókat terhelő járulékok és szociális hozzájárulási adó | C104: 19481 | D104: 19481 | E104: =19481+230+560 -> 20271 | F104: =E104/D104 -> 1.0405523
B105: Dologi kiadások | C105: 5908 | D105: 5908 | E105: =5908+1550 -> 7458 | F105: =E105/D105 -> 1.2623561
B106: Ellátottak pénzbeli juttatásai
B107: Egyéb működési célú kiadások | E107: 380
B108: Működési költségvetési kiadások mindösszesen | C108: =SUM(C103:C107) -> 170620 | D108: =SUM(D103:D107) -> 170620 | E108: =SUM(E103:E107) -> 175422 | F108: =E108/D108 -> 1.0281444
B109: Beruházások (bútorok, berendezési tárgyak) | C109: 4394 | D109: 4394 | E109: =4394+300+2500 -> 7194 | F109: =E109/D109 -> 1.6372326
B110: Felújítások
B111: Egyéb felhalmozási célú kiadások
B112: Felhalmozási költségvetési kiadások mindösszesen | C112: =SUM(C109:C111) -> 4394 | D112: =SUM(D109:D111) -> 4394 | E112: =SUM(E109:E111) -> 7194 | F112: =E112/D112 -> 1.6372326
B113: Kiadások mindösszesen | C113: =SUM(C108+C112) -> 175014 | D113: =SUM(D108+D112) -> 175014 | E113: =SUM(E108+E112) -> 182616 | F113: =E113/D113 -> 1.0434365
A114: 2315 | B114: Kerekerdő Óvoda /Vágóhíd u. 35.-37./
B115: Elvonások és befizetések bevételei
...

Sheet 3 mell 1. pont
A1: 3. melléklet 1. pont
A2: A Polgármesteri Hivatal kiadásai 2026.
F3: (eFt-ban)
C4: 2026. évi előirányzat 2/2026. | D4: 2026. évi előirányzat 5/2026. | E4: 2026. évi előirányzat ../2026. | F4: Index 5./4.
A5: Sorsz. | B5: Kiadás megnevezése
A7: 1. | B7: 2. | C7: 3. | D7: 4. | E7: 5. | F7: 6.
A8: 3010 | B8: Üdülőhelyi szálláshely szolgáltatás | C8: =SUM(C18) -> 47250 | D8: =SUM(D18) -> 47250 | E8: =SUM(E18) -> 51390 | F8: =SUM(E8/D8) -> 1.087619
A9: 3011 | B9: Balatonszéplaki Üdülő
B10: Személyi juttatások | C10: 3000 | D10: 3000 | E10: 3000 | F10: =SUM(E10/D10) -> 1
B11: Munkaadókat terhelő jár. és szociális hozzájár.adó | C11: 450 | D11: 450 | E11: 450 | F11: =SUM(E11/D11) -> 1
B12: Dologi kiadások és egyéb folyó kiadások | C12: 16800 | D12: 16800 | E12: =16800+1717 -> 18517 | F12: =SUM(E12/D12) -> 1.1022024
B13: Ellátottak pénzbeli juttatásai
B14: Egyéb működési célú kiadások
B15: Beruházások | C15: 13000 | D15: 13000 | E15: =13000+2423 -> 15423 | F15: =SUM(E15/D15) -> 1.1863846
B16: Felújítások | C16: 14000 | D16: 14000 | E16: 14000 | F16: =SUM(E16/D16) -> 1
B17: Egyéb felhalmozási célú kiadások
B18: Költségvetési kiadások | C18: =SUM(C10:C17) -> 47250 | D18: =SUM(D10:D17) -> 47250 | E18: =SUM(E10:E17) -> 51390 | F18: =SUM(E18/D18) -> 1.087619
A19: 3020 | B19: Általános közszolgáltatások | C19: =SUM(C29+C69) -> 4891647 | D19: =SUM(D29+D69) -> 4891647 | E19: =SUM(E29+E69) -> 5228203 | F19: =SUM(E19/D19) -> 1.0688022
A20: 3021 | B20: Polgármesteri Hivatal igazgatási kiadásai
B21: Személyi juttatások | C21: 3279083 | D21: 3279083 | E21: =3279083+58111+42984 -> 3380178 | F21: =SUM(E21/D21) -> 1.0308303
B22: Munkaadókat terhelő jár. és szociális hozzájár.adó | C22: 447773 | D22: 447773 | E22: =447773+23738+12035 -> 483546 | F22: =SUM(E22/D22) -> 1.0798909
B23: Dologi kiadások és egyéb folyó kiadások | C23: 508800 | D23: 508800 | E23: =508800+41512+71641+16500 -> 638453 | F23: =SUM(E23/D23) -> 1.2548211
B24: Ellátottak pénzbeli juttatásai
B25: Egyéb működési célú kiadások
B26: Beruházások | C26: 90000 | D26: 90000 | E26: =90000+1067 -> 91067 | F26: =SUM(E26/D26) -> 1.0118556
B27: Felújítások | C27: 142100 | D27: 142100 | E27: =142100+13140 -> 155240 | F27: =SUM(E27/D27) -> 1.0924701
B28: Egyéb felhalmozási célú kiadások - Munkáltatói kölcsön | C28: 3000 | D28: 3000 | E28: 3000 | F28: =SUM(E28/D28) -> 1
B29: Költségvetési kiadások | C29: =SUM(C21:C28) -> 4470756 | D29: =SUM(D21:D28) -> 4470756 | E29: =SUM(E21:E28) -> 4751484 | F29: =SUM(E29/D29) -> 1.0627921
A30: 3023 | B30: Választás (központi támogatás terhére)
B31: Személyi juttatások | E31: 20500
B32: Munkaadókat terhelő jár. és szociális hozzájár.adó | E32: 3560
B33: Dologi kiadások és egyéb folyó kiadások | E33: 10290
B34: Ellátottak pénzbeli juttatásai
B35: Egyéb működési célú kiadások
B36: Beruházások
B37: Felújítások
B38: Egyéb felhalmozási célú kiadások - Munkáltatói kölcsön
B39: Költségvetési kiadások | C39: =SUM(C31:C38) -> 0 | D39: =SUM(D31:D38) -> 0 | E39: =SUM(E31:E38) -> 34350
A40: 3024 | B40: Választás (saját forrás terhére)
B41: Személyi juttatások | C41: 50000 | D41: 50000 | E41: =50000+4101 -> 54101 | F41: =SUM(E41/D41) -> 1.08202
B42: Munkaadókat terhelő jár. és szociális hozzájár.adó | C42: 6500 | D42: 6500 | E42: =6500+754 -> 7254 | F42: =SUM(E42/D42) -> 1.116
B43: Dologi kiadások és egyéb folyó kiadások | E43: 1005
B44: Ellátottak pénzbeli juttatásai
B45: Egyéb működési célú kiadások
B46: Beruházások
B47: Felújítások
B48: Egyéb felhalmozási célú kiadások - Munkáltatói kölcsön
B49: Költségvetési kiadások | C49: =SUM(C41:C48) -> 56500 | D49: =SUM(D41:D48) -> 56500 | E49: =SUM(E41:E48) -> 62360 | F49: =SUM(E49/D49) -> 1.1037168
A50: 3025 | B50: Létesítményüzemeltetés
B51: Személyi juttatások
B52: Munkaadókat terhelő jár. és szociális hozzájár.adó
B53: Dologi kiadások és egyéb folyó kiadások
B54: Ellátottak pénzbeli juttatásai
B55: Egyéb működési célú kiadások
B56: Beruházások
B57: Felújítások
B58: Egyéb felhalmozási célú kiadások - Munkáltatói kölcsön
B59: Költségvetési kiadások | C59: =SUM(C51:C58) -> 0 | D59: =SUM(D51:D58) -> 0 | E59: =SUM(E51:E58) -> 0
A60: 3026 | B60: Informatikai működés és fejlesztés
B61: Személyi juttatások
B62: Munkaadókat terhelő jár. és szociális hozzájár.adó
B63: Dologi kiadások és egyéb folyó kiadások | C63: 108136 | D63: 108136 | E63: =108136+55828 -> 163964 | F63: =SUM(E63/D63) -> 1.5162758
B64: Ellátottak pénzbeli juttatásai
B65: Egyéb működési célú kiadások
B66: Beruházások | C66: 312755 | D66: 312755 | E66: =312755 -> 312755 | F66: =SUM(E66/D66) -> 1
B67: Felújítások
B68: Egyéb felhalmozási célú kiadások
B69: Költségvetési kiadások | C69: =SUM(C60:C66) -> 420891 | D69: =SUM(D60:D66) -> 420891 | E69: =SUM(E60:E66) -> 476719 | F69: =SUM(E69/D69) -> 1.1326424
A70: 3000 | B70: Polgármesteri Hivatal összesen:
B71: Működési költségvetési kiadások
B72: Személyi juttatások | C72: =SUM(C21+C10+C41)+C31+C61+C51 -> 3332083 | D72: =SUM(D21+D10+D41)+D31+D61+D51 -> 3332083 | E72: =SUM(E21+E10+E41)+E31+E61+E51 -> 3457779 | F72: =SUM(E72/D72) -> 1.0377229
B73: Munkaadókat terhelő jár. és szociális hozzájár.adó | C73: =SUM(C22+C11+C42)+C32+C62+C52 -> 454723 | D73: =SUM(D22+D11+D42)+D32+D62+D52 -> 454723 | E73: =SUM(E22+E11+E42)+E32+E62+E52 -> 494810 | F73: =SUM(E73/D73) -> 1.088157
B74: Dologi kiadások | C74: =SUM(C23+C12+C43)+C33+C63+C53 -> 633736 | D74: =SUM(D23+D12+D43)+D33+D63+D53 -> 633736 | E74: =SUM(E23+E12+E43)+E33+E63+E53 -> 832229 | F74: =SUM(E74/D74) -> 1.3132109
B75: Ellátottak pénzbeli juttatásai | C75: =SUM(C24+C13+C44)+C34+C64+C54 -> 0 | D75: =SUM(D24+D13+D44)+D34+D64+D54 -> 0 | E75: =SUM(E24+E13+E44)+E34+E64+E54 -> 0
B76: Egyéb működési célú kiadások | C76: =SUM(C25+C14+C45)+C35+C65+C55 -> 0 | D76: =SUM(D25+D14+D45)+D35+D65+D55 -> 0 | E76: =SUM(E25+E14+E45)+E35+E65+E55 -> 0
B77: Működési költségvetési kiadások mindösszesen | C77: =SUM(C72:C76) -> 4420542 | D77: =SUM(D72:D76) -> 4420542 | E77: =SUM(E72:E76) -> 4784818 | F77: =SUM(E77/D77) -> 1.0824053
B78: Felhalmozási költségvetési kiadások
B79: Felújítások | C79: =SUM(C27+C16)+C47+C37+C67+C57 -> 156100 | D79: =SUM(D27+D16)+D47+D37+D67+D57 -> 156100 | E79: =SUM(E27+E16)+E47+E37+E67+E57 -> 169240
B80: Beruházások | C80: =SUM(C26+C15+C66)+C46+C36+C56 -> 415755 | D80: =SUM(D26+D15+D66)+D46+D36+D56 -> 415755 | E80: =SUM(E26+E15+E66)+E46+E36+E56 -> 419245 | F80: =SUM(E80/D80) -> 1.0083944
B81: Egyéb felhalmozási célú kiadások | C81: =SUM(C28) -> 3000 | D81: =SUM(D28) -> 3000 | E81: =SUM(E28) -> 3000 | F81: =SUM(E81/D81) -> 1
B82: Felhalmozási költségvetés kiadások mindösszesen | C82: =SUM(C79:C81) -> 574855 | D82: =SUM(D79:D81) -> 574855 | E82: =SUM(E79:E81) -> 591485 | F82: =SUM(E82/D82) -> 1.028929
B83: Költségvetési kiadások mindösszesen | C83: =SUM(C77+C82) -> 4995397 | D83: =SUM(D77+D82) -> 4995397 | E83: =SUM(E77+E82) -> 5376303 | F83: =SUM(E83/D83) -> 1.0762514
B84: Kiadások összesen | C84: =SUM(C83) -> 4995397 | D84: =SUM(D83) -> 4995397 | E84: =SUM(E83) -> 5376303 | F84: =SUM(E84/D84) -> 1.0762514

Sheet 3 mell. 2. pont
A1: 3. melléklet 2. pont
A2: Az önkormányzat költségvetésében szereplő 2026. évi kiadások
G4: (eFt-ban)
C5: 2026. évi előirányzat 2/2026. | D5: 2026. évi előirányzat 5/2026. | E5: 2026. évi előirányzat ../2026. | F5: Index 5./4. | G5: Felhasználást és beszámolást koordináló
A6: Sorsz. | B6: Kiadás megnevezése | G6: bizottság
A8: 1. | B8: 2. | C8: 3. | D8: 4. | E8: 5. | F8: 6. | G8: 7.
A9: 3050 | B9: Egyéb kommunális feladatok | C9: =SUM(C19+C29+C39+C49+C59) -> 245000 | D9: =SUM(D19+D29+D39+D49+D59) -> 245000 | E9: =SUM(E19+E29+E39+E49+E59) -> 416597 | F9: =SUM(E9/D9) -> 1.7003959
A10: 3054 | B10: Közterületi növényvédelem
B11: Személyi juttatások
B12: Munkaadókat terhelő jár. és szociális hozzájár.adó
B13: Dologi kiadások és egyéb folyó kiadások | C13: 20000 | D13: 20000 | E13: 20000 | F13: =SUM(E13/D13) -> 1 | G13: Városfejlesztési Bizottság
B14: Ellátottak pénzbeli juttatásai | G14: (beszámolás)
B15: Egyéb működési célú kiadások
B16: Beruházások
B17: Felújítási kiadások
B18: Egyéb felhalmozási célú kiadások
B19: Költségvetési kiadások | C19: =SUM(C13:C18) -> 20000 | D19: =SUM(D13:D18) -> 20000 | E19: =SUM(E13:E18) -> 20000 | F19: =SUM(E19/D19) -> 1
A20: 3056 | B20: Közterületüzemeltetési egyéb feladatok
B21: Személyi juttatások
B22: Munkaadókat terhelő jár. és szociális hozzájár.adó
B23: Dologi kiadások és egyéb folyó kiadások | C23: 25000 | D23: 25000 | E23: =25000+3395 -> 28395 | F23: =SUM(E23/D23) -> 1.1358 | G23: Városfejlesztési Bizottság
B24: Ellátottak pénzbeli juttatásai | G24: (beszámolás)
B25: Egyéb működési célú kiadások
B26: Beruházások | E26: 2768
B27: Felújítási kiadások
B28: Egyéb felhalmozási célú kiadások
B29: Költségvetési kiadások | C29: =SUM(C23:C28) -> 25000 | D29: =SUM(D23:D28) -> 25000 | E29: =SUM(E23:E28) -> 31163 | F29: =SUM(E29/D29) -> 1.24652
A30: 3057 | B30: Fasorfenntartás
B31: Személyi juttatások
B32: Munkaadókat terhelő jár. és szociális hozzájár.adó
B33: Dologi kiadások és egyéb folyó kiadások | C33: 140000 | D33: 140000 | E33: =140000+144510 -> 284510 | F33: =SUM(E33/D33) -> 2.0322143 | G33: Városfejlesztési Bizottság
B34: Ellátottak pénzbeli juttatásai | G34: (beszámolás)
B35: Egyéb működési célú kiadások
B36: Beruházások
B37: Felújítási kiadások
B38: Egyéb felhalmozási célú kiadások
B39: Költségvetési kiadások | C39: =SUM(C33:C38) -> 140000 | D39: =SUM(D33:D38) -> 140000 | E39: =SUM(E33:E38) -> 284510 | F39: =SUM(E39/D39) -> 2.0322143
A40: 3058 | B40: Erdőgazdálkodás
B41: Személyi juttatások
B42: Munkaadókat terhelő jár. és szociális hozzájár.adó
B43: Dologi kiadások és egyéb folyó kiadások | C43: 10000 | D43: 10000 | E43: =10000+9438 -> 19438 | F43: =SUM(E43/D43) -> 1.9438 | G43: Városfejlesztési Bizottság
B44: Ellátottak pénzbeli juttatásai | G44: (beszámolás)
B45: Egyéb működési célú kiadások
B46: Beruházások
B47: Felújítási kiadások
B48: Egyéb felhalmozási célú kiadások | C48: 0 | D48: 0 | E48: 0
B49: Költségvetési kiadások | C49: =SUM(C43:C48) -> 10000 | D49: =SUM(D43:D48) -> 10000 | E49: =SUM(E43:E48) -> 19438 | F49: =SUM(E49/D49) -> 1.9438
A50: 3059 | B50: Ferencvárosi Klímastratégia végrehajtása
B51: Személyi juttatások | E51: 972
B52: Munkaadókat terhelő jár. és szociális hozzájár.adó | E52: 126
B53: Dologi kiadások és egyéb folyó kiadások | C53: 50000 | D53: 50000 | E53: =50000+10388 -> 60388 | F53: =SUM(E53/D53) -> 1.20776 | G53: Városfejlesztési Bizottság
B54: Ellátottak pénzbeli juttatásai | G54: (beszámolás)
B55: Egyéb működési célú kiadások
B56: Beruházások
B57: Felújítási kiadások
B58: Egyéb felhalmozási célú kiadások | C58: 0 | D58: 0 | E58: 0
B59: Költségvetési kiadások | C59: =SUM(C53:C58) -> 50000 | D59: =SUM(D53:D58) -> 50000 | E59: =SUM(E51:E58) -> 61486 | F59: =SUM(E59/D59) -> 1.22972
A60: 3060 | B60: Közúti közlekedés | C60: =SUM(C70+C80) -> 43000 | D60: =SUM(D70+D80) -> 43000 | E60: =SUM(E70+E80) -> 57025 | F60: =SUM(E60/D60) -> 1.3261628
A61: 3061 | B61: Közutak üzemeltetése
B62: Személyi juttatások
B63: Munkaadókat terhelő jár. és szociális hozzájár.adó | G63: Városfejlesztési Bizottság (beszámolás)
B64: Dologi kiadások és egyéb folyó kiadások | C64: 3000 | D64: 3000 | E64: =3000+3279 -> 6279 | F64: =SUM(E64/D64) -> 2.093
B65: Ellátottak pénzbeli juttatásai | G65: József Attila Városrészi Önk. (beszámolás)
B66: Egyéb működési célú kiadások
B67: Beruházások
B68: Felújítási kiadások
B69: Egyéb felhalmozási célú kiadások
B70: Költségvetési kiadások | C70: =SUM(C62:C69) -> 3000 | D70: =SUM(D62:D69) -> 3000 | E70: =SUM(E62:E69) -> 6279 | F70: =SUM(E70/D70) -> 2.093
A71: 3071 | B71: Köztisztasági feladatok
B72: Személyi juttatások
B73: Munkaadókat terhelő jár. és szociális hozzájár.adó
B74: Dologi kiadások és egyéb folyó kiadások | C74: 25000 | D74: 25000 | E74: =25000+3746 -> 28746 | F74: =SUM(E74/D74) -> 1.14984 | G74: Városfejlesztési Bizottság
B75: Ellátottak pénzbeli juttatásai | G75: (beszámolás)
B76: Egyéb működési célú kiadások
B77: Beruházások | C77: 15000 | D77: 15000 | E77: =15000+7000 -> 22000
B78: Felújítási kiadások
B79: Egyéb felhalmozási célú kiadások | C79: 0 | D79: 0 | E79: 0
B80: Költségvetési kiadások | C80: =SUM(C74:C79) -> 40000 | D80: =SUM(D74:D79) -> 40000 | E80: =SUM(E74:E79) -> 50746 | F80: =SUM(E80/D80) -> 1.26865
A81: 3080 | B81: Egyéb kiegészítő szolgáltatás | C81: =SUM(C91) -> 30000 | D81: =SUM(D91) -> 30000 | E81: =SUM(E91) -> 32858 | F81: =SUM(E81/D81) -> 1.0952667
A82: 3081 | B82: Köztemetés
B83: Személyi juttatások
B84: Munkaadókat terhelő jár. és szociális hozzájár.adó
B85: Dologi kiadások és egyéb folyó kiadások
B86: Ellátottak pénzbeli juttatásai | C86: 30000 | D86: 30000 | E86: =30000+2858 -> 32858 | F86: =SUM(E86/D86) -> 1.0952667
B87: Egyéb működési célú kiadások
B88: Beruházások
B89: Felújítási kiadások
B90: Egyéb felhalmozási célú kiadások
B91: Költségvetési kiadások | C91: =SUM(C83:C90) -> 30000 | D91: =SUM(D83:D90) -> 30000 | E91: =SUM(E83:E90) -> 32858 | F91: =SUM(E91/D91) -> 1.0952667
A92: 3130 | B92: Önkormányzati vagyon gazdálkodásával kapcs. feladatok | C92: =SUM(C93+C144) -> 1538699 | D92: =SUM(D93+D144) -> 1538699 | E92: =SUM(E93+E144) -> 1572302 | F92: =SUM(E92/D92) -> 1.0218386
A93: 3110 | B93: Önkormányzati vagyon gazd. kapcs. feladatok - általános | C93: =SUM(C103+C123+C133+C113+C143) -> 1497443 | D93: =SUM(D103+D123+D133+D113+D143) -> 1497443 | E93: =SUM(E103+E123+E133+E113+E143) -> 1527732 | F93: =SUM(E93/D93) -> 1.0202271
A94: 3111 | B94: Lakáslemondás térítés, lakásbiztosíték visszafizetés
B95: Személyi juttatások
B96: Munkaadókat terhelő jár. és szociális hozzájár.adó
B97: Dologi kiadások és egyéb folyó kiadások | G97: Gazdasági Bizottság
B98: Ellátottak pénzbeli juttatásai | G98: (beszámolás)
B99: Egyéb működési célú kiadások
B100: Beruházások
B101: Felújítási kiadások
B102: Egyéb felhalmozási célú kiadások | C102: 1200000 | D102: 1200000 | E102: =1200000 -> 1200000 | F102: =SUM(E102/D102) -> 1
...

Sheet 3 mell 3. pont
A1: 3. melléklet 3. pont
A2: Az önkormányzat költségvetésében szereplő támogatások 2026. évi kiadásai
G4: (eFt-ban)
C5: 2026. évi előirányzat 2/2026. | D5: 2026. évi előirányzat 5/2026. | E5: 2026. évi előirányzat ../2026. | F5: Index 5./4. | G5: Felhasználást és beszámolást koordináló
A6: Sorsz. | B6: Feladat megnevezése | G6: bizottság
A8: 1. | B8: 2. | C8: 3. | D8: 4. | E8: 5. | F8: 6. | G8: 7.
B9: Egyéb általános szolgáltatások
A10: 3911 | B10: Társasházak támogatása | C10: 27000 | D10: 27000 | E10: =27000+53 -> 27053 | F10: =SUM(E10/D10) -> 1.001963
A11: 3910 | B11: Összesen | C11: =SUM(C10:C10) -> 27000 | D11: =SUM(D10:D10) -> 27000 | E11: =SUM(E10:E10) -> 27053 | F11: =SUM(E11/D11) -> 1.001963
B12: Közrend és közbiztonság, közösségi szolgáltatások
A13: 3923 | B13: Polgárőr Egyesület támogatása | C13: 5000 | D13: 5000 | E13: 5000 | F13: =SUM(E13/D13) -> 1
A14: 3924 | B14: IX. kerületi Rendőrkapitányság támogatása | C14: 30000 | D14: 30000 | E14: =30000+750 -> 30750 | F14: =SUM(E14/D14) -> 1.025
A15: 3925 | B15: FEV IX. Zrt. támogatása | C15: 232410 | D15: 232410 | E15: 232410 | F15: =SUM(E15/D15) -> 1 | G15: Városfejlesztési Biz.,Gazdasági Biz. (beszámolás)
A16: 3926 | B16: Tűzoltóság támogtása | C16: 3000 | D16: 3000 | E16: =3000+2000 -> 5000 | F16: =SUM(E16/D16) -> 1.6666667
B17: ebből Egyéb működési célú kiadások | E17: 2000
A18: 3927 | B18: Faültetés támogatása | C18: 5000 | D18: 5000 | E18: 5000 | F18: =SUM(E18/D18) -> 1 | G18: Városfejlesztési Bizottság (beszámolás)
A19: 3928 | B19: Társasház felújítási pályázat | C19: =C21+C22+C23 -> 219000 | D19: =D21+D22+D23 -> 219000 | E19: =E21+E22+E23 -> 419706 | F19: =SUM(E19/D19) -> 1.9164658 | G19: Városfejlesztési Bizottság
B20: ebből:társasházak lépcsőházi kamerák támogatása | C20: =SUM(C21:C22) -> 19000 | D20: =SUM(D21:D22) -> 19000 | E20: =SUM(E21:E22) -> 19000 | F20: =SUM(E20/D20) -> 1
B21: Dologi kiadások | C21: 14000 | D21: 14000 | E21: 14000 | F21: =SUM(E21/D21) -> 1
B22: Beruházási kiadások | C22: 5000 | D22: 5000 | E22: 5000 | F22: =SUM(E22/D22) -> 1
B23: Egyéb felhalmozási célú kiadások | C23: 200000 | D23: 200000 | E23: =200000+200706 -> 400706 | F23: =SUM(E23/D23) -> 2.00353
A24: 3920 | B24: Összesen | C24: =C13+C14+C15+C16+C18+C19 -> 494410 | D24: =D13+D14+D15+D16+D18+D19 -> 494410 | E24: =E13+E14+E15+E16+E18+E19 -> 697866 | F24: =SUM(E24/D24) -> 1.4115127
B25: Oktatás
A26: 3931 | B26: Bursa Hungarica | C26: 2000 | D26: 2000 | E26: =2000+125 -> 2125 | F26: =SUM(E26/D26) -> 1.0625 | G26: Kulturális Bizottság (beszámolás)
A27: 3932 | B27: Deák Alapítvány | C27: 15000 | D27: 15000 | E27: 15000 | F27: =SUM(E27/D27) -> 1 | G27: Kulturális Bizottság (beszámolás)
A28: 3934 | B28: Tanoda támogatás | F28: =SUM(E28/D28) -> #DIV/0!
A30: 3930 | B30: Összesen | C30: =SUM(C26:C29) -> 17000 | D30: =SUM(D26:D29) -> 17000 | E30: =SUM(E26:E29) -> 17125 | F30: =SUM(E30/D30) -> 1.0073529
B31: Egészszégügy, szociális védelem
A32: 3941 | B32: FESZOFE kiemelkedően közhasznú Non-profit Kft működési tám. | C32: 1245480 | D32: 1245480 | E32: 1245480 | F32: =SUM(E32/D32) -> 1 | G32: Városfejl. Biz., Szoc. és Eügyi Biz., Gazdasági Biz. (beszámolás)
A33: 3943 | B33: Akadálymentesítési támogatás | C33: =SUM(C34:C36) -> 1000 | D33: =SUM(D34:D36) -> 1000 | E33: =SUM(E34:E36) -> 1000 | F33: =SUM(E33/D33) -> 1 | G33: Szociális és egészségügyi Bizottság (beszámolás)
B34: Személyi juttatás | C34: 442 | D34: 442 | E34: 442
B35: Munkaadókat terhelő járulékok | C35: 58 | D35: 58 | E35: 58
B36: Egyéb felhalmozási célú kiadások | C36: 500 | D36: 500 | E36: 500
A37: 3940 | B37: Összesen: | C37: =SUM(C32:C33) -> 1246480 | D37: =SUM(D32:D33) -> 1246480 | E37: =SUM(E32:E33) -> 1246480 | F37: =SUM(E37/D37) -> 1
B38: Szabadidő, sport, kultúra, vallás
A39: 3961 | B39: Zeneművészeti szervezetek támogatása | C39: 0 | D39: 0 | E39: 313826
A40: 3972 | B40: Kulturális tevékenység, egyházi és civil szerv.támog támogatása | C40: 50000 | D40: 50000 | E40: =E42+E43 -> 53259 | F40: =SUM(E40/D40) -> 1.06518 | G40: Kulturális Bizottság, Szociális és Egészségügyi Bizottság
B41: Dologi kiadások
B42: Egyéb működési célú kiadások | C42: 48000 | D42: 48000 | E42: =48000+3259 -> 51259
B43: Egyéb felhalmozási célú kiadások | C43: 2000 | D43: 2000 | E43: 2000
A44: 3973 | B44: Irodalmi pályázat | C44: =C45+C46+C47 -> 12391 | D44: =D45+D46+D47 -> 12391 | E44: =E45+E46+E47 -> 13908 | F44: =SUM(E44/D44) -> 1.1224276
B45: Személyi juttatás | C45: 10202 | D45: 10202 | E45: =10202+1235 -> 11437 | F45: =SUM(E45/D45) -> 1.1210547
B46: Munkaadókat terhelő járulékok | C46: 1946 | D46: 1946 | E46: =1946+282 -> 2228 | F46: =SUM(E46/D46) -> 1.1449126
B47: Dologi kiadások | C47: 243 | D47: 243 | E47: 243
A48: 3974 | B48: Zenei pályázat | C48: 5100 | D48: 5100 | E48: 5100 | F48: =SUM(E48/D48) -> 1
A49: 3975 | B49: Konkáv Közösségi tér - Köztes átmenetek Nonprofit Kft. | C49: 15000 | D49: 15000 | E49: 15000 | F49: =SUM(E49/D49) -> 1
A50: 3970 | B50: Összesen | C50: =C39+C40+C44+C49+C48 -> 82491 | D50: =D39+D40+D44+D49+D48 -> 82491 | E50: =E39+E40+E44+E49+E48 -> 401093 | F50: =SUM(E50/D50) -> 4.8622638
B51: Nemzetiségi közfeladatok ellátása és támogatása
A52: 3989 | B52: Nemzetiségi önkormányzatok pályázati támogatása | C52: 6000 | D52: 6000 | E52: 6000 | F52: =SUM(E52/D52) -> 1 | G52: Kulturális Bizottság
A53: 3987 | B53: Ruszin Nemzetiségi Önkormányzat | C53: 900 | D53: 900 | E53: 900 | F53: =SUM(E53/D53) -> 1
A54: 3988 | B54: Horvát Nemzetiségi Önkormányzat | C54: 900 | D54: 900 | E54: 900 | F54: =SUM(E54/D54) -> 1
A55: 3990 | B55: Bolgár Nemzetiségi Önkormányzat | C55: 1000 | D55: 1000 | E55: 1000 | F55: =SUM(E55/D55) -> 1
A56: 3991 | B56: Roma Nemzetiségi Önkormányzat | C56: 4820 | D56: 4820 | E56: 4820 | F56: =SUM(E56/D56) -> 1
A57: 3992 | B57: Görög Nemzetiségi Önkormányzat | C57: 1400 | D57: 1400 | E57: 1400 | F57: =SUM(E57/D57) -> 1
A58: 3993 | B58: Német Nemzetiségi Önkormányzat | C58: 900 | D58: 900 | E58: 900 | F58: =SUM(E58/D58) -> 1
A59: 3994 | B59: Örmény Nemzetiségi Önkormányzat | C59: 900 | D59: 900 | E59: 900 | F59: =SUM(E59/D59) -> 1
A60: 3995 | B60: Román Nemzetiségi Önkormányzat
A61: 3997 | B61: Szerb Nemzetiségi Önkormányzat | C61: 900 | D61: 900 | E61: 900 | F61: =SUM(E61/D61) -> 1
A62: 3998 | B62: Szlovák Nemzetiségi Önkormányzat | C62: 900 | D62: 900 | E62: 900 | F62: =SUM(E62/D62) -> 1
A63: 3999 | B63: Ukrán Nemzetiségi Önkormányzat | C63: 1000 | D63: 1000 | E63: 1000 | F63: =SUM(E63/D63) -> 1
B64: Összesen | C64: =SUM(C52:C63) -> 19620 | D64: =SUM(D52:D63) -> 19620 | E64: =SUM(E52:E63) -> 19620 | F64: =SUM(E64/D64) -> 1
A65: 3900 | B65: Támogatások összesen: | C65: =C37+C24+C11+C30+C50+C64 -> 1887001 | D65: =D37+D24+D11+D30+D50+D64 -> 1887001 | E65: =E37+E24+E11+E30+E50+E64 -> 2409237 | F65: =SUM(E65/D65) -> 1.2767545
B66: Személyi juttatás | C66: =SUM(C34)+C45 -> 10644 | D66: =SUM(D34)+D45 -> 10644 | E66: =SUM(E34)+E45 -> 11879 | F66: =SUM(E66/D66) -> 1.1160278
B67: Munkaadókat terhelő járulékok és szociális hozzájárulási adó | C67: =SUM(C35)+C46 -> 2004 | D67: =SUM(D35)+D46 -> 2004 | E67: =SUM(E35)+E46 -> 2286 | F67: =SUM(E67/D67) -> 1.1407186
B68: Dologi kiadások | C68: =SUM(C21)+C41+C47 -> 14243 | D68: =SUM(D21)+D41+D47 -> 14243 | E68: =SUM(E21)+E41+E47 -> 14243 | F68: =SUM(E68/D68) -> 1
B69: Egyéb működési célú kiadások | C69: =SUM(C11+C24+C30+C37+C50+C64)-C73-C66-C67-C68-C72 -> 1617610 | D69: =SUM(D11+D24+D30+D37+D50+D64)-D73-D66-D67-D68-D72 -> 1617610 | E69: =SUM(E11+E24+E30+E37+E50+E64)-E73-E66-E67-E68-E72 -> 1937570 | F69: =SUM(E69/D69) -> 1.197798
B70: ebből államháztartáson belüli | C70: =C14+C16+C26+C27+C64 -> 69620 | D70: =D14+D16+D26+D27+D64 -> 69620 | E70: =E14+E16+E26+E27+E64+2000 -> 74495 | F70: =SUM(E70/D70) -> 1.070023
B71: államháztartáson kívüli | C71: =C69-C70 -> 1547990 | D71: =D69-D70 -> 1547990 | E71: =E69-E70 -> 1863075 | F71: =SUM(E71/D71) -> 1.2035446
B72: Beruházási kiadások | C72: =SUM(C22) -> 5000 | D72: =SUM(D22) -> 5000 | E72: =SUM(E22) -> 5000 | F72: =SUM(E72/D72) -> 1
B73: Egyéb felhalmozási célú kiadások (Államháztartáson kívülre) | C73: =SUM(C10+C23+C36+C16+C18)+C43 -> 237500 | D73: =SUM(D10+D23+D36+D16+D18)+D43 -> 237500 | E73: =SUM(E10+E23+E36+E16+E18)+E43-2000 -> 438259 | F73: =SUM(E73/D73) -> 1.8453011
B74: Működési és felhalmozási költségvetési kiadások mindösszesen | C74: =SUM(C11+C24+C30+C37+C50+C64) -> 1887001 | D74: =SUM(D11+D24+D30+D37+D50+D64) -> 1887001 | E74: =SUM(E11+E24+E30+E37+E50+E64) -> 2409237 | F74: =SUM(E74/D74) -> 1.2767545

Sheet 4.mell.
A1: 4. melléklet
A2: 2026. évi felújítások (felújítási kiadások, egyéb felhalmozási célú kiadások és egyéb felújítási munkákhoz kapcsolódó kiadások)
G3: (eFt-ban)
C4: 2026. évi előirányzat 2/2026. | D4: 2026. évi előirányzat 5/2026. | E4: 2026. évi előirányzat ../2026. | F4: Index 5./4.
A5: Sorsz. | B5: Feladat megnevezése | G5: Felhasználást beszámolást koordináló
G6: bizottság
A7: 1. | B7: 2. | C7: 3. | D7: 4. | E7: 5. | F7: 6. | G7: 7.
B8: I. Önkormányzati felújítások
B9: Egyéb kommunális feladatok
A10: 4010 | B10: Ifjúmunkás utca 28-30 Sportpályák felújítása
A11: 4012 | B11: Haller park felújítás | C11: 230000 | D11: 230000 | E11: 230000 | F11: =SUM(E11/D11) -> 1 | G11: Városfejlesztési Bizottság (beszámolás)
A12: 4014 | B12: Játszóterek, műfüves és sportpályák, fitness eszközök, zöldf. felúj., | C12: 197932 | D12: 197932 | E12: 197932 | F12: =SUM(E12/D12) -> 1 | G12: Városfejlesztési Bizottság, József A. Városrészi Önk.
A13: 4015 | B13: Ifjúmunkás u. útburkolat felújítása
A14: 4016 | B14: Thaly passzázs közvilágítás | C14: 10000 | D14: 10000 | E14: 10000 | F14: =SUM(E14/D14) -> 1
A15: 4018 | B15: Utak felújítása, javítása | C15: 300000 | D15: 300000 | E15: 300000 | F15: =SUM(E15/D15) -> 1
A16: 4019 | B16: Járdák felújítása | C16: 120000 | D16: 120000 | E16: 120000 | F16: =SUM(E16/D16) -> 1
A17: 4021 | B17: Egyéb közterületek felújítása, fejlesztése | C17: 204732 | D17: 204732 | E17: 204732 | F17: =SUM(E17/D17) -> 1
B18: Dologi kiadások
B19: Beruházások
B20: Felújítási kiadások
A21: 4022 | B21: Kutyafuttatók felújítása | C21: 20000 | D21: 20000 | E21: 20000 | F21: =SUM(E21/D21) -> 1
A22: 4023 | B22: Lónyay u. 26 buszmegálló felújítása | C22: 17000 | D22: 17000 | E22: 17000 | F22: =SUM(E22/D22) -> 1
A23: 4010 | B23: Egyéb kommunális feladatok összesen | C23: =SUM(C11:C22) -> 1099664 | D23: =SUM(D11:D22) -> 1099664 | E23: =SUM(E11:E22) -> 1099664 | F23: =SUM(E23/D23) -> 1
B24: Önkormányzati vagyonnal való gazdálkodás - Ingatlanügyek
A25: 4114 | B25: Önkormányzati lakóházak tetőfelújítás | C25: 144000 | D25: 144000 | E25: 144000 | F25: =SUM(E25/D25) -> 1
A26: 4121 | B26: Felújításokkal kapcsolatos tervezések | C26: 179884 | D26: 179884 | E26: 179884 | F26: =SUM(E26/D26) -> 1 | G26: Városfejlesztési Biz, József A. Városr. Önk. (beszámolás)
B27: Dologi kiadások
B28: Beruházások
B29: Felújítási kiadások
A30: 4126 | B30: Önkormányzati lakások komfortosítása, lakások és helyiségek felújítása | C30: 252175 | D30: 252175 | E30: 252175 | F30: =SUM(E30/D30) -> 1
B31: Dologi kiadások
B32: Felújítási kiadások
A33: 4153 | B33: Tartószerkezeti statikai vizsgálatok | C33: 25000 | D33: 25000 | E33: 25000 | F33: =SUM(E33/D33) -> 1
A34: 4154 | B34: Tartószerkezeti statikai felújítások | C34: 462527 | D34: 462527 | E34: 462527 | F34: =SUM(E34/D34) -> 1
A35: 4155 | B35: Balázs Béla utca 27/B lakóépület felújítása | C35: 30451 | D35: 30451 | E35: 30451 | F35: =SUM(E35/D35) -> 1
A36: 4156 | B36: Állagmegőrző felújítások | C36: 188000 | D36: 188000 | E36: 188000 | F36: =SUM(E36/D36) -> 1
A37: 4158 | B37: Gát u. 23-25. tervezés | C37: 2071 | D37: 2071 | E37: 2071 | F37: =SUM(E37/D37) -> 1
A38: 4159 | B38: Marhagödör és Vágó utcai felújítás | C38: 492222 | D38: 492222 | E38: 492222 | F38: =SUM(E38/D38) -> 1
A39: 4160 | B39: Márton utca 8. Lakóház felújítás | C39: 1950655 | D39: 1950655 | E39: =1950655+100000 -> 2050655 | F39: =SUM(E39/D39) -> 1.0512648
A40: 4161 | B40: Ügyfélszolgálati Iroda felújítás
A41: 4162 | B41: Haller u. 54. felújítás tervezés | C41: 67056 | D41: 67056 | E41: 67056 | F41: =SUM(E41/D41) -> 1
A42: 4163 | B42: Lenhossék u. 5. Felújítás tervezés | C42: 80000 | D42: 80000 | E42: 80000 | F42: =SUM(E42/D42) -> 1
A43: 4164 | B43: Gát u. 23-25 építés | C43: 2165386 | D43: 2165386 | E43: 2165386 | F43: =SUM(E43/D43) -> 1
A44: 4165 | B44: Haller u. 54. építés | C44: 1000000 | D44: 1000000 | E44: =1000000+296208+6780 -> 1302988 | F44: =SUM(E44/D44) -> 1.302988
A45: 4166 | B45: József Attila Skanzen tervpályázat | C45: 30000 | D45: 30000 | E45: 30000 | F45: =SUM(E45/D45) -> 1
A46: 4167 | B46: Lenhossék 12 - Gát 14 felújítás tervezés | C46: 120000 | D46: 120000 | E46: 120000 | F46: =SUM(E46/D46) -> 1
B47: R e h a b i l i t á c i ó ö s s z e s e n : | C47: =SUM(C25:C46) -> 7189427 | D47: =SUM(D25:D46) -> 7189427 | E47: =SUM(E25:E46) -> 7592415 | F47: =SUM(E47/D47) -> 1.0560529
A48: 4131 | B48: Veszélyelhárítás | C48: 24278 | D48: 24278 | E48: 24278 | F48: =SUM(E48/D48) -> 1 | G48: Városfejlesztési Bizottság (beszámolás)
B49: Dologi kiadások
B50: Felújítási kiadások
A51: 4132 | B51: Nem önkormányzati tulajdonú lakóépületek veszélyelhárítása | C51: 47121 | D51: 47121 | E51: 47121 | F51: =SUM(E51/D51) -> 1 | G51: Városfejlesztési Bizottság (beszámolás)
A52: 4137 | B52: Sobieski u. 3-9 épületek bontása | C52: 241156 | D52: 241156 | E52: 241156 | F52: =SUM(E52/D52) -> 1
A53: 4141 | B53: Településrendezési eszközök | C53: 110166 | D53: 110166 | E53: 110166 | F53: =SUM(E53/D53) -> 1 | G53: Városfejlesztési Bizottság (beszámolás)
B54: Személyi juttatások
B55: Munkaadókat terhelő jár. és szociális hozzájár.adó
B56: Beruházások
B57: Felújítási kiadások
A58: 4100 | B58: Összesen: | C58: =SUM(C47+C48+C51+C53+C52) -> 7612148 | D58: =SUM(D47+D48+D51+D53+D52) -> 7612148 | E58: =SUM(E47+E48+E51+E53+E52) -> 8015136 | F58: =SUM(E58/D58) -> 1.0529401
A59: 4200 | B59: Óvodák, oktatási, szociális és kulturális intézmények összesen
B60: Egészségügy, szociális védelem, szabadidő
A61: 4312 | B61: Csengettyű utcai rendelő | F61: =SUM(E61/D61) -> #DIV/0!
A62: 4313 | B62: Lónyay u. 19. orvosi rendelő nyílászáró | F62: =SUM(E62/D62) -> #DIV/0!
A63: 4323 | B63: Bölcsőde konyha felújítása | F63: =SUM(E63/D63) -> #DIV/0!
A64: 4311 | B64: Börzsöny u. 19. sz. orvosi rendelő felújítása
A65: 4312 | B65: Csengettyű utca 23. orvosi rendelő felújítása
A66: 4313 | B66: Üllői út 65-67. orvosi rendelő felújtása | C66: 1690 | D66: 1690 | E66: 1690 | F66: =SUM(E66/D66) -> 1
A67: 4329 | B67: Orvosi rendelők felújítása | C67: 30000 | D67: 30000 | E67: 30000 | F67: =SUM(E67/D67) -> 1
A68: 4300 | B68: Egészségügy, szociális védelem, szabadidő összesen | C68: =SUM(C61:C66)+C67 -> 31690 | D68: =SUM(D61:D66)+D67 -> 31690 | E68: =SUM(E61:E66)+E67 -> 31690 | F68: =SUM(E68/D68) -> 1
B69: I. Önkormányzati felújítások összesen: | C69: =SUM(C68+C59+C58+C23) -> 8743502 | D69: =SUM(D68+D59+D58+D23) -> 8743502 | E69: =SUM(E68+E59+E58+E23) -> 9146490 | F69: =SUM(E69/D69) -> 1.04609
B70: Működési költségvetési kiadások
B71: Személyi juttatások | C71: =C54 -> 0 | D71: =D54 -> 0 | E71: =E54 -> 0
B72: Munkaadókat terhelő járulékok | C72: =C55 -> 0 | D72: =D55 -> 0 | E72: =E55 -> 0
B73: Dologi kiadások
B74: Egyéb működési célú kiadások
B75: Működési költségvetési kiadások mindösszesen | C75: =SUM(C71:C74) -> 0 | D75: =SUM(D71:D74) -> 0 | E75: =SUM(E71:E74) -> 0
B76: Felhalmozási költségvetési kiadások
B77: Beruházások
B78: Felújítások | C78: =SUM(C23+C58+C59+C68)-C71-C72-C73-C74-C77-C79 -> 8696381 | D78: =SUM(D23+D58+D59+D68)-D71-D72-D73-D74-D77-D79 -> 8696381 | E78: =SUM(E23+E58+E59+E68)-E71-E72-E73-E74-E77-E79 -> 9099369 | F78: =SUM(E78/D78) -> 1.0463397
B79: Egyéb felhalmozási célú kiadások | C79: =SUM(C51) -> 47121 | D79: =SUM(D51) -> 47121 | E79: =SUM(E51) -> 47121 | F79: =SUM(E79/D79) -> 1
B80: Felhalmozási költségvetési kiadások mindösszesen | C80: =SUM(C77:C79) -> 8743502 | D80: =SUM(D77:D79) -> 8743502 | E80: =SUM(E77:E79) -> 9146490 | F80: =SUM(E80/D80) -> 1.04609
B81: Kiadások mindösszesen | C81: =SUM(C75+C80) -> 8743502 | D81: =SUM(D75+D80) -> 8743502 | E81: =SUM(E75+E80) -> 9146490 | F81: =SUM(E81/D81) -> 1.04609

Sheet 5.mell. 
A1: 5. melléklet
A2: 2026. évi beruházási, fejlesztési kiadások
G4: (eFt-ban)
C5: 2026. évi előirányzat 2/2026. | D5: 2026. évi előirányzat 5/2026. | E5: 2026. évi előirányzat ../2026. | F5: Index 5./4. | G5: Felhasználást és beszámolást koordináló
A6: Sorsz. | B6: Feladat megnevezése | G6: bizottság
A8: 1. | B8: 2. | C8: 3. | D8: 4. | E8: 5. | F8: 6. | G8: 7.
B9: I. Önkormányzati beruházások összesen
B10: Egyéb kommunális feladatok
A11: 5002 | B11: Ifjúmunkás utca 32. Fitnesz park | C11: 24607 | D11: 24607 | E11: 24607 | F11: =SUM(E11/D11) -> 1
A12: 5004 | B12: MÁV csatornázás | C12: 50000 | D12: 50000 | E12: 50000 | F12: =SUM(E12/D12) -> 1
A13: 5005 | B13: Közlekedésbiztonsági fejlesztés | C13: 51179 | D13: 51179 | E13: 51179 | F13: =SUM(E13/D13) -> 1
A14: 5008 | B14: Tinódi parkba illemhelyiség
A15: 5010 | B15: Neon Park | C15: 20000 | D15: 20000 | E15: 20000 | F15: =SUM(E15/D15) -> 1
A16: 5012 | B16: Belső-Ferencváros akadálymentesítés | C16: 208284 | D16: 208284 | E16: 208284 | F16: =SUM(E16/D16) -> 1
A17: 5013 | B17: Zöldfelületi kataszter, fakataszter elkészítése | C17: 1258 | D17: 1258 | E17: 1258 | F17: =SUM(E17/D17) -> 1 | G17: Városfejlesztési Biz., József A. Városrészi Önk. (beszámolás)
B18: Dologi kiadások
A19: 5014 | B19: Faültetés | C19: 71502 | D19: 71502 | E19: 71502 | F19: =SUM(E19/D19) -> 1 | G19: Városfejlesztési Biz., József A. Városrészi Önk. (beszámolás)
A20: 5015 | B20: Kerékpáros infr. tervezés, kiépítés, fejlesztés, okosbicikli tárolók | C20: 16192 | D20: 16192 | E20: 16192 | F20: =SUM(E20/D20) -> 1 | G20: Városfejlesztési Biz., József A. Városrészi Önk. (beszámolás)
B21: Dologi kiadások
B22: Beruházások
A23: 5016 | B23: Közterületi takarítógépek beszerzése | C23: 60000 | D23: 60000 | E23: 60000 | F23: =SUM(E23/D23) -> 1 | G23: Városfejlesztési Bizottság
A24: 5019 | B24: Pöttyös utcai metró felszíni rendezés | C24: 30508 | D24: 30508 | E24: 30508 | F24: =SUM(E24/D24) -> 1
B25: Dologi kiadások
B26: Beruházások
A27: 5010 | B27: Összesen: | C27: =SUM(C11:C26) -> 533530 | D27: =SUM(D11:D26) -> 533530 | E27: =SUM(E11:E26) -> 533530 | F27: =SUM(E27/D27) -> 1
B28: Önkormányzati vagyonnal való gazdálkodás
A29: 5023 | B29: Ecseri úti metró megálló felszíni rendezése | C29: 916601 | D29: 916601 | E29: 916601 | F29: =SUM(E29/D29) -> 1
B30: Dologi kiadások
B31: Beruházások
A32: 5026 | B32: Új önkormányzati bérház építés-tervezés | C32: 150000 | D32: 150000 | E32: 150000
A33: 5020 | B33: Összesen: | C33: =+C29+C32 -> 1066601 | D33: =+D29+D32 -> 1066601 | E33: =+E29+E32 -> 1066601 | F33: =SUM(E33/D33) -> 1
B34: Közrend, közbiztonság
A35: 5033 | B35: Térfigyelő rendszer fejlesztése | C35: 73302 | D35: 73302 | E35: 73302 | F35: =SUM(E35/D35) -> 1 | G35: Városfejlesztési Biz., József A. Városrészi Önk.
B36: Dologi kiadások
B37: Beruházások
A38: 5034 | B38: Okososzlop telepítése | E38: 10000
A39: 5030 | B39: Összesen: | C39: =SUM(C35) -> 73302 | D39: =SUM(D35) -> 73302 | E39: =SUM(E38,E35) -> 83302 | F39: =SUM(E39/D39) -> 1.1364219
B40: Egészségügy, szoc.,szabadidő, sport, kultúra, oktatás, vallás
A41: 5051 | B41: Egészséges utcák - Viola utca | C41: 69767 | D41: 69767 | E41: 69767 | F41: =SUM(E41/D41) -> 1
A42: 5052 | B42: Egészséges utcák - Sobieski utca | C42: 62704 | D42: 62704 | E42: 62704 | F42: =SUM(E42/D42) -> 1
A43: 5053 | B43: Egészséges utcák - Ipar utca | C43: 52136 | D43: 52136 | E43: 52136 | F43: =SUM(E43/D43) -> 1
A44: 5054 | B44: Egészséges utcák - Angyal utca | C44: 28551 | D44: 28551 | E44: 28551 | F44: =SUM(E44/D44) -> 1
A45: 5055 | B45: FESZ új épületbe beszerzések | C45: 0
A46: 5062 | B46: Óvodafejlesztés | C46: 1468283 | D46: =1468283 -> 1468283 | E46: =1468283 -> 1468283 | F46: =SUM(E46/D46) -> 1
B47: Személyi juttatások
B48: Munkaadókat terhelő járulékok és szociális hozzájárulási adó
B49: Dologi kiadások
B50: Beruházások
A51: 5060 | B51: Összesen: | C51: =SUM(C41:C50) -> 1681441 | D51: =SUM(D41:D50) -> 1681441 | E51: =SUM(E41:E50) -> 1681441 | F51: =SUM(E51/D51) -> 1
B52: I. Önkormányzati beruházások összesen | C52: =SUM(C39+C33+C27+C51) -> 3354874 | D52: =SUM(D39+D33+D27+D51) -> 3354874 | E52: =SUM(E39+E33+E27+E51) -> 3364874 | F52: =SUM(E52/D52) -> 1.0029807
B53: Működési költségvetési kiadások
B54: Személyi juttatások
B55: Munkaadókat terhelő járulékok és szociális hozzájárulási adó
B56: Dologi kiadások | C56: =C18+C25+C30+C36+C21 -> 0 | D56: =D18+D25+D30+D36+D21 -> 0 | E56: =E18+E25+E30+E36+E21 -> 0
B57: Egyéb működési célú kiadások
B58: Működési költségvetési kiadások mindösszesen | C58: =SUM(C54:C57) -> 0 | D58: =SUM(D54:D57) -> 0 | E58: =SUM(E54:E57) -> 0
B59: Felhalmozási költségvetési kiadások
B60: Felújítások
B61: Beruházások (2.mell.,3.A mell.,3.B., 3/C, 3/D, 4. mell.nélkül) | C61: =SUM(C39+C33+C27+C51)-C56-C54-C55-C62-C60 -> 3354874 | D61: =SUM(D39+D33+D27+D51)-D56-D54-D55-D62-D60 -> 3354874 | E61: =SUM(E39+E33+E27+E51)-E56-E54-E55-E62-E60 -> 3364874 | F61: =SUM(E61/D61) -> 1.0029807
B62: Egyéb felhalmozási célú kiadások
B63: Felhalmozási költségvetési kiadások mindösszesen | C63: =SUM(C60:C62) -> 3354874 | D63: =SUM(D60:D62) -> 3354874 | E63: =SUM(E60:E62) -> 3364874 | F63: =SUM(E63/D63) -> 1.0029807
B64: Kiadások mindösszesen | C64: =SUM(C39+C33+C27+C51) -> 3354874 | D64: =SUM(D39+D33+D27+D51) -> 3354874 | E64: =SUM(E39+E33+E27+E51) -> 3364874 | F64: =SUM(E64/D64) -> 1.0029807

Sheet 6.mell. 
A1: 6.melléklet
A3: Az önkormányzat költségvetésében szereplő 2026. évi tartalékok
E6: (eFt-ban)
A7: Sorsz. | B7: Megnevezés | C7: 2026. évi előirányzat 2/2026. | D7: 2026. évi előirányzat 5/2026. | E7: 2026. évi előirányzat ../2026.
A10: 1. | B10: 2. | C10: 3. | D10: 4. | E10: 5.
A12: 6110 | B12: Általános tartalék - egyéb működési célú kiadás | C12: 350000 | D12: 350000 | E12: =350000+427404+816776-749324-10000-6780-100000-296208 -> 431868
A14: 6120 | B14: Céltartalék - egyéb működés célú kiadás | C14: =SUM(C16+C20) -> 609413 | D14: =SUM(D16+D20) -> 609413 | E14: =SUM(E16+E20) -> 609413
B16: ebből: Működési célú céltartalék | C16: =SUM(C17) -> 0 | D16: =SUM(D17) -> 0 | E16: =SUM(E17) -> 0
B20: ebből: Felhalmozási célú céltartalék | C20: =SUM(C21:C25) -> 609413 | D20: =SUM(D21:D25) -> 609413 | E20: =SUM(E21:E25) -> 609413
A21: 6135 | B21: Parkoló Alap
A22: 6141 | B22: AVICO Riverbay telekátalkítási megállapodás
A23: 6142 | B23: Fejlesztési céltartalék | C23: 409413 | D23: 409413 | E23: 409413
A24: 6143 | B24: Lónyay Property célbefizetés | C24: 200000 | D24: 200000 | E24: 200000
A26: 6100 | B26: Mindösszesen | C26: =SUM(C16+C20+C12) -> 959413 | D26: =SUM(D16+D20+D12) -> 959413 | E26: =SUM(E16+E20+E12) -> 1041281

Sheet 7.mell.
B1: 7. melléklet
B3: Többéves kihatással járó kötelezettségek
B5: További kötelezettségek | H5: (eFt-ban)
B7: Megnevezés | D7: 2026 | E7: 2027 | F7: 2028 | G7: 2029 | H7: 2030
B8: VIII. kerület Józsefváros Önkormányzata ellátási szerződés | D8: 5000 | E8: 5250 | F8: 5407.5 | G8: 5569.725 | H8: 5736.8168
B9: Küldetés Egyesület ellátási szerződés | D9: 880 | E9: 924 | F9: 951.72 | G9: 980.2716 | H9: 1009.6797
B10: Utcai Szociális Munka – Menhely Alapítvány | D10: 1540 | E10: 1617 | F10: 1665.51 | G10: 1715.4753 | H10: 1766.9396
B11: Támogató Szolgálat – Motiváció Mozgássérülteket Segítő Alapítvány | D11: 300 | E11: 315 | F11: 324.45 | G11: 334.1835 | H11: 344.209
B12: Férőhely fenntartási díj Magyar Vöröskereszt | D12: 4633 | E12: 4864.65 | F12: 5010.5895 | G12: 5160.9072 | H12: 5315.7344
B13: Pszichiátriai betegek nappali ellátása Moravcsik Alapítvány | D13: 9600 | E13: 10080 | F13: 10382.4 | G13: 10693.872 | H13: 11014.688
B14: Fogyatékos személyek nappali ellátása Gond-Viselés Kht. | D14: 2756 | E14: 2893.8 | F14: 2980.614 | G14: 3070.0324 | H14: 3162.1334
B15: Kék Pont Drogkonzultációs Központ és Drogambulancia Alapítvány | D15: 3000 | E15: 3150 | F15: 3244.5 | G15: 3341.835 | H15: 3442.0901
B16: SOS Krízis Alapítvány | D16: 1500 | E16: 1575 | F16: 1622.25 | G16: 1670.9175 | H16: 1721.045
B17: Fogyatékos személyek nappali ellátása (gyermekek) Újbuda Önkrom. | D17: 9000 | E17: 9450 | F17: 9733.5 | G17: 10025.505 | H17: 10326.27
B18: Kifli, túró rudi, tej beszerzés iskolák részére | D18: 25000 | E18: 26250 | F18: 27037.5 | G18: 27848.625 | H18: 28684.084
B19: Fővárosi Szabó Ervin könyvtár | D19: 1000 | E19: 1000 | F19: 1000 | G19: 1000 | H19: 1000
B20: Konkáv Köztes Átmenetek Nonprofit Kft. | D20: 15000 | E20: 15000 | F20: 15000
B21: Jelzőrendszeres házi segítségnyújtás | D21: 5000 | E21: 4000
B22: Forti Core Switchek (2026-ban premium support) | D22: 660 | E22: 670 | F22: 690 | G22: 710 | H22: 710
B23: Anydesk licencek | D23: 601 | E23: 650 | F23: 700 | G23: 750 | H23: 750
B24: C1 cafetéria rendszer | D24: 1016 | E24: 2000 | F24: 2000 | G24: 2000 | H24: 2000
B25: Céginfó online szolgáltatás | D25: 1300 | E25: 1300 | F25: 1300 | G25: 1300 | H25: 1300
B26: CT-Ecostat rendszertámogatás | D26: 6096 | E26: 3150 | F26: 3150 | G26: 0 | H26: 0
B27: Végpontvédelem biztosítása | D27: 4623 | E27: 4700 | F27: 4800 | G27: 4900 | H27: 4900
B28: Tűzfalak licencelése | D28: 6200 | E28: 0 | F28: 0 | G28: 6400 | H28: 6400
B29: Honlap készítés www.ferencvaros.hu címre | D29: 3556 | E29: 4000 | F29: 4100 | G29: 4200 | H29: 4200
B30: Térinformatikai rendszer biztosítása (KAPU) | D30: 4800 | E30: 5000 | F30: 5200 | G30: 5400 | H30: 5400
B31: Mapinfo Pro szoftver előfizetés | D31: 800 | E31: 900 | F31: 1000 | G31: 1100 | H31: 1100
B32: Maxi archiváló csomag | D32: 150 | E32: 160 | F32: 170 | G32: 180 | H32: 180
B33: Microsoft 365 Business Basic előfizetés | D33: 501 | E33: 550 | F33: 600 | G33: 650 | H33: 650
... B77: Közterület-felügyeleti Iroda honlapjának üzemeltetése | D77: 800 | E77: 840 | F77: 882 | G77: 926 | H77: 972
B78: Tisztítószer beszerzés | D78: 9795 | E78: 1000
B79: Hivatali szállítás (taxi) | D79: 2500 | E79: 2300
B80: Üzemanyagkártya szerződés | D80: 12000 | E80: 12000 | F80: 12000 | G80: 12000 | H80: 12000
B81: Villamos energia | D81: 35847 | E81: 37639.35 | F81: 39521.317
B82: Gázdíj | D82: 40000 | E82: 42000 | F82: 44100
B83: Térfelügyeleti kamararendszer kameráinak karbantartása (156 db +7 db) | D83: 5800 | E83: 11592
B84: Praktiker | D84: 3000 | E84: 3000
B85: Hivatali parkolás bérlés | D85: 20360 | E85: 21072.6 | F85: 21704.778
B86: Épület és vagyon biztosítás | D86: 11218 | E86: 11778.9 | F86: 12367.845
B87: Könyvvizsgálati díj | D87: 10160 | E87: 10668 | F87: 10988.04 | G87: 11317.681 | H87: 11657.212
B88: Pénzügyi tanácsadó (ÁFA) | D88: 5400 | E88: 5670 | F88: 5840.1 | G88: 6015.303 | H88: 6195.7621
B89: Semmelweis Egyetem bérl.díj Közter-f. | D89: 694 | E89: 694 | F89: 700 | G89: 700
B90: AviBike Kft Üllői út 169-179sz. Alatti kerékpártárolók üzemeltetése karbantartása | D90: 980 | E90: 989 | F90: 989 | G90: 990 | H90: 653
B91: Köztemetés | D91: 16800 | E91: 17800 | F91: 18500
B92: Hivatal őrzés | D92: 148518 | E92: 158375 | F92: 79187
B93: Mobil toalett bérleti díja | D93: 428 | E93: 428 | F93: 450 | G93: 460 | H93: 475
B94: Önkormányzat és intézményeinek belső ellenőrzése | D94: 9144
B95: Egynyári virágzó növények beszerzése | D95: 10001
B96: Pályázatok előkészítése | D96: 20000
B97: Településrendezési eszközök | D97: 35000 | E97: 16673
B98: Fasorfenntartás | D98: 284510
B99: Játszóeszközök rendszeres ellenőrzése, karbantartása, | D99: 50000
B100: Fitnesz eszközök, sporteszközök és napvitorlák rendszeres karbantartása, | D100: 25000
B101: Haller u. 54. építés | D101: 1302988 | E101: 1297012
B102: Egészséges utcák - Viola utca | D102: 69767
B103: Egészséges utcák - Sobieski utca | D103: 62704
B104: Egészséges utcák - Ipar utca | D104: 52136
B105: Egészséges utcák - Angyal utca | D105: 28551
B106: Faültetés | D106: 71502
B107: Utak, járdák karbantartása | D107: 420000
B108: Márton u. 8/a felújítás | D108: 2050655
B109: Haller park felújítás | D109: 230000
B110: Gát u. 23-25. építés | D110: 2165386
B111: Tetőfelújítás | D111: 144000

Sheet 8.mell. 
A1: 8. melléklet
A3: Az Európai Unió-s forrásokkal támogatott fejlesztések tervezett 2026. évi adatairól
J6: (eFt-ban)
A7: Sorsz. | B7: Megnevezés | D7: Tervezett költségvetési adatok | I7: 2026. évi előirányzat 2/2026. | J7: 2026. évi előirányzat .../2026.
A9: 1. | B9: CLAP Gyermekek helyi ügyekben való részvétele | D9: Bevétel | E9: Támogatás államháztartáson kívülről -működési
E10: Támogatás államháztartáson kívülről -felhalmozási
D11: Kiadások | E11: Személyi juttatások | I11: 2076 | J11: 2076
E12: Munkaadókat terhelő járulékok és szocho. | I12: 270 | J12: 270
E13: Dologi kiadások | I13: 578 | J13: 578
E14: Egyéb működési célú kiadások
E15: Beruházási kiadások
E16: Felújítási kiadások
E17: ebből önkormányzati hozzájárulás
A18: 2. | B18: Egészséges utcák - TOP_PLUSZ-4.1.1-23-BP2-2024-00003 (Angyal utca) | D18: Bevétel | E18: Támogatás államháztartáson belülről -működési
E19: Támogatás államháztartáson belülről -felhalmozási | I19: 28551 | J19: 28551
D20: Kiadások | E20: Személyi juttatások
E21: Munkaadókat terhelő járulékok és szocho.
E22: Dologi kiadások
E23: Egyéb működési célú kiadások
E24: Beruházási kiadások | I24: 28551 | J24: 28551
E25: Felújítási kiadások
E26: ebből önkormányzati hozzájárulás
A27: 3. | B27: Egészséges utcák - TOP_PLUSZ-4.1.1-23-BP2-2024-00004 (Sobieski) | D27: Bevétel | E27: Támogatás államháztartáson belülről -működési
E28: Támogatás államháztartáson belülről -felhalmozási | I28: 62704 | J28: 62704
D29: Kiadások | E29: Személyi juttatások
E30: Munkaadókat terhelő járulékok és szocho.
E31: Dologi kiadások
E32: Egyéb működési célú kiadások
E33: Beruházási kiadások | I33: 62704 | J33: 62704
E34: Felújítási kiadások
E35: ebből önkormányzati hozzájárulás
A36: 4. | B36: Egészséges utcák - TOP_PLUSZ-4.1.1-23-BP2-2024-00005 (Ipar utca) | D36: Bevétel | E36: Támogatás államháztartáson belülről -működési
E37: Támogatás államháztartáson belülről -felhalmozási | I37: 52136 | J37: 52136
D38: Kiadások | E38: Személyi juttatások
E39: Munkaadókat terhelő járulékok és szocho.
E40: Dologi kiadások
E41: Egyéb működési célú kiadások
E42: Beruházási kiadások | I42: 52136 | J42: 52136
E43: Felújítási kiadások
E44: ebből önkormányzati hozzájárulás
A45: 5. | B45: Egészséges utcák - TOP_PLUSZ-4.1.1-23-BP2-2024-00006 (Viola utca) | D45: Bevétel | E45: Támogatás államháztartáson belülről -működési
E46: Támogatás államháztartáson belülről -felhalmozási | I46: 69767 | J46: 69767
D47: Kiadások | E47: Személyi juttatások
E48: Munkaadókat terhelő járulékok és szocho.
E49: Dologi kiadások
E50: Egyéb működési célú kiadások
E51: Beruházási kiadások | I51: 69767 | J51: 69767
E52: Felújítási kiadások
E53: ebből önkormányzati hozzájárulás
A54: 4. | B54: NEXT LEVEL Parking | D54: Bevétel | E54: Támogatás államháztartáson kívülről -működési | I54: 13775 | J54: 13775
E55: Támogatás államháztartáson kívülről -felhalmozási
D56: Kiadások | E56: Személyi juttatások | I56: 7522 | J56: 8770
E57: Munkaadókat terhelő járulékok és szocho. | I57: 978 | J57: 1097
E58: Dologi kiadások | I58: 7700 | J58: 7700
E59: Egyéb működési célú kiadások
E60: Beruházási kiadások | J60: 3462
E61: Felújítási kiadások
E62: ebből önkormányzati hozzájárulás
A63: Összesen | D63: Bevétel | E63: Támogatás államháztartáson belülről -működési | I63: =SUM(I18+I27+I36+I45) -> 0 | J63: =SUM(J18+J27+J36+J45) -> 0
E64: Támogatás államháztartáson belülről -felhalmozási | I64: =SUM(I19+I28+I37+I46) -> 213158 | J64: =SUM(J19+J28+J37+J46) -> 213158
E65: Támogatás államháztartáson kívülről -működési | I65: =SUM(I9+I54) -> 13775 | J65: =SUM(J9+J54) -> 13775
E66: Támogatás államháztartáson kívülről -felhalmozási | I66: =SUM(I10+I55) -> 0 | J66: =SUM(J10+J55) -> 0
D67: Kiadások | E67: Személyi juttatások | I67: =SUM(I11+I20+I29+I38+I47+I56) -> 9598 | J67: =SUM(J11+J20+J29+J38+J47+J56) -> 10846
E68: Munkaadókat terhelő járulékok és szocho. | I68: =SUM(I12+I21+I30+I39+I48+I57) -> 1248 | J68: =SUM(J12+J21+J30+J39+J48+J57) -> 1367
E69: Dologi kiadások | I69: =SUM(I13+I22+I31+I40+I49+I58) -> 8278 | J69: =SUM(J13+J22+J31+J40+J49+J58) -> 8278
E70: Egyéb működési célú kiadások | I70: =SUM(I14+I23+I32+I41+I50+I59) -> 0 | J70: =SUM(J14+J23+J32+J41+J50+J59) -> 0
E71: Ellátottak pénzbeli juttatásai | I71: 0 | J71: 0
E72: Felújítási kiadások | I72: =SUM(I16+I25+I34+I43+I52+I61) -> 0 | J72: =SUM(J16+J25+J34+J43+J52+J61) -> 0
E73: ebből önkormányzati hozzájárulás | I73: 0 | J73: 0
E74: Beruházási kiadások | I74: =SUM(I15+I24+I33+I42+I51+I60) -> 213158 | J74: =SUM(J15+J24+J33+J42+J51+J60) -> 216620
E75: ebből önkormányzati hozzájárulás | I75: 0 | J75: 0

Sheet 9.mell.
B2: 9. melléklet
B4: 2026. évi Polgármesteri Hivatal és Intézményi engedélyezett létszámadatok
J6: (Fő)
A7: Ssz. | B7: Intézmény megnevezése (Polgármesteri Hivatalnál Irodánként) | E7: Engedélye-zett létszám összesen 2026. év | F7: Engedélyezett létszám
F8: Szakmai létszám | H8: Egyéb létszám | J8: Közfoglalkoz-tatottak létszáma
F9: Teljes munkaidős | G9: Részmun-kaidős | H9: Teljes munkaidős | I9: Részmun-kaidős
B11: Polgármesteri Hivatal összesen
A13: 1. | B13: POLGÁRMESTERI KABINET | E13: =SUM(F13+G13+H13+I13) -> 16 | F13: 12 | H13: 4
A14: 2. | B14: JEGYZŐ | E14: =SUM(F14+G14+H14+I14) -> 1 | F14: 1
A15: 3. | B15: ALJEGYZŐK | E15: =SUM(F15+G15+H15+I15) -> 2 | F15: 2
A16: 4. | B16: JEGYZŐI KABINET | E16: =SUM(F16+G16+H16+I16) -> 72.5 | F16: 48 | G16: 2.6 | H16: 20 | I16: 1.9
A17: 5. | B17: FŐÉPÍTÉSZI CSOPORT | E17: =SUM(F17+G17+H17+I17) -> 7 | F17: 7
A18: 6. | B18: GAZDASÁGI IRODA | E18: =SUM(F18+G18+H18+I18) -> 30 | F18: 27 | G18: 1 | H18: 2
A19: 7. | B19: HATÓSÁGI IRODA | E19: =SUM(F19+G19+H19+I19) -> 60 | F19: 53 | G19: 3 | H19: 4
A20: 8. | B20: HUMÁNSZOLGÁLTATÁSI IRODA | E20: =SUM(F20+G20+H20+I20) -> 21 | F20: 19 | G20: 1 | H20: 1
A21: 9. | B21: VAGYONGAZDÁLKODÁSI IRODA | E21: =SUM(F21+G21+H21+I21) -> 21 | F21: 20 | G21: 1
A22: 10. | B22: VÁROSÜZEMELTETÉSI IRODA | E22: =SUM(F22+G22+H22+I22) -> 18 | F22: 18
A23: 11. | B23: KÖZTERÜLET-FELÜGYELET | E23: =SUM(F23+G23+H23+I23) -> 55 | F23: 44 | H23: 11
B24: Mindösszesen | E24: =SUM(E13:E23) -> 303.5 | F24: =SUM(F13:F23) -> 251 | G24: =SUM(G13:G23) -> 8.6 | H24: =SUM(H13:H23) -> 42 | I24: =SUM(I13:I23) -> 1.9
A27: 15. | B27: Csicsergő Óvoda | E27: =F27+G27+H27+I27 -> 32 | F27: 32
A29: 16. | B29: Csudafa Óvoda | E29: =F29+G29+H29+I29 -> 31 | F29: 31
A31: 17. | B31: Epres Óvoda | E31: =F31+G31+H31+I31 -> 16 | F31: 16
A33: 18. | B33: Kerekerdő Óvoda | E33: =F33+G33+H33+I33 -> 69 | F33: 69
A35: 19. | B35: Kicsi Bocs Óvoda | E35: =F35+G35+H35+I35 -> 32 | F35: 32
A37: 20. | B37: Liliom Óvoda | E37: =F37+G37+H37+I37 -> 25 | F37: 25
A39: 21. | B39: Méhecske Óvoda | E39: =F39+G39+H39+I39 -> 16 | F39: 16
A41: 22. | B41: Napfény Óvoda | E41: =F41+G41+H41+I41 -> 17 | F41: 17
A43: 23. | B43: Ugrifüles Óvoda | E43: =F43+G43+H43+I43 -> 16 | F43: 16
A45: 24. | B45: Ferencvárosi Intézmény Üzemeltetés Központ | E45: =F45+G45+H45+I45 -> 166 | F45: 166
A47: 25. | B47: Ferencvárosi Egyesített Bölcsödék | E47: =F47+G47+H47+I47 -> 117 | F47: 69 | G47: 1 | H47: 47
A49: 26. | B49: FESZGYI | E49: =F49+G49+H49+I49 -> 158 | F49: 134 | H49: 24
A51: 27. | B51: FMK | E51: =F51+G51+H51+I51 -> 27 | F51: 27
A53: 28. | B53: Pinceszínház | E53: =F53+G53+H53+I53 -> 15 | F53: 15
A55: 29. | B55: Ferencvárosi Médiaszolgáltató | E55: 12 | F55: 12
A57: 30. | B57: Ferencvárosi Egészségügyi Szolgálat | E57: 243 | F57: 114 | G57: 95 | H57: 24 | I57: 10
B59: Köznevelési, szociális, kulturális, egészségügyi intézmények összesen | E59: =SUM(E27:E58) -> 992 | F59: =SUM(F27:F58) -> 791 | G59: =SUM(G27:G58) -> 96 | H59: =SUM(H27:H58) -> 95 | I59: =SUM(I27:I58) -> 10
B61: Mindösszesen: | E61: =SUM(E59+E24) -> 1295.5 | F61: =SUM(F59+F24) -> 1042 | G61: =SUM(G59+G24) -> 104.6 | H61: =SUM(H59+H24) -> 137 | I61: =SUM(I59+I24) -> 11.9 | J61: =SUM(J59+J24) -> 0

Sheet 10.mell 
A2: 10. melléklet
A3: 2026. évi közvetett támogatások
I7: (eFt-ban)
A8: Sorsz. | B8: A támogatás jellege | F8: Adókedvezmény | H8: Egyéb kedvezmény
F9: jogcím | G9: összeg | H9: jogcím | I9: összeg
A10: 1. | B10: Építményadó | F10: elengedés | G10: 200 | H10: részletfizetés | I10: 550000
A11: 2. | B11: Telekadó | F11: elengedés | G11: 150 | H11: részletfizetés | I11: 100000
A12: 3. | B12: Ellátottak térítési díja gyermekétkeztetés | H12: méltányosság | I12: 100
A13: 4. | B13: Ellátottak térítési díja személyes gondoskodás | H13: méltányosság | I13: 8500
A14: 5. | B14: Helyiség bérleti díj (nettó) | H14: közérdekű bérbeadás | I14: 126905

Sheet 11.mell
A3: 11. melléklet
B4: A helyi önkormányzat kötelező feladatai ellátásának költségvetési forrásai és kiadásai
A5: 2026. év
N7: (eFt-ban)
B8: Kötelező feladatok (Mötv. 23. § (5) bekezdés alapján) | C8: 2026. évi előirányzat …./2026. | D8: Költségvetési bevételi előirányzat | E8: Önkormányzatok működési támogatása, elvonások és befizetések | F8: Közhatalmi bevételek | G8: Saját bevétel | H8: Támogatás Áht-n belülről | J8: Átvett pénzeszköz | L8: Előző évi mar. igénybev. | M8: Felhalm. Bev. | N8: Hitelfel- vétel, kölcsön visszat. , tévi megel. Visszaf.
G9: Működési bevételek | H9: Műk. Célú | I9: Felhal. Célú | J9: Műk. Célú | K9: Felhalm. Célú
A10: 1. | B10: Helyi közutak, közterek és parkok kezelése, fejlesztése és üzemeltetése | C10: =SUM(C11:C40) -> 3782340 | D10: =SUM(E10:N10) -> 3782340 | E10: 981006 | F10: 289065 | G10: 249901 | L10: =SUM(L11:L40) -> 280949 | M10: 200000 | N10: 1781419
B11: 3054 Kerületi növényvédelem | C11: ='3 mell. 2. pont'!E19 -> 20000
B12: 3056 Közterületüzemeltetési egyéb feladatok | C12: ='3 mell. 2. pont'!E29 -> 31163 | L12: 6163
B13: 3057 Fasorfenntartás | C13: ='3 mell. 2. pont'!E39 -> 284510 | L13: 144510
B14: 3058 Erdőgazdálkodás | C14: ='3 mell. 2. pont'!E49 -> 19438 | L14: 11843
B15: 3061 Közutak üzemeltetése | C15: ='3 mell. 2. pont'!E70 -> 6279 | L15: 3279
B16: 3071 Köztisztasági feladatok | C16: ='3 mell. 2. pont'!E80 -> 50746 | L16: 18341
B17: 3112 Játszóterek karbantartása | C17: ='3 mell. 2. pont'!E113 -> 75000 | L17: 37135
B18: 3205 Környezetvédelem | C18: ='3 mell. 2. pont'!E319 -> 117576 | L18: 25682
B19: 3216 FESZOFE Nonprofit Kft | C19: ='3 mell. 2. pont'!E404 -> 437833 | L19: 33996
B20: 4010 Ifjúmunkás utca 28-30 Sportpályák felújítása | C20: =SUM('4.mell.'!E10) -> 0
B21: 4012 Haller park | C21: ='4.mell.'!E11 -> 230000
B22: 4014 Játszóterek, műfüves és sportpályák, fitness eszközök, zöldf.felúj., | C22: ='4.mell.'!E12 -> 197932
B23: 4016 Thaly passzázs közvilágítás | C23: ='4.mell.'!E14 -> 10000
B24: 4018 Utak javítása, felújítása | C24: ='4.mell.'!E15 -> 300000
B25: 4019 Járdák felújítása | C25: ='4.mell.'!E16 -> 120000
B26: 4021 Egyéb közterületek felújítása, fejlesztése | C26: ='4.mell.'!E17 -> 204732
B27: 4022 kutyafuttatóf felújítása | C27: =SUM('4.mell.'!E21) -> 20000
B28: 4023 Lónyay u. 26 buszmegálló felújítása | C28: ='4.mell.'!E22 -> 17000
B29: 5005 Közlekedésbiztonsági fejlesztés | C29: ='5.mell. '!E13 -> 51179
B30: 5002 Ifjúmunkás utca 32. Fitnesz park | C30: ='5.mell. '!E11 -> 24607
B31: 5004 MÁV csatornázás | C31: ='5.mell. '!E12 -> 50000
B32: 5012 Belső-Ferencváros akadálymentesítés | C32: =SUM('5.mell. '!E16) -> 208284
B33: 5013 Zöldfelületi kataszter, fakataszter elkészítése | C33: ='5.mell. '!E17 -> 1258
B34: 5014 Faültetés | C34: ='5.mell. '!E19 -> 71502
B35: 5015 Kerékpáros infrastruktúra tervezés, kiépítés, fejlesztés | C35: ='5.mell. '!E20 -> 16192
B36: 5016 Közterületi takarítógépek beszerzése | C36: =SUM('5.mell. '!E23) -> 60000
B37: 5019 Pöttyös utca metrófelszín | C37: ='5.mell. '!E24 -> 30508
B38: 5023 Ecseri úti metró megálló felszíni rendezés | C38: ='5.mell. '!E29 -> 916601
B39: 5034 Okososzlop telepítése | C39: 10000
B40: 6143 Lónyay Property | C40: ='6.mell. '!E24 -> 200000
A41: 2. | B41: Közterületek használatára vonatkozó szabályok és díjak megáll. | C41: =SUM(C42:C44) -> 451759 | D41: =SUM(E41:N41) -> 451759 | F41: 224745 | K41: 15000 | L41: =SUM(L42:L44) -> 212014
B42: 3911 Társasházak támogatása | C42: ='3 mell 3. pont'!E10 -> 27053 | L42: 53
B43: 3927 Faültetés támogatása | C43: ='3 mell 3. pont'!E18 -> 5000
B44: 3928 Társasház felújítási pályázat | C44: ='3 mell 3. pont'!E19 -> 419706 | L44: 211961
A45: 3. | B45: Parkolás üzemeltetése | C45: =SUM(C46:C46) -> 1693284 | D45: =SUM(E45:N45) -> 1693284 | F45: 633877 | G45: 926327 | L45: =SUM(L46:L46) -> 133080
B46: 3212 Parkolási feladatok (FEV IX. Zrt. Parkolási feladatokkal együttt) | C46: ='3 mell. 2. pont'!E383 -> 1693284 | L46: 133080
A47: 5. | B47: Helyi településrendezés, településfejlesztés | C47: =SUM(C48:C55) -> 1527219 | D47: =SUM(E47:N47) -> 1527219 | F47: 1226001 | I47: 213158 | L47: =SUM(L48:L55) -> 88060
B48: 3211 FEV IX. Zrt. | C48: ='3 mell. 2. pont'!E370 -> 1001415 | L48: 85464
B49: 3116 Magyar Máltai Szeretetszolgálat Egyesület Közz.Haszn. | C49: ='3 mell. 2. pont'!E143 -> 22596 | L49: 2596
B50: 4121 Felújításokkal kapcsolatos tervezések | C50: ='4.mell.'!E26 -> 179884
B51: 4141 Településrendezési eszközök | C51: ='4.mell.'!E53 -> 110166
B52: 5051 Egészséges utcák - Viola utca | C52: =SUM('5.mell. '!E41) -> 69767
B53: 5052 Egészséges utcák - Sobieski utca | C53: =SUM('5.mell. '!E42) -> 62704
B54: 5053 Egészséges utcák - Ipar utca | C54: =SUM('5.mell. '!E43) -> 52136
B55: 5054 Egészséges utcák - Angyal utca | C55: =SUM('5.mell. '!E44) -> 28551
A56: 6. | B56: Helyi településrendezési szabályok megalkotása | C56: 0
A57: 7. | B57: Turizmussal kapcsolatos szabályok | C57: 0
A58: 8. | B58: Ipari és keresk. tev. kapcs. szabályozási jogkörök | C58: 0
A59: 9. | B59: Egészségügyi alapell., az egészséges életmód segítését célzó szolg. | C59: =SUM(C60:C61) -> 21960 | D59: =SUM(E59:N59) -> 21960 | F59: 21000 | L59: =SUM(L60:L61) -> 960
B60: 3301 Egészségügyi prevenció | C60: ='3 mell. 2. pont'!E505 -> 18960 | L60: 960
B61: 3348 KÉK Pont | C61: ='3 mell. 2. pont'!E715 -> 3000
A62: 10. | B62: Óvodai ellátás | C62: =SUM(C63:C71) -> 2812160 | D62: =SUM(E62:N62) -> 2812160 | E62: 1864061 | F62: 870614 | H62: =SUM(H63:H71) -> 47360 | L62: =SUM(L63:L71) -> 30125
B63: 2305 Csicsergő Óvoda | C63: =SUM('2.mell'!E43) -> 355703 | H63: 5120 | L63: 3402
B64: 2309 Csudafa Óvoda | C64: =SUM('2.mell'!E78) -> 355190 | H64: 7680 | L64: 3181
B65: 2310 Epres Óvoda | C65: =SUM('2.mell'!E113) -> 182616 | H65: 2560 | L65: 2542
B66: 2325 Kicsi Bocs Óvoda | C66: =SUM('2.mell'!E183) -> 381687 | H66: 6400 | L66: 3493
B67: 2315 Kerekerdő Óvoda | C67: =SUM('2.mell'!E148) -> 679481 | H67: 10240 | L67: 7248
B68: 2330 Liliom Óvoda | C68: =SUM('2.mell'!E218) -> 281589 | H68: 5120 | L68: 2634
B69: 2335 Méhecske Óvoda | C69: =SUM('2.mell'!E253) -> 186609 | H69: 6400 | L69: 2413
B70: 2345 Napfény Óvoda | C70: =SUM('2.mell'!E288) -> 197067 | H70: 2560 | L70: 2654
B71: 2360 Ugrifüles Óvoda | C71: =SUM('2.mell'!E323) -> 192218 | H71: 1280 | L71: 2558
A72: 11. | B72: Gyermekjóléti szolgáltatások, szociális szolgált.ell. | C72: =SUM(C73:C85) -> 217444 | D72: =SUM(E72:N72) -> 217444 | F72: 198169 | H72: 8000 | L72: =SUM(L73:L85) -> 11275
B73: 3081 Köztemetés | C73: ='3 mell. 2. pont'!E91 -> 32858 | L73: 2858
B74: 3309 Lakásfenntartási támogatás | C74: =SUM('3 mell. 2. pont'!E555) -> 50000
B75: 3311 Lakbértámogatás | C75: =SUM('3 mell. 2. pont'!E565) -> 15000
B76: 3312 Rendkívüli támogatás | C76: ='3 mell. 2. pont'!E575 -> 35107 | L76: 107
B77: 3316 Adósságkezelési támogatás | C77: ='3 mell. 2. pont'!E595 -> 3000
B78: 3317 Gyógyszertámogatás | C78: ='3 mell. 2. pont'!E605 -> 35074 | L78: 74
B79: 3341 VIII. kerület Józsefváros Önkormányzata ellátási szerződés | C79: ='3 mell. 2. pont'!E645 -> 7656 | L79: 2656
B80: 3342 Küldetés Egyesület ellátási szerződés | C80: ='3 mell. 2. pont'!E655 -> 880
B81: 3345 Támogató Szolgálat (Motivácó Alapítvány) | C81: ='3 mell. 2. pont'!E685 -> 300
B82: 3346 Férőhely fenntartási díj Magyar Vöröskereszt | C82: ='3 mell. 2. pont'!E695 -> 7820 | L82: 3187
B83: 3347 Fogyatékos személyek nappali ellátása Gond-viselés Kht. | C83: ='3 mell. 2. pont'!E705 -> 4756 | L83: 2000
B84: 3349 Pszichiátriai betegek nappali ellátása Moravcsik Alapítvány | C84: ='3 mell. 2. pont'!E725 -> 9600
B85: 3350 Fogyatékos személyek nappali ellátása gyermekek Újbuda Önk. | C85: ='3 mell. 2. pont'!E735 -> 15393 | L85: 393
A86: 12. | B86: Hajléktalanná vált személyek ell.és rehab., vmint megakadályozása | C86: =SUM(C87) -> 4107 | D86: =SUM(E86:N86) -> 4107 | F86: 1540 | L86: =SUM(L87) -> 2567
B87: 3344 Utcai szociális munka (Menhely Alapítvány) | C87: ='3 mell. 2. pont'!E675 -> 4107 | L87: 2567
A88: 13. | B88: Helyi közművelődési tevékenység támogatása, kult. örökség véd. | C88: =SUM(C89:C95) -> 363426 | D88: =SUM(E88:N88) -> 363426 | E88: 313826 | F88: 49600 | L88: =SUM(L89:L95) -> 0
B89: 3428 Ferencvárosi Helytörténeti Egyesület | C89: ='3 mell. 2. pont'!E878 -> 4000
B90: 3429 Karaván Művészeti Alapítvány | C90: ='3 mell. 2. pont'!E888 -> 2500
B91: 3431 Concerto Akadémia Nonprofit Kft. | C91: ='3 mell. 2. pont'!E898 -> 0
B92: 3432 MÁV Szimfónikus Zenekari Alapítvány | C92: ='3 mell. 2. pont'!E908 -> 8000
B93: 3961 Zeneművészeti szervezetek támogatása | C93: ='3 mell 3. pont'!E39 -> 313826
B94: 3974 Zenei pályázat | C94: ='3 mell 3. pont'!E48 -> 5100
B95: 4166 József Attila Skanzen tervpályázat | C95: =SUM('4.mell.'!E45) -> 30000
A96: 14. | B96: Saját tulajdonú lakás és helyiség gazdálkodás | C96: =SUM(C97:C125) -> 11482644 | D96: =SUM(E96:N96) -> 11482644 | F96: 403317 | G96: 1078017 | I96: 750000 | L96: =SUM(L97:L125) -> 410723 | M96: 340587 | N96: 8500000
B97: 3111 Lakáslemondás térítés, lakásbiztosítés visszafizetése | C97: ='3 mell. 2. pont'!E103 -> 1200000 | L97: 334392
B98: 3114 Ingatlanokkal kapcsolatos egyéb feladatok | C98: ='3 mell. 2. pont'!E123 -> 172443 | L98: 16885
B99: 3115 Lakás és helyiség karbantartás, berendezési tárgyak cseréje | C99: ='3 mell. 2. pont'!E133 -> 57693 | L99: 7692
B100: 3121 KF - rehabilitáció járulékos költségek | C100: ='3 mell. 2. pont'!E154 -> 12407 | L100: 1651
B101: 3122 Kényszer kiköltöztetés | C101: ='3 mell. 2. pont'!E164 -> 5500
B102: 3123 Bérlakás és egyéb ingatlan elidegenítés | C102: ='3 mell. 2. pont'!E174 -> 16663 | L102: 1663
B103: 3124 Helyiség megszerzési díj | C103: ='3 mell. 2. pont'!E184 -> 5000
...

Sheet 12.mell
A1: 12. melléklet
B2: A helyi önkormányzat önként vállalt feladatai ellátásának költségvetési forrásai és kiadásai
B3: 2026. év
M4: (eFt-ban)
B5: Önként vállalt feladatok | C5: 2026. évi előirányzat …./2026. | D5: Költségvetési bevételi előirányzat | E5: Közhatalmi bevételek | F5: Működési bevételek | G5: Támogatás Áht-n belülről | I5: Átvett pénzeszköz | K5: Előző évi marad. Igénybev. | L5: Felhalmozási bevételek | M5: Kölcsön visszatérülés/Működ.finansz. Bevétel
G6: Működési célú | H6: Felhalmozási célú | I6: Működési célú | J6: Felhalmozási célú
A7: 2986 | B7: Ferencvárosi Pinceszínház | C7: ='2.mell'!E656 -> 295715 | D7: =SUM(E7:M7) -> 295715 | E7: 241279 | F7: 40560 | K7: 13876
A8: 2975 | B8: Ferencvárosi Intézményüzemeltetési Központ | C8: 186092 | D8: =SUM(E8:M8) -> 186092 | E8: 144182 | F8: 41910
A9: 2850 | B9: Ferencvárosi Egyesített Bölcsöde | C9: 7970 | D9: =SUM(E9:M9) -> 7970 | F9: 7970
A10: 2987 | B10: Ferencvárosi Egészségügyi Szolgálat | C10: 2929020 | D10: =SUM(E10:M10) -> 2929020 | E10: 879800 | F10: 89992 | G10: 1959228
A11: 2988 | B11: Ferencvárosi Médiaszolgáltató | C11: =SUM('2.mell'!E693) -> 169131 | D11: =SUM(E11:M11) -> 169131 | F11: 169131
A12: 3011 | B12: Balatonszéplaki Üdülő | C12: ='3 mell 1. pont'!E18 -> 51390 | D12: =SUM(E12:M12) -> 51390 | F12: 47250 | K12: 4140
A13: 3059 | B13: Ferencvárosi Klímastratégia végrehatása | C13: ='3 mell. 2. pont'!E59 -> 61486 | D13: =SUM(E13:M13) -> 61486 | F13: 50000 | K13: 11486
A14: 3141 | B14: Oktatási támogatás | C14: ='3 mell. 2. pont'!E205 -> 17000 | D14: =SUM(E14:M14) -> 17000 | F14: 17000
A15: 3148 | B15: Diákok látogatása Holocaust emlékközpontban | C15: ='3 mell. 2. pont'!E265 -> 1984 | D15: =SUM(E15:M15) -> 1984 | F15: 1000 | K15: 984
A16: 3204 | B16: Térfigyelő rendszer karbantartásának, üzemeltetése | C16: ='3 mell. 2. pont'!E309 -> 45321 | D16: =SUM(E16:M16) -> 45321 | F16: 35000 | K16: 10321
A17: 3206 | B17: Részvételi költségvetés | C17: ='3 mell. 2. pont'!E329 -> 22482 | D17: =SUM(E17:M17) -> 22482 | F17: 20000 | K17: 2482
A18: 3207 | B18: Ferenc busz működtetése | C18: ='3 mell. 2. pont'!E339 -> 43698 | D18: =SUM(E18:M18) -> 43698 | F18: 43575 | K18: 123
A19: 3209 | B19: Polgármesteri tisztséggel összefüggő egyéb feladatok | C19: ='3 mell. 2. pont'!E359 -> 5000 | D19: =SUM(E19:M19) -> 5000 | F19: 5000
A20: 3217 | B20: Médiacég | C20: ='3 mell. 2. pont'!E416 -> 104427 | D20: =SUM(E20:M20) -> 104427 | F20: 88900 | K20: 15527
A21: 3221 | B21: CLAP Gyermekek helyi ügyekben való részvétele | C21: ='3 mell. 2. pont'!E434 -> 2924 | D21: =SUM(E21:M21) -> 2924 | F21: 2924
A22: 3227 | B22: NEXT LEVEL Parking pályázat | C22: ='3 mell. 2. pont'!E454 -> 21029 | D22: =SUM(E22:M22) -> 21029 | F22: 2425 | I22: 13775 | K22: 4829
A23: 3228 | B23: Fedett, zárható kerékpártárolók társasházak, lakótelepek környékén | C23: ='3 mell. 2. pont'!E464 -> 1016 | D23: =SUM(E23:M23) -> 1016 | F23: 1016
A24: 3230 | B24: DPT 2025-6 Drogos pályázat | C24: =SUM('3 mell. 2. pont'!E484) -> 2583 | D24: =SUM(E24:M24) -> 2583 | K24: 2583
A25: 3231 | B25: Testvértelepülési programok támogatása | C25: =SUM('3 mell. 2. pont'!E494) -> 1400 | D25: =SUM(E25:M25) -> 1400 | K25: 1400
A26: 3304 | B26: Krízis Alap-ból kifizetés | C26: ='3 mell. 2. pont'!E515 -> 0 | D26: =SUM(E26:M26) -> 0 | F26: 0
A27: 3306 | B27: Gyermeknevelési támogatás | C27: ='3 mell. 2. pont'!E525 -> 40005 | D27: =SUM(E27:M27) -> 40005 | F27: 40000 | K27: 5
A28: 3307 | B28: Védőoltás támogatása | C28: ='3 mell. 2. pont'!E535 -> 2500 | D28: =SUM(E28:M28) -> 2500 | F28: 2500
A29: 3308 | B29: CT vizsgálat | C29: ='3 mell. 2. pont'!E545 -> 16791 | D29: =SUM(E29:M29) -> 16791 | F29: 10000 | K29: 6791
A30: 3309 | B30: Lakhatáshoz kapcsolódó rendkívüli támogatás | C30: 0 | D30: =SUM(E30:M30) -> 0 | F30: 0
A31: 3313 | B31: Jövedelempótló rendszeres támogatás | C31: ='3 mell. 2. pont'!E585 -> 13075 | D31: =SUM(E31:M31) -> 13075 | F31: 13000 | K31: 75
A32: 3323 | B32: Születési és életkezdési támogatás | C32: =SUM('3 mell. 2. pont'!E615) -> 12000 | D32: =SUM(E32:M32) -> 12000 | F32: 12000
A33: 3325 | B33: Ferencvárosi 65+ támogatás | C33: ='3 mell. 2. pont'!E625 -> 10000 | D33: =SUM(E33:M33) -> 10000 | F33: 10000
A34: 3340 | B34: Jelzőrendszeres házi segítségnyújtás | C34: ='3 mell. 2. pont'!E635 -> 11983 | D34: =SUM(E34:M34) -> 11983 | F34: 9000 | K34: 2983
A35: 3352 | B35: Kifli, túró rudi, tej beszerzés | C35: ='3 mell. 2. pont'!E745 -> 38469 | D35: =SUM(E35:M35) -> 38469 | F35: 25000 | K35: 13469
A36: 3343 | B36: ÉFOÉSZ ellátási szerződés | C36: ='3 mell. 2. pont'!E665 -> 13500 | D36: =SUM(E36:M36) -> 13500 | F36: 13500
A37: 3353 | B37: SOS Krízis Alapítvány | C37: ='3 mell. 2. pont'!E755 -> 2912 | D37: =SUM(E37:M37) -> 2912 | F37: 1500 | K37: 1412
A38: 3355 | B38: Idősügyi Koncepció | C38: ='3 mell. 2. pont'!E765 -> 34730 | D38: =SUM(E38:M38) -> 34730 | F38: 25000 | K38: 9730
A39: 3356 | B39: Közfoglalkoztatottak pályázat támogatásának önrésze, kapcsolódó egyéb kiadások támogatása | C39: 0 | D39: =SUM(E39:M39) -> 0
A40: 3411 | B40: Jégpálya - BP együttműködés | C40: ='3 mell. 2. pont'!E787 -> 25000 | D40: =SUM(E40:M40) -> 25000 | F40: 25000
A41: 3412 | B41: Sport és szabadidős feladatok | C41: ='3 mell. 2. pont'!E797 -> 47507 | D41: =SUM(E41:M41) -> 47507 | F41: 37000 | K41: 10507
A42: 3415 | B42: Hátrányos helyzetű diákok sport támogatása | C42: ='3 mell. 2. pont'!E817 -> 10900 | D42: =SUM(E42:M42) -> 10900 | F42: 9400 | K42: 1500
A43: 3416 | B43: Sport Alap | C43: ='3 mell. 2. pont'!E827 -> 20000 | D43: =SUM(E43:M43) -> 20000 | F43: 20000
A44: 3421 | B44: Kulturális koncepció | C44: ='3 mell. 2. pont'!E838 -> 56279 | D44: =SUM(E44:M44) -> 56279 | F44: 38815 | K44: 17464
A45: 3422 | B45: Egyéb rendezvények | C45: ='3 mell. 2. pont'!E848 -> 21623 | D45: =SUM(E45:M45) -> 21623 | F45: 16000 | K45: 5623
A46: 3423 | B46: Testvérvárosi kapcsolatok | C46: ='3 mell. 2. pont'!E858 -> 25841 | D46: =SUM(E46:M46) -> 25841 | F46: 20000 | K46: 5841
A47: 3424 | B47: Kitüntetésekkel kapcsolatos költségek | C47: ='3 mell. 2. pont'!E868 -> 47538 | D47: =SUM(E47:M47) -> 47538 | F47: 43728 | K47: 3810
A48: 3433 | B48: Díszkivilágítás | C48: ='3 mell. 2. pont'!E918 -> 59539 | D48: =SUM(E48:M48) -> 59539 | F48: 40000 | K48: 19539
A49: 3434 | B49: Bartók Táncegyüttes | C49: =SUM('3 mell. 2. pont'!E928) -> 3000 | D49: =SUM(E49:M49) -> 3000 | F49: 3000
A50: 3923 | B50: Polgárőr Egyesület támogatása | C50: ='3 mell 3. pont'!E13 -> 5000 | D50: =SUM(E50:M50) -> 5000 | F50: 5000
A51: 3924 | B51: IX. ker. Rendőrségi támogatás | C51: ='3 mell 3. pont'!E14 -> 30750 | D51: =SUM(E51:M51) -> 30750 | F51: 30000 | K51: 750
A52: 3926 | B52: Tűzoltóság támogatása | C52: ='3 mell 3. pont'!E16 -> 5000 | D52: =SUM(E52:M52) -> 5000 | F52: 3000 | K52: 2000
A53: 3931 | B53: Bursa Hungarica | C53: ='3 mell 3. pont'!E26 -> 2125 | D53: =SUM(E53:M53) -> 2125 | F53: 2000 | K53: 125
A54: 3932 | B54: Deák ösztöndíj | C54: ='3 mell 3. pont'!E27 -> 15000 | D54: =SUM(E54:M54) -> 15000 | F54: 15000
A55: 3943 | B55: Akadálymentesítési támogatás | C55: ='3 mell 3. pont'!E33 -> 1000 | D55: =SUM(E55:M55) -> 1000 | F55: 1000
A56: 3972 | B56: Kulturális tevékenység támogatása | C56: ='3 mell 3. pont'!E40 -> 53259 | D56: =SUM(E56:M56) -> 53259 | F56: 50000 | K56: 3259
A57: 3973 | B57: Irodalmi pályázat | C57: ='3 mell 3. pont'!E44 -> 13908 | D57: =SUM(E57:M57) -> 13908 | F57: 12391 | K57: 1517
A58: 3975 | B58: Konkáv Közösségi tér-Köztes Átmenetek Kft. | C58: ='3 mell 3. pont'!E49 -> 15000 | D58: =SUM(E58:M58) -> 15000 | F58: 15000
A59: 5010 | B59: Neon Park | C59: ='5.mell. '!E15 -> 20000 | D59: =SUM(E59:M59) -> 20000 | F59: 20000
A60: 5033 | B60: Térfigyelő kamerák | C60: ='5.mell. '!E35 -> 73302 | D60: =SUM(E60:M60) -> 73302 | F60: 73302
B62: Mindösszesen | C62: =SUM(C7:C61) -> 4717204 | D62: =SUM(D7:D61) -> 4717204 | E62: =SUM(E7:E61) -> 1265261 | F62: =SUM(F7:F61) -> 1304789 | G62: =SUM(G7:G61) -> 1959228 | H62: =SUM(H7:H61) -> 0 | I62: =SUM(I7:I61) -> 13775 | J62: =SUM(J7:J61) -> 0 | ... M62: =SUM(M7:M61) -> 0

Sheet 13.mell
B3: 13. melléklet
B4: A helyi önkormányzat államigazgatási feladatai
B5: 2026. év
G7: (eFt-ban)
B8: Államigazgatási feladatok (Mötv. 18. § alapján) | C8: 2026. évi előirányzat .../2026. | D8: Költségvetési bevételi előirányzat | E8: A helyi önkormányzatok, helyi nemzetiségi önkormányzatok általános működéséhez és ágazati feladataihoz kapcsolódó támogatások | F8: A központi költségvetésből származó egyéb költségvetési támogatások | G8: Közhatalmi bevétel
B10: 3021 Polgármesteri Hivatal Igazgatási kiadásai 23 fő | C10: 789860 | D10: 789860 | G10: 789860
B12: Mindösszesen | C12: =SUM(C10:C11) -> 789860 | D12: =SUM(D10:D11) -> 789860 | E12: =SUM(E10:E11) -> 0 | G12: =SUM(G10:G11) -> 789860

Sheet 14.mell
A1: 14. melléklet
A2: 2026. évi előirányzat felhasználási ütemterv
O3: (eFt-ban)
A4: Megnevezés | C4: I. | D4: II. | E4: III. | F4: IV. | G4: V. | H4: VI. | I4: VII. | J4: VIII. | K4: IX. | L4: X. | M4: XI. | N4: XII. | O4: Összesen
A5: Bevételek
A6: 1. Működési célú támogatások Áh-n belülről | C6: =$O$6/12 -> 658755 | D6: =$O$6/12 -> 658755 | E6: =$O$6/12 -> 658755 | F6: =$O$6/12 -> 658755 | G6: =$O$6/12 -> 658755 | H6: =$O$6/12 -> 658755 | I6: =$O$6/12 -> 658755 | J6: =$O$6/12 -> 658755 | ... N6: =$O$6/12 -> 658755 | O6: ='1. mell 1. pont'!D15 -> 7905060
A8: 2. Közhatalmi bevételek | C8: =$O$8/12 -> 1614348.6 | D8: =$O$8/12 -> 1614348.6 | E8: =$O$8/12 -> 1614348.6 | F8: =$O$8/12 -> 1614348.6 | G8: =$O$8/12 -> 1614348.6 | H8: =$O$8/12 -> 1614348.6 | I8: =$O$8/12 -> 1614348.6 | J8: =$O$8/12 -> 1614348.6 | ... N8: =$O$8/12 -> 1614348.6 | O8: ='1. mell 1. pont'!D19 -> 19372183
A10: 3. Működési bevételek + Működési célú átvett pénzeszk. | C10: =$O$10/12 -> 379627.92 | D10: =$O$10/12 -> 379627.92 | E10: =$O$10/12 -> 379627.92 | F10: =$O$10/12 -> 379627.92 | G10: =$O$10/12 -> 379627.92 | H10: =$O$10/12 -> 379627.92 | I10: =$O$10/12 -> 379627.92 | J10: =$O$10/12 -> 379627.92 | ... N10: =$O$10/12 -> 379627.92 | O10: ='1. mell 1. pont'!D31+'1. mell 1. pont'!D33 -> 4555535
A12: 4. Felhalmozási cálú támogatások Áh-n belülről | C12: =$O$12/12 -> 142788.17 | D12: =$O$12/12 -> 142788.17 | E12: =$O$12/12 -> 142788.17 | F12: =$O$12/12 -> 142788.17 | G12: =$O$12/12 -> 142788.17 | H12: =$O$12/12 -> 142788.17 | I12: =$O$12/12 -> 142788.17 | J12: =$O$12/12 -> 142788.17 | ... N12: =$O$12/12 -> 142788.17 | O12: ='1. mell 1. pont'!D40 -> 1713458
A14: 5. Felhalmozási bevétel | C14: =$O$14/12 -> 79166.667 | D14: =$O$14/12 -> 79166.667 | E14: =$O$14/12 -> 79166.667 | F14: =$O$14/12 -> 79166.667 | G14: =$O$14/12 -> 79166.667 | H14: =$O$14/12 -> 79166.667 | I14: =$O$14/12 -> 79166.667 | J14: =$O$14/12 -> 79166.667 | ... N14: =$O$14/12 -> 79166.667 | O14: ='1. mell 1. pont'!D44 -> 950000
A16: 6. Felhalmozási cálú átvett pénzeszközök | C16: =$O$16/12 -> 1416.6667 | D16: =$O$16/12 -> 1416.6667 | E16: =$O$16/12 -> 1416.6667 | F16: =$O$16/12 -> 1416.6667 | G16: =$O$16/12 -> 1416.6667 | H16: =$O$16/12 -> 1416.6667 | I16: =$O$16/12 -> 1416.6667 | J16: =$O$16/12 -> 1416.6667 | ... N16: =$O$16/12 -> 1416.6667 | O16: ='1. mell 1. pont'!D47 -> 17000
A18: 7. Felhalmozási, működési finanszírozású bevétel | C18: =$O$18/12 -> 1198546.6 | D18: =$O$18/12 -> 1198546.6 | E18: =$O$18/12 -> 1198546.6 | F18: =$O$18/12 -> 1198546.6 | G18: =$O$18/12 -> 1198546.6 | H18: =$O$18/12 -> 1198546.6 | I18: =$O$18/12 -> 1198546.6 | J18: =$O$18/12 -> 1198546.6 | ... N18: =$O$18/12 -> 1198546.6 | O18: ='1. mell 1. pont'!D55+'1. mell 1. pont'!D57-'1. mell 1. pont'!D51 -> 14382559
A20: 8. Bevételek mindösszesen | C20: =SUM(C6:C19) -> 4074649.6 | D20: =SUM(D6:D19) -> 4074649.6 | E20: =SUM(E6:E19) -> 4074649.6 | F20: =SUM(F6:F19) -> 4074649.6 | G20: =SUM(G6:G19) -> 4074649.6 | H20: =SUM(H6:H19) -> 4074649.6 | I20: =SUM(I6:I19) -> 4074649.6 | J20: =SUM(J6:J19) -> 4074649.6 | ... O20: =SUM(O6:O19) -> 48895795
A21: Kiadások
A22: 9. Személyi juttatások | C22: =$O$22/12 -> 1047592.3 | D22: =$O$22/12 -> 1047592.3 | E22: =$O$22/12 -> 1047592.3 | F22: =$O$22/12 -> 1047592.3 | G22: =$O$22/12 -> 1047592.3 | H22: =$O$22/12 -> 1047592.3 | I22: =$O$22/12 -> 1047592.3 | J22: =$O$22/12 -> 1047592.3 | ... N22: =$O$22/12 -> 1047592.3 | O22: ='1. mell 1. pont'!H7 -> 12571108
A24: 10. Munkaadókat terh. jár. és szoc.hozzáj.adó | C24: =$O$24/12 -> 147446.92 | D24: =$O$24/12 -> 147446.92 | E24: =$O$24/12 -> 147446.92 | F24: =$O$24/12 -> 147446.92 | G24: =$O$24/12 -> 147446.92 | H24: =$O$24/12 -> 147446.92 | I24: =$O$24/12 -> 147446.92 | J24: =$O$24/12 -> 147446.92 | ... N24: =$O$24/12 -> 147446.92 | O24: ='1. mell 1. pont'!H8 -> 1769363
A26: 11. Dologi kiadások | C26: =$O$26/12 -> 924073.42 | D26: =$O$26/12 -> 924073.42 | E26: =$O$26/12 -> 924073.42 | F26: =$O$26/12 -> 924073.42 | G26: =$O$26/12 -> 924073.42 | H26: =$O$26/12 -> 924073.42 | I26: =$O$26/12 -> 924073.42 | J26: =$O$26/12 -> 924073.42 | ... N26: =$O$26/12 -> 924073.42 | O26: ='1. mell 1. pont'!H9 -> 11088881
A28: 12. Ellátottak pénzbeli juttatásai | C28: =$O$28/12 -> 20997 | D28: =$O$28/12 -> 20997 | E28: =$O$28/12 -> 20997 | F28: =$O$28/12 -> 20997 | G28: =$O$28/12 -> 20997 | H28: =$O$28/12 -> 20997 | I28: =$O$28/12 -> 20997 | J28: =$O$28/12 -> 20997 | ... N28: =$O$28/12 -> 20997 | O28: ='1. mell 1. pont'!H10 -> 251964
A30: 13. Egyéb működési célú kiadások | C30: =$O$30/12 -> 512158.67 | D30: =$O$30/12 -> 512158.67 | E30: =$O$30/12 -> 512158.67 | F30: =$O$30/12 -> 512158.67 | G30: =$O$30/12 -> 512158.67 | H30: =$O$30/12 -> 512158.67 | I30: =$O$30/12 -> 512158.67 | J30: =$O$30/12 -> 512158.67 | ... N30: =$O$30/12 -> 512158.67 | O30: =SUM('1. mell 1. pont'!H12+'1. mell 1. pont'!H40) -> 6145904
A32: 14. Beruházások | C32: =$O$32/12 -> 374004.57 | D32: =$O$32/12 -> 374004.57 | E32: =$O$32/12 -> 374004.57 | F32: =$O$32/12 -> 374004.57 | G32: =$O$32/12 -> 374004.57 | H32: =$O$32/12 -> 374004.57 | I32: =$O$32/12 -> 374004.57 | J32: =$O$32/12 -> 374004.57 | ... N32: =$O$32/12 -> 374004.57 | O32: ='1. mell 1. pont'!H37 -> 4488054.9
A34: 15. Felújítások | C34: =$O$34/12 -> 825886.5 | D34: =$O$34/12 -> 825886.5 | E34: =$O$34/12 -> 825886.5 | F34: =$O$34/12 -> 825886.5 | G34: =$O$34/12 -> 825886.5 | H34: =$O$34/12 -> 825886.5 | I34: =$O$34/12 -> 825886.5 | J34: =$O$34/12 -> 825886.5 | ... N34: =$O$34/12 -> 825886.5 | O34: ='1. mell 1. pont'!H38 -> 9910638.1
A36: 16. Egyéb felhalmozási célú kiadások | C36: =$O$36/12 -> 208201.83 | D36: =$O$36/12 -> 208201.83 | E36: =$O$36/12 -> 208201.83 | F36: =$O$36/12 -> 208201.83 | G36: =$O$36/12 -> 208201.83 | H36: =$O$36/12 -> 208201.83 | I36: =$O$36/12 -> 208201.83 | J36: =$O$36/12 -> 208201.83 | ... N36: =$O$36/12 -> 208201.83 | O36: ='1. mell 1. pont'!H39 -> 2498422
A38: 17. Hosszú lejáratú hitel tőke összegének törlesztése, megelőlegezett norm., működ.fin.kiad | C38: =$O$38/12 -> 14288.333 | D38: =$O$38/12 -> 14288.333 | E38: =$O$38/12 -> 14288.333 | F38: =$O$38/12 -> 14288.333 | G38: =$O$38/12 -> 14288.333 | H38: =$O$38/12 -> 14288.333 | I38: =$O$38/12 -> 14288.333 | J38: =$O$38/12 -> 14288.333 | ... N38: =$O$38/12 -> 14288.333 | O38: ='1. mell 1. pont'!H50 -> 171460
A40: 18. Kiadások mindösszesen | C40: =SUM(C22:C39) -> 4074649.6 | D40: =SUM(D22:D39) -> 4074649.6 | E40: =SUM(E22:E39) -> 4074649.6 | F40: =SUM(F22:F39) -> 4074649.6 | G40: =SUM(G22:G39) -> 4074649.6 | H40: =SUM(H22:H39) -> 4074649.6 | I40: =SUM(I22:I39) -> 4074649.6 | J40: =SUM(J22:J39) -> 4074649.6 | ... O40: =SUM(O22:O39) -> 48895795

Sheet 15.mell
B2: 15. melléklet
B3: Saját bevételek és adósságot keletkeztető ügyletekből eredő fizetési kötelezettségek költségvetési évet követő 3 évre várható kihatása
F6: (eFt-ban)
B7: Önkormányzat saját bevételei | C7: 2026. évi előirányzat .../2026. | D7: 2027. év várható terv szám | E7: 2028. év várható terv szám | F7: 2029. év várható terv szám
B9: Helyi adóból és a települési adóból származó bevétel (építményadó, telekadó, idegenforgalmi adó, iparűzési adó) | C9: =SUM('1. mell 2 pont '!C24+'1. mell 2 pont '!C27) -> 18193750 | D9: 18550000 | E9: 18550000 | F9: 18550000
B12: Önkormányzati vagyon és önkormányzatot megillető vagyoni értékű jog hasznosításából származó bevétel (lakbér, helyiség bérleti díj, helyiség megszerzési díj) | C12: =SUM('1. mell 2 pont '!C50+'1. mell 2 pont '!C51+'1. mell 2 pont '!C52) -> 870000 | D12: 870000 | E12: 870000 | F12: 870000
B15: Osztalék, koncessziós díj és hozambevétel | C15: ---- | D15: --- | E15: --- | F15: ---
B18: Tárgyi eszköz és immateriális jószág, részvény, részesedés, vállalat értékesítéséből vagy privatizációból származó bevétel (telek, földterület, helyiség, lakás, törzstőke ért.) | C18: =SUM('1. mell 2 pont '!C104) -> 950000 | D18: 600000 | E18: 600000 | F18: 600000
B21: Bírság, pótlék, és díjbevétel (egyéb közhatalmi bevételek között szereplő tételek) | C21: =SUM('1. mell 2 pont '!C256) -> 1178433 | D21: 1100000 | E21: 1100000 | F21: 1100000
B24: Kezesség illetve garancia vállalással kapcsolatos megtérülés | C24: ---- | D24: --- | E24: --- | F24: ---
B27: Összesen | C27: =SUM(C9:C26) -> 21192183 | D27: =SUM(D9:D26) -> 21120000 | E27: =SUM(E9:E26) -> 21120000 | F27: =SUM(F9:F26) -> 21120000
B30: Adósságot keletkeztető ügyletből eredő fizetési kötelezettség | C30: 0 | D30: 0 | E30: 0 | F30: 0

Sheet 16.mell
A1: 16. melléklet
A2: Kiadások felosztása COFOG szerint
A3: 2026. év
C4: (eFt-ban)
A5: 011130 | B5: Önkormányzatok és önkormányzati hivatalok jogalkotó és általános igazgatási tevékenysége | C5: =SUM(C6:C20) -> 5503343
A6: 1710 | B6: Polgármesteri Hivatal | C6: =3703961-47250+137568+55828+71641+71519 -> 3993267
A7: 1801 | B7: Kamat kiadás, banki költségek, tranzakciós díjak | C7: =SUM('1. mell 3. pont '!E62) -> 99640
A8: 1802 | B8: Fővárosi IPA költségei | C8: =SUM('1. mell 3. pont '!E64) -> 18321
A9: 1804 | B9: Fizetendő általános forgalmi adó | C9: =SUM('1. mell 3. pont '!E68) -> 268296
A10: 3200 | B10: Képviselők és választott tisztségviselők juttatásai | C10: =SUM('3 mell. 2. pont'!E276) -> 365654
A11: 3201 | B11: Önkormányzati szakmai feladatokkal kapcsolatos kiadások | C11: =SUM('3 mell. 2. pont'!E289) -> 160442
A12: 3206 | B12: Részvételi költségvetés | C12: =SUM('3 mell. 2. pont'!E329) -> 22482
A13: 3208 | B13: Ügyvédi díjak | C13: =SUM('3 mell. 2. pont'!E349) -> 27178
A14: 3209 | B14: Polgármester tiszt. összefüggő egyéb feladatok | C14: =SUM('3 mell. 2. pont'!E359) -> 5000
A15: 3221 | B15: CLAP Gyermekek helyi ügyekben való részvétele | C15: =SUM('3 mell. 2. pont'!E434) -> 2924
A16: 3223 | B16: Pályázat előkészítés, lebonyolítás | C16: =SUM('3 mell. 2. pont'!E444) -> 21469
A17: 3451 | B17: Nemzetiségi Önkormányzat működési kiadásai | C17: =SUM('3 mell. 2. pont'!E938) -> 6802
A18: 4163 | B18: Lenhossék u. 5. Felújítás tervezés | C18: =SUM('4.mell.'!E42) -> 80000
A19: 6110 | B19: Általános tartalék | C19: =SUM('6.mell. '!E12) -> 431868
A21: 011140 | B21: Országos és helyi nemzetiségi önkormányzatok igazgatási tevékenysége | C21: =SUM(C22:C26) -> 0
A27: 011220 | B27: Adó-, vám- és jövedéki igazgatás | C27: =SUM(C28:C32) -> 195958
A28: 1710 | B28: Polgármesteri Hivatal | C28: 195958
A33: 013350 | B33: Az önkormányzati vagyonnal való gazdálkodással kapcsolatos feladatok | C33: =SUM(C34:C56) -> 7164975
A34: 3111 | B34: Lakáslemondás térítés, lakásbiztosíték visszafizetés | C34: =SUM('3 mell. 2. pont'!E103) -> 1200000
A35: 3114 | B35: Ingatlanokkal kapcsolatos egyéb feladatok | C35: =SUM('3 mell. 2. pont'!E123) -> 172443
A36: 3115 | B36: Lakás és helyiség karbantartás | C36: =SUM('3 mell. 2. pont'!E133) -> 57693
A37: 3116 | B37: Magyar Máltai Szeretetszolgálat Egyesület-Közösségi hasznosítás | C37: =SUM('3 mell. 2. pont'!E143) -> 22596
A38: 3121 | B38: KF - rehabilitáció járulékos költségek | C38: =SUM('3 mell. 2. pont'!E154) -> 12407
A39: 3122 | B39: Kényszer kiköltöztetés | C39: =SUM('3 mell. 2. pont'!E164) -> 5500
A40: 3123 | B40: Bérlakás és egyéb ingatlan elidegenítés | C40: =SUM('3 mell. 2. pont'!E174) -> 16663
A41: 3124 | B41: Helyiség megszerzési díj | C41: =SUM('3 mell. 2. pont'!E184) -> 5000
A42: 3125 | B42: Életjáradéki szolgáltatás | C42: =SUM('3 mell. 2. pont'!E194) -> 5000
A43: 3211 | B43: FEV IX. Zrt. (Bérlemény közszolg. + Megbízási) | C43: =SUM('3 mell. 2. pont'!E370) -> 1001415
A44: 3213 | B44: Önkormányzati bérlemények üzemeltetési költségei | C44: =SUM('3 mell. 2. pont'!E394) -> 710000
A45: 3925 | B45: FEV IX. Zrt. Támogatása | C45: =SUM('3 mell 3. pont'!E15) -> 232410
A46: 4114 | B46: Önkormányzati lakóházak tetőfelújítás | C46: =SUM('4.mell.'!E25) -> 144000
A47: 4121 | B47: Felújításokkal kapcsolatos tervezések | C47: =SUM('4.mell.'!E26) -> 179884
A48: 4126 | B48: Önkormányzati lakások komfortosítása, lakások és helyiségek felújítása | C48: =SUM('4.mell.'!E30) -> 252175
A49: 4137 | B49: Sobieski u. 3-9 épületek bontása | C49: =SUM('4.mell.'!E52) -> 241156
A50: 4153 | B50: Tartószerkezeti statikai vizsgálatok | C50: =SUM('4.mell.'!E33) -> 25000
A51: 4154 | B51: Tartószerkezeti statikai felújítások | C51: =SUM('4.mell.'!E34) -> 462527
A52: 4155 | B52: Balázs Béla utca 27/B lakóépület felújítása | C52: =SUM('4.mell.'!E35) -> 30451
A53: 4156 | B53: Állagmegőrző felújítások | C53: =SUM('4.mell.'!E36) -> 188000
A54: 4160 | B54: Márton utca 8. Lakóház felújítás | C54: =SUM('4.mell.'!E39) -> 2050655
A55: 5026 | B55: Új önkormányzati bérház építés-tervezés | C55: =SUM('5.mell. '!E32) -> 150000
A57: 013360 | B57: Más szerv részére végzett pénzügyi-gazdálkodási, üzemeltetési, egyéb szolgáltatások | C57: =SUM(C58:C62) -> 2345163
A58: 2795 | B58: Ferencvárosi Intézmény Üzemeltetési Központ | C58: =1966856+316038+21339+2830+38100 -> 2345163
A63: 016010 | B63: Országgyűlési, önkormányzati és európai parlamenti képviselőválasztásokhoz kapcsolódó tevékenységek | C63: =SUM(C64:C68) -> 96710
A64: 1710 | B64: Polgármesteri Hivatal | C64: =SUM('3 mell 1. pont'!E39,'3 mell 1. pont'!E49) -> 96710
A69: 016030 | B69: Állampolgársági ügyek | C69: =SUM(C70:C74) -> 79061
A70: 1710 | B70: Polgármesteri Hivatal | C70: 79061
A75: 016080 | B75: Kiemelt állami és önkormányzati rendezvények | C75: =SUM(C76:C80) -> 263032
A76: 2985 | B76: Ferencvárosi Művelődési Központ | C76: =200930+40479 -> 241409
A77: 3422 | B77: Nemzeti, önkormányzati ünnepek, rendezvények | C77: =SUM('3 mell. 2. pont'!E848) -> 21623
A81: 018010 | B81: Önkormányzatok elszámolásai a központi költségvetéssel | C81: =SUM(C82:C86) -> 207911
A82: 1806 | B82: Elvonások és befizetések kiadásai | C82: =SUM('1. mell 3. pont '!E70) -> 0
A83: 1810 | B83: Területfejlesztési Alap befizetések | C83: =SUM('1. mell 3. pont '!E78) -> 36451
A84: 1842 | B84: Tárgyévi finanszírozási megelőlegezések visszafizetése | C84: =SUM('1. mell 3. pont '!E103) -> 0
A85: 1843 | B85: Előző évi finanszírozási megelőlegezések visszafizetése | C85: =SUM('1. mell 3. pont '!E104) -> 171460
A87: 018020 | B87: Központi költségvetési befizetések | C87: =SUM(C88:C92) -> 3761230
A88: 1803 | B88: Szolidaritási hozzájárulási adó | C88: =SUM('1. mell 3. pont '!E66) -> 3011230
A89: 1807 | B89: Elvonások és befizetések | C89: =SUM('1. mell 3. pont '!E72) -> 750000
A93: 018030 | B93: Támogatási célú finanszírozási műveletek | C93: =SUM(C94:C106) -> 27733
A94: 3987 | B94: Ruszin Nemzetiségi Önkormányzat | C94: =SUM('3 mell 3. pont'!E53) -> 900
A95: 3988 | B95: Horvát Nemzetiségi Önkormányzat | C95: =SUM('3 mell 3. pont'!E54) -> 900
A96: 3989 | B96: Nemzetiségi önkormányzatok pályázati támogatása | C96: =SUM('3 mell 3. pont'!E52) -> 6000
A97: 3990 | B97: Bolgár Nemzetiségi Önkormányzat | C97: =SUM('3 mell 3. pont'!E55) -> 1000
A98: 3991 | B98: Roma Nemzetiségi Önkormányzat | C98: =SUM('3 mell 3. pont'!E56) -> 4820
A99: 3992 | B99: Görög Nemzetiségi Önkormányzat | C99: =SUM('3 mell 3. pont'!E57) -> 1400
A100: 3993 | B100: Német Nemzetiségi Önkormányzat | C100: =SUM('3 mell 3. pont'!E58) -> 900
A101: 3994 | B101: Örmény Nemzetiségi Önkormányzat | C101: =SUM('3 mell 3. pont'!E59) -> 900
A102: 3997 | B102: Szerb Nemzetiségi Önkormányzat | C102: =SUM('3 mell 3. pont'!E61) -> 900
A103: 3998 | B103: Szlovák Nemzetiségi Önkormányzat | C103: =SUM('3 mell 3. pont'!E62) -> 900
A104: 3999 | B104: Ukrán Nemzetiségi Önkormányzat | C104: =SUM('3 mell 3. pont'!E63) -> 1000
A105: 3926 | B105: Tűzoltóság támogatása | C105: =SUM('3 mell 3. pont'!E16) -> 5000
A106: 2499 | B106: Ferencvárosi Óvodák | C106: 3113
A107: 031030 | B107: Közterület rendjének fenntartása | C107: =SUM(C108:C112) -> 498617
A108: 1710 | B108: Polgármesteri Hivatal | C108: 498617
A113: 031060 | B113: Bűnmegelőzés | C113: =SUM(C114:C118) -> 319015
A114: 1710 | B114: Polgármesteri Hivatal | C114: 169642
A115: 3204 | B115: Térfigyelő rendszer karbantartásának, üzemeltetésének költs. | C115: =SUM('3 mell. 2. pont'!E309) -> 45321
A116: 3924 | B116: IX. kerületi Rendőrkapitányság támogatása | C116: =SUM('3 mell 3. pont'!E14) -> 30750
A117: 5033 | B117: Térfigyelő rendszer fejlesztése | C117: =SUM('5.mell. '!E35) -> 73302
A119: 032020 | B119: Tűz- és katasztrófavédelmi tevékenységek | C119: =SUM(C120:C124) -> 0
A125: 041140 | B125: Területfejlesztés igazgatása | C125: =SUM(C126:C130) -> 227920
A126: 1710 | B126: Polgármesteri Hivatal | C126: 117754
A127: 4141 | B127: Településrendezési eszközök | C127: =SUM('4.mell.'!E53) -> 110166
A131: 045120 | B131: Út, autópálya építése | C131: =SUM(C132:C136) -> 51179
A132: 5005 | B132: Közlekedésbiztonsági fejlesztés | C132: =SUM('5.mell. '!D13) -> 51179
A137: 045140 | B137: Városi és elővárosi közúti személyszállítás | C137: =SUM(C138:C142) -> 43698
A138: 3207 | B138: Ferenc busz működtetése | C138: =SUM('3 mell. 2. pont'!E339) -> 43698
A143: 045150 | B143: Egyéb szárazföldi személyszállítás | C143: =SUM(C144:C148) -> 0
A149: 045160 | B149: Közutak, hidak, alagutak üzemeltetése, fenntartása | C149: =SUM(C150:C154) -> 426279
A150: 3061 | B150: Közutak üzemeltetése | C150: =SUM('3 mell. 2. pont'!E70) -> 6279
A151: 4018 | B151: Utak felújítása, javítása | C151: =SUM('4.mell.'!E15) -> 300000
A152: 4019 | B152: Járdák felújítása | C152: =SUM('4.mell.'!E16) -> 120000
A155: 045170 | B155: Parkoló, garázs üzemeltetése, fenntartása | C155: =SUM(C156:C159) -> 1714313
A156: 1809 | B156: Parkolóhely megváltás | C156: =SUM('1. mell 3. pont '!E75) -> 0
A157: 3212 | B157: Parkolási feladatok (FEV IX. Zrt. által ellátott feladatokkal együtt) | C157: =SUM('3 mell. 2. pont'!E383) -> 1693284
A158: 3227 | B158: NEXT LEVEL Parking pályázat | C158: =SUM('3 mell. 2. pont'!E454) -> 21029
...

Sheet 17.mell
A1: 17. melléklet
A2: Bevételek felosztása COFOG szerint
A3: 2026. év
C4: (eFt-ban)
A5: 011130 | B5: Önkormányzatok és önkormányzati hivatalok jogalkotó és általános igazgatási tevékenysége | C5: =SUM(C6:C19) -> 220430
A6: 1241 | B6: Egyéb szolgáltatás (Hivatal) | C6: =SUM('1. mell 2 pont '!D148) -> 10000
A7: 1250 | B7: Közvetített szolgáltatás (Hivatal) | C7: =SUM('1. mell 2 pont '!D150) -> 25000
A8: 1260 | B8: Kiszámlázott ÁFA (Hivatal) | C8: =SUM('1. mell 2 pont '!D152) -> 9450
A9: 1030 | B9: Egyéb működési célú támogatások bevételei államháztartáson belülről | C9: 8000
A10: 1071 | B10: Igazgatásszolgáltatási díj | C10: =SUM('1. mell 2 pont '!D32) -> 250
A11: 1073 | B11: Környezetvédelmi bírság | C11: =SUM('1. mell 2 pont '!D34) -> 0
A12: 1093 | B12: Egyéb szolgáltatás | C12: =SUM('1. mell 2 pont '!D48) -> 4000
A13: 1121 | B13: Önkormányzat ÁFA | C13: =SUM('1. mell 2 pont '!D62) -> 13230
A14: 1130 | B14: Általános forgalmi adó visszatérítése | C14: =SUM('1. mell 2 pont '!D65) -> 0
A15: 1141 | B15: Önkormányzat kamatbevétel | C15: =SUM('1. mell 2 pont '!D67) -> 150000
A16: 1150 | B16: Egyéb működési bevételek | C16: =SUM('1. mell 2 pont '!D69) -> 500
A17: 1163 | B17: Ferencvárosi Humanitárius Alap | C17: =SUM('1. mell 2 pont '!D77) -> 0
A18: 1164 | B18: CLAP Gyermekek helyi ügyekben való részvétele | C18: =SUM('1. mell 2 pont '!D78) -> 0
A20: 011140 | B20: Országos és helyi nemzetiségi önkormányzatok igazgatási tevékenysége | C20: =SUM(C21:C25) -> 0
A26: 011220 | B26: Adó-, vám- és jövedéki igazgatás | C26: =SUM(C27:C31) -> 0
A32: 013350 | B32: Az önkormányzati vagyonnal való gazdálkodással kapcsolatos feladatok | C32: =SUM(C33:C49) -> 2541587
A33: 2795 | B33: Ferencvárosi Intézmény Üzemeltetési Központ | C33: 95256
A34: 1094 | B34: Bérleti díjak | C34: =SUM('1. mell 2 pont '!D49) -> 14000
A35: 1095 | B35: Lakbér bevételek | C35: =SUM('1. mell 2 pont '!D50) -> 500000
A36: 1096 | B36: Helyiség bérleti díj | C36: =SUM('1. mell 2 pont '!D51) -> 370000
A37: 1097 | B37: Helyiség megszerzési díj | C37: =SUM('1. mell 2 pont '!D52) -> 0
A38: 1098 | B38: Nyomvonal létesítés kártalanítás | C38: =SUM('1. mell 2 pont '!D53) -> 0
A39: 1099 | B39: Munkásszálló bérleti díj | C39: =SUM('1. mell 2 pont '!D54) -> 40000
A40: 1101 | B40: Önkormányzat közvetített szolgáltatások ellenértéke | C40: =SUM('1. mell 2 pont '!D56) -> 11200
A41: 1102 | B41: Vagyonkezeléssel kapcsolatos közvetített szolgáltatások ellenértéke | C41: =SUM('1. mell 2 pont '!D57) -> 90000
A42: 1105 | B42: Tulajdonosi bevételek | C42: =SUM('1. mell 2 pont '!D59) -> 0
A43: 1122 | B43: Vagyonkezelési és városfejlesztési feladatokkal kapcsolatos ÁFA | C43: =SUM('1. mell 2 pont '!D63) -> 259000
A44: 1152 | B44: Biztosító által fizetett kártérítés | C44: =SUM('1. mell 2 pont '!D68) -> 0
A45: 1160 | B45: Egyéb működési célú átvett pénzeszköz | C45: =SUM('1. mell 2 pont '!D74) -> 0
A46: 1191 | B46: Földterület, telek, ingatlan értékesítése | C46: =SUM('1. mell 2 pont '!D105) -> 650000
A47: 1194 | B47: Helyiség értékesítés | C47: =SUM('1. mell 2 pont '!D106) -> 100000
A48: 1195 | B48: Önkormányzati lakások értékesítése | C48: =SUM('1. mell 2 pont '!D107) -> 200000
A49: 1030 | B49: Egyéb működési célú támogatások bevételei államháztartáson belülről | C49: 212131
A50: 013360 | B50: Más szerv részére végzett pénzügyi-gazdálkodási, üzemeltetési, egyéb szolgáltatások | C50: =SUM(C51:C55) -> 48131
A51: 2795 | B51: Ferencvárosi Intézmény Üzemeltetési Központ | C51: 48131
A56: 016010 | B56: Országgyűlési, önkormányzati és európai parlamenti képviselőválasztásokhoz kapcsolódó tevékenységek | C56: =SUM(C57:C61) -> 34350
A57: 1231 | B57: Egyéb működési célú támogatások bevételei államháztartáson belülről | C57: =SUM('1. mell 2 pont '!E137) -> 34350
A62: 016030 | B62: Állampolgársági ügyek | C62: =SUM(C63:C67) -> 0
A68: 016080 | B68: Kiemelt állami és önkormányzati rendezvények | C68: =SUM(C69:C73) -> 0
A74: 018010 | B74: Önkormányzatok elszámolásai a központi költségvetéssel | C74: =SUM(C75:C83) -> 6611886
A75: 1011 | B75: Helyi önk.működésének általános támogatása | C75: =SUM('1. mell 2 pont '!E10) -> 981006
A76: 1012 | B76: Települési önk.egyes köznevelési felad.támogatása | C76: =SUM('1. mell 2 pont '!E11) -> 1844131
A77: 1013 | B77: Települési önk.szoc.gyermekjóléti és gyermekétkeztetési felad.tám. | C77: =SUM('1. mell 2 pont '!E12) -> 1856754
A78: 1014 | B78: Települési önk.kulturális feladatainak támogatása | C78: =SUM('1. mell 2 pont '!E13) -> 415579
A79: 1015 | B79: Műk.c.költségvetési - és kiegészítő támogatások | C79: =SUM('1. mell 2 pont '!E14) -> 0
A80: 1016 | B80: Elszámolásból származó bevételek | C80: =SUM('1. mell 2 pont '!E15) -> 14416
A81: 1218 | B81: Tárgyévi finanszírozási megelőlegezések | C81: =SUM('1. mell 2 pont '!E124) -> 0
A82: 1165 | B82: Óvodafejlesztés | C82: =SUM('1. mell 2 pont '!E88) -> 1500000
A84: 018020 | B84: Központi költségvetési befizetések | C84: =SUM(C85:C89) -> 0
A90: 018030 | B90: Támogatási célú finanszírozási műveletek | C90: =SUM(C91:C98) -> 2885840
A91: 1292 | B91: Előző év működési költségvetési maradványának igénybevétele (Hivatal) | C91: =SUM('1. mell 2 pont '!E180) -> 201032
A92: 1294 | B92: Előző év felhalmozási költségvetési maradványának igénybevétele (Hivatal) | C92: =SUM('1. mell 2 pont '!E185) -> 46504
A93: 1215 | B93: Előző év működési költségvetési maradványának igénybevétele (önkormányzat) | C93: =SUM('1. mell 2 pont '!E122) -> 1576934
A94: 1221 | B94: Előző év felhalmozási költségvetési maradványának igénybevétele (önkormányzat) | C94: =SUM('1. mell 2 pont '!E128) -> 604963
A95: 1450 | B95: Előző év működési költségvetési maradványának igénybevétele (15 db intézmény összesen) | C95: =SUM('1. mell 2 pont '!E232) -> 447970
A96: 1455 | B96: Előző év felhalmozási költségvetési maradványának igénybevétele (15 db intézmény összesen) | C96: =SUM('1. mell 2 pont '!E237) -> 3294
A97: 1459 | B97: Előző év működési vállalkozási maradványának igénybevétele (FEBI) | C97: =SUM('1. mell 2 pont '!E231) -> 1862
A98: 1020 | B98: Elvonások és befizetések bevételei | C98: 3281
A99: 031030 | B99: Közterület rendjének fenntartása | C99: =SUM(C100:C106) -> 476000
A100: 1205 | B100: Gépkocsi elszállítás (Hivatal) | C100: =SUM('1. mell 2 pont '!D142) -> 3000
A101: 1206 | B101: Kerékbilincs bevétele (Hivatal) | C101: =SUM('1. mell 2 pont '!D143) -> 30000
A102: 1074 | B102: Szabálysértési bírság | C102: =SUM('1. mell 2 pont '!D35) -> 0
A103: 1079 | B103: Közigazgatási bírság | C103: =SUM('1. mell 2 pont '!D40) -> 23000
A104: 1081 | B104: Közterületfoglalási díj | C104: =SUM('1. mell 2 pont '!D41) -> 420000
A105: 1091 | B105: Közterületfoglalási díj | C105: =SUM('1. mell 2 pont '!D46) -> 0
A107: 031060 | B107: Bűnmegelőzés | C107: =SUM(C108:C112) -> 0
A113: 032020 | B113: Tűz- és katasztrófavédelmi tevékenységek | C113: =SUM(C114:C118) -> 0
A119: 041140 | B119: Területfejlesztés igazgatása | C119: =SUM(C120:C124) -> 0
A125: 045120 | B125: Út, autópálya építése | C125: =SUM(C126:C130) -> 0
A131: 045140 | B131: Városi és elővárosi közúti személyszállítás | C131: =SUM(C132:C136) -> 0
A137: 045150 | B137: Egyéb szárazföldi személyszállítás | C137: =SUM(C138:C142) -> 0
A143: 045160 | B143: Közutak, hidak, alagutak üzemeltetése, fenntartása | C143: =SUM(C144:C148) -> 0
A149: 045170 | B149: Parkoló, garázs üzemeltetése, fenntartása | C149: =SUM(C150:C157) -> 2935589
A150: 1211 | B150: Parkolóhely megváltás | C150: =SUM('1. mell 2 pont '!D116) -> 0
A151: 1077 | B151: Parkolási bírság, pótdíj | C151: =SUM('1. mell 2 pont '!D38) -> 633877
A152: 1092 | B152: Parkolási díj, ügyviteli költség | C152: =SUM('1. mell 2 pont '!D47) -> 1673262
A153: 1103 | B153: Parkolással kapcsolatos közvetített szolgáltatások ellenértéke | C153: =SUM('1. mell 2 pont '!D58) -> 97924
A154: 1123 | B154: Parkolási feladatokkal kapcsolatos ÁFA | C154: =SUM('1. mell 2 pont '!D64) -> 478220
A155: 1151 | B155: Egyéb működési bevételek - Parkolási feladatokkal kapcsolatban | C155: =SUM('1. mell 2 pont '!D70) -> 38531
A156: 1162 | B156: NEXT LEVEL Parking pályázat | C156: =SUM('1. mell 2 pont '!D76) -> 13775
A158: 047120 | B158: Piac üzemeltetése | C158: =SUM(C159:C163) -> 0
A164: 051020 | B164: Nem veszélyes (települési) hulladék összetevőinek válogatása, elkülönített begyűjtése, szállítása, átrakása | C164: =SUM(C165:C169) -> 0
A170: 053010 | B170: Környezetszennyezés csökkentésének igazgatása | C170: =SUM(C171:C175) -> 0
A176: 061030 | B176: Lakáshoz jutást segítő támogatások | C176: =SUM(C177:C181) -> 17000
B177: Munkáltatói kölcsön visszafizetés (Hivatal) | C177: =SUM('1. mell 2 pont '!D176) -> 2000
A178: 1201 | B178: Helyi támogatás, házmesterek visszafizetése | C178: =SUM('1. mell 2 pont '!D112) -> 0
A179: 1202 | B179: Társasházak befizetései | C179: =SUM('1. mell 2 pont '!D113) -> 15000
A182: 062020 | B182: Településfejlesztési projektek és támogatásuk | C182: =SUM(C183:C187) -> 213158
A183: 1166 | B183: Egészséges utcák - Viola utca | C183: =SUM('1. mell 2 pont '!D95) -> 69767
A184: 1167 | B184: Egészséges utcák - Sobieski utca | C184: =SUM('1. mell 2 pont '!D96) -> 62704
A185: 1168 | B185: Egészséges utcák - Ipar utca | C185: =SUM('1. mell 2 pont '!D97) -> 52136
A186: 1169 | B186: Egészséges utcák - Angyal u. | C186: =SUM('1. mell 2 pont '!D98) -> 28551
A188: 066010 | B188: Zöldterület-kezelés | C188: =SUM(C189:C193) -> 0
A194: 066020 | B194: Város-, községgazdálkodási egyéb szolgáltatások | C194: =SUM(C195:C199) -> 0
A200: 072111 | B200: Háziorvosi alapellátás | C200: =SUM(C201:C205) -> 168775
...
