Workbook
Name adósság: 0
Name beruh: #REF!
Name beruh: #REF!
Name beruh: #REF!
Name beruh: #REF!
Name beruh: #REF!
Name beruh: #REF!
Name beruh: #REF!
Name beruh: #REF!
Name beruh: #REF!
Name beruh: #REF!
Name beruházás: #REF!
Name beruházás: #REF!
Name beruházás: #REF!
Name beruházás: #REF!
Name beruházás: #REF!
Name beruházás: #REF!
Name beruházás: #REF!
Name beruházás: #REF!
Name beruházás: #REF!
Name beruházás: #REF!
Name cs8_sz_melleklet_Dim01: "="
Name cs8_sz_melleklet_Dim02: "="
Name cs8_sz_melleklet_Dim03: "="
Name cs8_sz_melleklet_Dim04: "="
Name cs8_sz_melleklet_Dim05: "="
Name cs8_sz_melleklet_Dim06: "="
Name cs8_sz_melleklet_Dim07: "="
Name cs8_sz_melleklet_Dim08: "="
Name cs8_sz_melleklet_Dim09: "="
Name cs8_sz_melleklet_Dim10: "="
Name cs8_sz_melleklet_Dim11: "="
Name cs8_sz_melleklet_Dim12: "="
Name cs8_sz_mellekletAnchor: #REF!
Name cs9_sz_melleklet_Dim01: "="
Name cs9_sz_melleklet_Dim02: "="
Name cs9_sz_melleklet_Dim03: "="
Name cs9_sz_melleklet_Dim04: "="
Name cs9_sz_melleklet_Dim05: "="
Name cs9_sz_melleklet_Dim06: "="
Name cs9_sz_melleklet_Dim07: "="
Name cs9_sz_melleklet_Dim08: "="
Name cs9_sz_melleklet_Dim09: "="
Name cs9_sz_melleklet_Dim10: "="
Name cs9_sz_melleklet_Dim11: "="
Name cs9_sz_melleklet_Dim12: "="
Name cs9_sz_mellekletAnchor: #REF!
Name csAlapy_rendeleti_tabla_excel_Dim01: "="
Name csAlapy_rendeleti_tabla_excel_Dim02: "="
Name csAlapy_rendeleti_tabla_excel_Dim03: "="
Name csAlapy_rendeleti_tabla_excel_Dim04: "="
Name csAlapy_rendeleti_tabla_excel_Dim05: "="
Name csAlapy_rendeleti_tabla_excel_Dim06: "="
Name csAlapy_rendeleti_tabla_excel_Dim07: "="
Name csAlapy_rendeleti_tabla_excel_Dim08: "="
Name csAlapy_rendeleti_tabla_excel_Dim09: "="
Name csAlapy_rendeleti_tabla_excel_Dim10: "="
Name csAlapy_rendeleti_tabla_excel_Dim11: "="
Name csAlapy_rendeleti_tabla_excel_Dim12: "="
Name csAllowDetailBudgeting: 1

Sheet 1. mell 1. pont
A1: 1. melléklet 1. pont
A2: Működési-felhalmozási bevételek-kiadások mérlegszerű bemutatása
H4: (eFt-ban)
A5: Bevétel | B5: 2026. évi előirányzat 2/2026. | C5: 2026. évi előirányzat 5/2026. | D5: 2026. évi előirányzat …/2026. | E5: Kiadások | F5: 2026. évi előirányzat 2/2026. | G5: 2026. évi előirányzat 5/2026. | H5: 2026. évi előirányzat …/2026.
E7: Személyi juttatások | F7: ='1. mell 3. pont '!C136 -> 12115657 | G7: ='1. mell 3. pont '!D136 -> 12194262 | H7: ='1. mell 3. pont '!E136 -> 12571108
A8: Önkormányzatok működési támogatásai | B8: ='1. mell 2 pont '!C245 -> 4286488 | C8: ='1. mell 2 pont '!D245 -> 4286488 | D8: ='1. mell 2 pont '!E245 -> 5111886 | E8: Munkaadókat terh. járulékok és szociális hozzájárulási adó | F8: ='1. mell 3. pont '!C137 -> 1646072 | G8: ='1. mell 3. pont '!D137 -> 1651772 | H8: ='1. mell 3. pont '!E137 -> 1769363
A9: Elvonások és befizetések bevételei | B9: ='1. mell 2 pont '!C246 -> 0 | C9: ='1. mell 2 pont '!D246 -> 0 | D9: ='1. mell 2 pont '!E246 -> 3281 | E9: Dologi kiadások | F9: ='1. mell 3. pont '!C138 -> 9869279 | G9: ='1. mell 3. pont '!D138 -> 9786370 | H9: ='1. mell 3. pont '!E138 -> 11088881
A10: Egyéb működési célú tám.bev. Áh-n belülről | B10: ='1. mell 2 pont '!C248 -> 2543412 | C10: ='1. mell 2 pont '!D248 -> 2543412 | D10: ='1. mell 2 pont '!E248 -> 2789893 | E10: Ellátottak pénzbeli juttatásai | F10: ='1. mell 3. pont '!C139 -> 244845 | G10: ='1. mell 3. pont '!D139 -> 244845 | H10: ='1. mell 3. pont '!E139 -> 251964
A11: "Egészséges Budapest Program" Integr. Alapell. Járób. szakell. Központ megv. | B11: 0 | C11: 0 | D11: 0
A12: Egyéb műk. célú támog.bevételei Áh-n belülről - EU-s pály. KEHOP-1.2.1-18-2018-00006 | B12: 0 | C12: 0 | D12: 0 | E12: Egyéb működési célú kiadások | F12: ='1. mell 3. pont '!C140 -> 5700041 | G12: ='1. mell 3. pont '!D140 -> 5700041 | H12: ='1. mell 3. pont '!E140 -> 5536491
A13: Egyéb műk. célú támog.bevételei Áh-n belülről - VEKOP-7 3 4-17-2017-00011 | B13: 0 | C13: 0 | D13: 0 | E13: ebből: Általános tartalék | F13: ='1. mell 3. pont '!C82 -> 350000 | G13: ='1. mell 3. pont '!D82 -> 350000 | H13: ='1. mell 3. pont '!E82 -> 431868
E14: Működési céltartalék 6. sz. melléklet szerint | F14: ='1. mell 3. pont '!C83 -> 609413 | G14: ='1. mell 3. pont '!D83 -> 609413 | H14: ='1. mell 3. pont '!E83 -> 0
A15: Működési célú támogatások Államháztartáson belülről összesen | B15: =SUM(B8:B14) -> 6829900 | C15: =SUM(C8:C14) -> 6829900 | D15: =SUM(D8:D14) -> 7905060
A16: Vagyoni típusú adók (Helyi adó) | B16: ='1. mell 2 pont '!C254 -> 7550000 | C16: ='1. mell 2 pont '!D254 -> 7550000 | D16: ='1. mell 2 pont '!E254 -> 7550000
A17: Termékek és szolgáltatások adói | B17: ='1. mell 2 pont '!C255 -> 10643750 | C17: ='1. mell 2 pont '!D255 -> 10643750 | D17: ='1. mell 2 pont '!E255 -> 10643750
A18: Egyéb közhatalmi bevételek | B18: ='1. mell 2 pont '!C256 -> 1178433 | C18: ='1. mell 2 pont '!D256 -> 1178433 | D18: ='1. mell 2 pont '!E256 -> 1178433
A19: Közhatalmi bevételek összesen | B19: =SUM(B16:B18) -> 19372183 | C19: =SUM(C16:C18) -> 19372183 | D19: =SUM(D16:D18) -> 19372183
A20: Készletértékesítés ellenértéke | B20: ='1. mell 2 pont '!C260 -> 200 | C20: ='1. mell 2 pont '!D260 -> 200 | D20: ='1. mell 2 pont '!E260 -> 200
A21: Szolgáltatások ellenértéke | B21: ='1. mell 2 pont '!C261 -> 2828612 | C21: ='1. mell 2 pont '!D261 -> 2831683 | D21: ='1. mell 2 pont '!E261 -> 2828083
A22: Közvetített szolgáltatások ellenértéke | B22: ='1. mell 2 pont '!C262 -> 249324 | C22: ='1. mell 2 pont '!D262 -> 247852 | D22: ='1. mell 2 pont '!E262 -> 247852
A23: Tulajdonosi bevétel | B23: ='1. mell 2 pont '!C263 -> 0 | C23: ='1. mell 2 pont '!D263 -> 0 | D23: ='1. mell 2 pont '!E263 -> 0
A24: Ellátási díjak | B24: ='1. mell 2 pont '!C264 -> 288465 | C24: ='1. mell 2 pont '!D264 -> 288465 | D24: ='1. mell 2 pont '!E264 -> 292065
A25: Kiszámlázott általános forgalmi adó | B25: ='1. mell 2 pont '!C265 -> 881172 | C25: ='1. mell 2 pont '!D265 -> 881604 | D25: ='1. mell 2 pont '!E265 -> 881604
A26: Általános forgalmi adó visszatérítése | B26: ='1. mell 2 pont '!C266 -> 73000 | C26: ='1. mell 2 pont '!D266 -> 73000 | D26: ='1. mell 2 pont '!E266 -> 73000
A27: Kamatbevételek és más nyereségjellegű bevételek | B27: ='1. mell 2 pont '!C267 -> 150000 | C27: ='1. mell 2 pont '!D267 -> 150000 | D27: ='1. mell 2 pont '!E267 -> 150000
A28: Részesedések értékesítéséhez kapcsolódó realizált nyereség | B28: ='1. mell 2 pont '!C268 -> 0 | C28: ='1. mell 2 pont '!D268 -> 0 | D28: ='1. mell 2 pont '!E268 -> 0
A29: Biztosító által fizetett kártérítés | B29: 0 | C29: 0 | D29: 0
A30: Egyéb működési bevételek | B30: ='1. mell 2 pont '!C269 -> 68956 | C30: ='1. mell 2 pont '!D269 -> 68956 | D30: ='1. mell 2 pont '!E269 -> 68956
A31: Működési bevételek összesen | B31: =SUM(B20:B30) -> 4539729 | C31: =SUM(C20:C30) -> 4541760 | D31: =SUM(D20:D30) -> 4541760
A32: Egyéb működési célú átvett pénzeszköz | B32: ='1. mell 2 pont '!C273 -> 13775 | C32: ='1. mell 2 pont '!D273 -> 13775 | D32: ='1. mell 2 pont '!E273 -> 13775
A33: Működési célú átvett pénzeszközök összesen | B33: =SUM(B32) -> 13775 | C33: =SUM(C32) -> 13775 | D33: =SUM(D32) -> 13775
A34: Működési költségvetési bevételek mindösszesen | B34: =SUM(B33,B31,B19,B15) -> 30755587 | C34: =SUM(C33,C31,C19,C15) -> 30757618 | D34: =SUM(D33,D31,D19,D15) -> 31832778 | E34: Működési költségvetési kiadások mindösszesen | F34: =SUM(F7:F12) -> 29575894 | G34: =SUM(G7:G12) -> 29577290 | H34: =SUM(H7:H12) -> 31217807
A35: Felhalmozási célú önkormányzati támogatások | B35: ='1. mell 2 pont '!C285 -> 963158 | C35: ='1. mell 2 pont '!D285 -> 1713158 | D35: =SUM('1. mell 2 pont '!E279) -> 1500000
A36: "Egészséges Budapest Program" Integrélt Alapell. Járób. szakell. Közp. megv. | B36: 0 | C36: 0 | D36: 0
A37: Ferencvárosi lakótömb rehabilitációjának I. üteme | B37: 0 | C37: 0 | D37: 0 | E37: Beruházások | F37: ='1. mell 3. pont '!C143 -> 4206463 | G37: ='1. mell 3. pont '!D143 -> 4207098 | H37: ='1. mell 3. pont '!E143 -> 4488054.9
A38: Egyéb felhalmozási célú támog.bevételei ÁH-n belülről - Fővárosi Önkormányzattól | B38: 0 | C38: 0 | D38: 0 | E38: Felújítások | F38: ='1. mell 3. pont '!C144 -> 9243387 | G38: ='1. mell 3. pont '!D144 -> 9243387 | H38: ='1. mell 3. pont '!E144 -> 9910638.1
A39: Egyéb felhalmozási célú támog.bevételei ÁH-n belülről | B39: 0 | C39: 0 | D39: =SUM('1. mell 2 pont '!E282,'1. mell 2 pont '!E283) -> 213458 | E39: Egyéb felhalmozási célú kiadások | F39: ='1. mell 3. pont '!C145 -> 1538541 | G39: ='1. mell 3. pont '!D145 -> 2288541 | H39: ='1. mell 3. pont '!E145 -> 2498422
A40: Felhalmozási célú támogatások Államháztartáson belülről összesen | B40: =SUM(B35:B39) -> 963158 | C40: =SUM(C35:C39) -> 1713158 | D40: =SUM(D35:D39) -> 1713458 | E40: Felhalmozási célú céltartalék 6. sz. melléklet szerint | H40: =SUM('1. mell 3. pont '!E146) -> 609413
A41: Ingatlanok értékesítése | B41: ='1. mell 2 pont '!C287 -> 950000 | C41: ='1. mell 2 pont '!D287 -> 950000 | D41: ='1. mell 2 pont '!E287 -> 950000
A42: Egyéb tárgyi eszköz értékesítése
...

Sheet 1. mell 2 pont 
A1: 1. melléklet 2. pont
A2: Az önkormányzat 2026. évi bevételei
F3: (eFt-ban)
A4: Sorsz. | B4: Megnevezés | C4: 2026. évi előirányzat 2/2026. | D4: 2026. évi előirányzat 5/2026. | E4: 2026. évi előirányzat ../2026. | F4: Index 5./4.
A7: 1. | B7: 2. | C7: 3. | D7: 4. | E7: 5. | F7: 6.
A9: 1010 | B9: Önkormányzatok működési támogatásai | C9: =SUM(C10:C15) -> 4286488 | D9: =SUM(D10:D15) -> 4286488 | E9: =SUM(E10:E15) -> 5111886 | F9: =E9/D9 -> 1.1925581
A10: 1011 | B10: - Helyi önkormányzatok működésének általános támogatása | C10: 930867 | D10: 930867 | E10: =930867+50139 -> 981006 | F10: =E10/D10 -> 1.0538627
A11: 1012 | B11: - Települési önkormányzatok egyes köznevelési feladatainak támogatása | C11: 1680415 | D11: 1680415 | E11: =1680415+110628+53088 -> 1844131 | F11: =E11/D11 -> 1.0974259
A12: 1013 | B12: - Települési önkormányzatok szociális, gyermekjóléti és gyermekétkeztési feladatainak támogatása | C12: 1645473 | D12: 1645473 | E12: =1645473+75509+26695+24909+84168 -> 1856754 | F12: =E12/D12 -> 1.1284014
A13: 1014 | B13: - Települési önkormányzatok kulturális feladatainak támogatása | C13: 29733 | D13: 29733 | E13: =29733+313826+72020 -> 415579 | F13: =E13/D13 -> 13.977029
A14: 1015 | B14: - Működési célú költségvetési támogatások és kiegészítő támogatások
A15: 1016 | B15: - Elszámolásból származó bevételek | E15: 14416
A16: 1020 | B16: Elvonások és befizetések bevételei | E16: 3281
A17: 1029 | B17: "Egészséges Budapest Program" Integrélt Alapell. Járóbeteg szakell. Központ megv.
A18: 1030 | B18: Egyéb működési célú támogatások bevételei államháztartáson belülről | C18: 8000 | D18: 8000 | E18: =8000+212131 -> 220131 | F18: =E18/D18 -> 27.516375
A19: 1031 | B19: Egyéb műk. célú támog.bevételei Áh-n belülről - EU-s pályázat KEHOP-1.2.1-18-2018-00006
A20: 1032 | B20: VEKOP-7 3 4-17-2017-00011 József Attila
B22: Működési célú támogatások államháztartáson belülről összesen | C22: =SUM(C20,C19,C18,C17,C16,C9) -> 4294488 | D22: =SUM(D20,D19,D18,D17,D16,D9) -> 4294488 | E22: =SUM(E20,E19,E18,E17,E16,E9) -> 5335298 | F22: =E22/D22 -> 1.2423595
A24: 1040 | B24: Vagyoni típusú adók (Helyi adó) | C24: =SUM(C25:C26) -> 7550000 | D24: =SUM(D25:D26) -> 7550000 | E24: =SUM(E25:E26) -> 7550000 | F24: =E24/D24 -> 1
A25: 1041 | B25: Építményadó | C25: 6800000 | D25: 6800000 | E25: 6800000 | F25: =E25/D25 -> 1
A26: 1042 | B26: Telekadó | C26: 750000 | D26: 750000 | E26: 750000 | F26: =E26/D26 -> 1
A27: 1050 | B27: Termékek és szolgáltatások adói | C27: =SUM(C28:C30) -> 10643750 | D27: =SUM(D28:D30) -> 10643750 | E27: =SUM(E28:E30) -> 10643750 | F27: =E27/D27 -> 1
A28: 1051 | B28: Iparűzési adó | C28: 9823750 | D28: 9823750 | E28: 9823750 | F28: =E28/D28 -> 1
A29: 1052 | B29: Belföldi gépjárművek adójának a helyi önkormányzatot megillető része
A30: 1053 | B30: Idegenforgalmi adó | C30: 820000 | D30: 820000 | E30: 820000 | F30: =E30/D30 -> 1
A31: 1070 | B31: Egyéb közhatalmi bevételek | C31: =SUM(C32:C42) -> 1145433 | D31: =SUM(D32:D42) -> 1145433 | E31: =SUM(E32:E42) -> 1145433 | F31: =E31/D31 -> 1
A32: 1071 | B32: Igazgatásszolgáltatási díj | C32: 250 | D32: 250 | E32: 250 | F32: =E32/D32 -> 1
A33: 1072 | B33: Talajterhelési díj
A34: 1073 | B34: Környezetvédelmi bírság
A35: 1074 | B35: Szabálysértési bírság
A36: 1075 | B36: Helyi adó pótlék, bírság | C36: 40000 | D36: 40000 | E36: 40000 | F36: =E36/D36 -> 1
A37: 1076 | B37: Iparűzési adó pótlék, bírság | C37: 28306 | D37: 28306 | E37: 28306 | F37: =E37/D37 -> 1
A38: 1077 | B38: Parkolási bírság, pótdíj | C38: 633877 | D38: 633877 | E38: 633877 | F38: =E38/D38 -> 1
A39: 1078 | B39: Egyéb bírságból származó bevétel
A40: 1079 | B40: Közigazgatási bírság | C40: 23000 | D40: 23000 | E40: 23000 | F40: =E40/D40 -> 1
A41: 1081 | B41: Közterületfoglalási díj | C41: 420000 | D41: 420000 | E41: 420000 | F41: =E41/D41 -> 1
B43: Közhatalmi bevételek összesen | C43: =SUM(C24+C27+C31) -> 19339183 | D43: =SUM(D24+D27+D31) -> 19339183 | E43: =SUM(E24+E27+E31) -> 19339183 | F43: =E43/D43 -> 1
A45: 1090 | B45: Szolgáltatások ellenértéke | C45: =SUM(C46:C54) -> 2601262 | D45: =SUM(D46:D54) -> 2601262 | E45: =SUM(E46:E54) -> 2601262 | F45: =E45/D45 -> 1
A46: 1091 | B46: - Közterületfoglalási díj
A47: 1092 | B47: - Parkolási díj, ügyviteli költség | C47: 1673262 | D47: 1673262 | E47: 1673262 | F47: =E47/D47 -> 1
...

Sheet 1. mell 3. pont 
A1: 1. melléklet 3. pont
A2: Az önkormányzat 2026. évi kiadásai
F4: (eFt-ban)
A5: Sorsz. | B5: Megnevezés | C5: 2026. évi előirányzat 2/2026. | D5: 2026. évi előirányzat 5/2026. | E5: 2026. évi előirányzat ../2026. | F5: Index 5./4.
A8: 1. | B8: 2. | C8: 3. | D8: 4. | E8: 5. | F8: 6.
B9: I. Polgármesteri Hivatal kiadásai
A11: 1710 | B11: Polgármesteri Hivatal kiadása (3. melléklet 1.pont. melléklet szerint) | C11: =SUM(C12:C19) -> 4995397 | D11: =SUM(D12:D19) -> 4995397 | E11: =SUM(E12:E19) -> 5376303 | F11: =SUM(E11/D11) -> 1.0762514
A12: 1711 | B12: Személyi juttatások | C12: ='3 mell 1. pont'!C72 -> 3332083 | D12: ='3 mell 1. pont'!D72 -> 3332083 | E12: ='3 mell 1. pont'!E72 -> 3457779 | F12: =E12/D12 -> 1.0377229
A13: 1712 | B13: Munkaadókat terhelő járulékok és szociális hozzájárulási adó | C13: ='3 mell 1. pont'!C73 -> 454723 | D13: ='3 mell 1. pont'!D73 -> 454723 | E13: ='3 mell 1. pont'!E73 -> 494810 | F13: =E13/D13 -> 1.088157
A14: 1713 | B14: Dologi kiadások | C14: ='3 mell 1. pont'!C74 -> 633736 | D14: ='3 mell 1. pont'!D74 -> 633736 | E14: ='3 mell 1. pont'!E74 -> 832229 | F14: =E14/D14 -> 1.3132109
A15: 1714 | B15: Ellátottak pénzbeli juttatásai | C15: ='3 mell 1. pont'!C75 -> 0 | D15: ='3 mell 1. pont'!D75 -> 0 | E15: ='3 mell 1. pont'!E75 -> 0
A16: 1715 | B16: Egyéb működési célú kiadások | C16: ='3 mell 1. pont'!C76 -> 0 | D16: ='3 mell 1. pont'!D76 -> 0 | E16: ='3 mell 1. pont'!E76 -> 0
A17: 1716 | B17: Beruházások | C17: ='3 mell 1. pont'!C80 -> 415755 | D17: ='3 mell 1. pont'!D80 -> 415755 | E17: ='3 mell 1. pont'!E80 -> 419245 | F17: =E17/D17 -> 1.0083944
A18: 1717 | B18: Felújítások | C18: ='3 mell 1. pont'!C79 -> 156100 | D18: ='3 mell 1. pont'!D79 -> 156100 | E18: ='3 mell 1. pont'!E79 -> 169240 | F18: =E18/D18 -> 1.0841768
A19: 1718 | B19: Egyéb felhalmozási célú kiadások - Munkáltatói kölcsön | C19: ='3 mell 1. pont'!C81 -> 3000 | D19: ='3 mell 1. pont'!D81 -> 3000 | E19: ='3 mell 1. pont'!E81 -> 3000 | F19: =E19/D19 -> 1
B21: II. Önkormányzat kiadásai
A23: 1750 | B23: Önkormányzat költségvetésben szereplő kiadások (3. melléklet 2.pont. melléklet szerint) | C23: =SUM(C24:C32) -> 7231873 | D23: =SUM(D24:D32) -> 7064773 | E23: =SUM(E24:E32) -> 7738125 | F23: =SUM(E23/D23) -> 1.0953112
A24: 1751 | B24: Személyi juttatások | C24: ='3 mell. 2. pont'!C941 -> 420407 | D24: ='3 mell. 2. pont'!D941 -> 420407 | E24: ='3 mell. 2. pont'!E941 -> 436344 | F24: =E24/D24 -> 1.0379085
A25: 1752 | B25: Munkaadókat terhelő járulékok és szociális hozzájárulási adó | C25: ='3 mell. 2. pont'!C942 -> 64421 | D25: ='3 mell. 2. pont'!D942 -> 64421 | E25: ='3 mell. 2. pont'!E942 -> 68721 | F25: =E25/D25 -> 1.0667484
A26: 1753 | B26: Dologi kiadások | C26: ='3 mell. 2. pont'!C943 -> 5086437 | D26: ='3 mell. 2. pont'!D943 -> 4919337 | E26: ='3 mell. 2. pont'!E943 -> 5519916 | F26: =E26/D26 -> 1.1220854
A27: 1754 | B27: Ellátottak pénzbeli juttatásai | C27: ='3 mell. 2. pont'!C944 -> 244500 | D27: ='3 mell. 2. pont'!D944 -> 244500 | E27: ='3 mell. 2. pont'!E944 -> 251619 | F27: =E27/D27 -> 1.0291166
A28: 1755 | B28: Egyéb működési célú kiadások | C28: ='3 mell. 2. pont'!C945 -> 111788 | D28: ='3 mell. 2. pont'!D945 -> 111788 | E28: ='3 mell. 2. pont'!E945 -> 116088 | F28: =E28/D28 -> 1.0384657
A29: 1756 | B29: Beruházások | C29: ='3 mell. 2. pont'!C948 -> 53400 | D29: ='3 mell. 2. pont'!D948 -> 53400 | E29: ='3 mell. 2. pont'!E948 -> 85395 | F29: =E29/D29 -> 1.5991573
A30: 1757 | B30: Felújítások | C30: ='3 mell. 2. pont'!C949 -> 0 | D30: ='3 mell. 2. pont'!D949 -> 0 | E30: ='3 mell. 2. pont'!E949 -> 0
A31: 1758 | B31: Egyéb felhalmozási célú kiadások | C31: ='3 mell. 2. pont'!C950 -> 1250920 | D31: ='3 mell. 2. pont'!D950 -> 1250920 | E31: ='3 mell. 2. pont'!E950 -> 1260042 | F31: =E31/D31 -> 1.0072922
A33: 1760 | B33: Önkormányzat ktsv. szereplő Támogatások (3. melléklet 3.pont. melléklet szerint) | C33: =SUM(C34:C40) -> 1887001 | D33: =SUM(D34:D40) -> 1887001 | E33: =SUM(E34:E40) -> 2409237 | F33: =SUM(E33/D33) -> 1.2767545
A34: 1761 | B34: Személyi juttatások | C34: ='3 mell 3. pont'!C66 -> 10644 | D34: ='3 mell 3. pont'!D66 -> 10644 | E34: ='3 mell 3. pont'!E66 -> 11879 | F34: =E34/D34 -> 1.1160278
A35: 1762 | B35: Munkaadókat terhelő járulékok és szociális hozzájárulási adó | C35: ='3 mell 3. pont'!C67 -> 2004 | D35: ='3 mell 3. pont'!D67 -> 2004 | E35: ='3 mell 3. pont'!E67 -> 2286 | F35: =E35/D35 -> 1.1407186
A36: 1763 | B36: Dologi kiadások | C36: ='3 mell 3. pont'!C68 -> 14243 | D36: ='3 mell 3. pont'!D68 -> 14243 | E36: ='3 mell 3. pont'!E68 -> 14243 | F36: =E36/D36 -> 1
A37: 1764 | B37: Egyéb működési célú kiadások | C37: ='3 mell 3. pont'!C69 -> 1617610 | D37: ='3 mell 3. pont'!D69 -> 1617610 | E37: ='3 mell 3. pont'!E69 -> 1937570 | F37: =E37/D37 -> 1.197798
A38: 1765 | B38: Beruházási kiadások | C38: ='3 mell 3. pont'!C72 -> 5000 | D38: ='3 mell 3. pont'!D72 -> 5000 | E38: ='3 mell 3. pont'!E72 -> 5000 | F38: =E38/D38 -> 1
A39: 1766 | B39: Egyéb felhalmozási célú kiadások | C39: ='3 mell 3. pont'!C73 -> 237500 | D39: ='3 mell 3. pont'!D73 -> 237500 | E39: ='3 mell 3. pont'!E73 -> 438259 | F39: =E39/D39 -> 1.8453011
A41: 1770 | B41: Önkormányzati Felújítási kiadások (4. sz. melléklet szerint) | C41: =SUM(C42:C48) -> 8743502 | D41: =SUM(D42:D48) -> 8743502 | E41: =SUM(E42:E48) -> 9146490 | F41: =SUM(E41/D41) -> 1.04609
A42: 1771 | B42: Személyi juttatások | C42: ='4.mell.'!C71 -> 0 | D42: ='4.mell.'!D71 -> 0 | E42: ='4.mell.'!E71 -> 0
A43: 1772 | B43: Munkaadókat terhelő járulékok és szociális hozzájárulási adó | C43: ='4.mell.'!C72 -> 0 | D43: ='4.mell.'!D72 -> 0 | E43: ='4.mell.'!E72 -> 0
A44: 1773 | B44: Dologi kiadások | C44: ='4.mell.'!C73 -> 0 | D44: ='4.mell.'!D73 -> 0 | E44: ='4.mell.'!E73 -> 0
A45: 1774 | B45: Egyéb működési célú kiadás | C45: ='4.mell.'!C74 -> 0 | D45: ='4.mell.'!D74 -> 0 | E45: ='4.mell.'!E74 -> 0
A46: 1775 | B46: Beruházások | C46: ='4.mell.'!C77 -> 0 | D46: ='4.mell.'!D77 -> 0 | E46: ='4.mell.'!E77 -> 0
A47: 1776 | B47: Felújítások | C47: ='4.mell.'!C78 -> 8696381 | D47: ='4.mell.'!D78 -> 8696381 | E47: ='4.mell.'!E78 -> 9099369 | F47: =E47/D47 -> 1.0463397
A48: 1777 | B48: Egyéb felhalmozási célú kiadások | C48: ='4.mell.'!C79 -> 47121 | D48: ='4.mell.'!D79 -> 47121 | E48: ='4.mell.'!E79 -> 47121 | F48: =E48/D48 -> 1
...

Sheet 2.mell
A1: 2. melléklet
A2: Költségvetési szervek 2026. évi költségvetése
F4: (eFt-ban)
A5: Sorsz. | B5: Megnevezés | C5: 2026. évi előirányzat 2/2026. | D5: 2026. évi előirányzat 5/2026. | E5: 2026. évi előirányzat ../2026. | F5: Index 5./4.
A8: 1. | B8: 2. | C8: 3. | D8: 4. | E8: 5. | F8: 6.
A9: 2305 | B9: Csicsergő Óvoda /Thaly K. u. 38./
B10: Elvonások és befizetések bevételei
B11: Egyéb működési célú támogatások bevételei Áh-n belülről
B12: Működési célú támogatások Áh-n belülről összesen
B13: Szolgáltatások ellenértéke
B14: Egyéb szolgáltatás
B15: Bérleti díjak
B16: Közvetített szolgáltatások ellenértéke
B17: Ellátási díjak
B18: Kiszámlázott általános forgalmi adó
B19: Általános forgalmi adó visszatérítése
B20: Kamatbevételek és más nyereségjelegű bevételek
B21: Egyéb működési bevételek
... B26: Felhalmozási költségvetési bevételek mindösszesen
B27: Előző év költségvetési maradványának igénybevétele | E27: 2896
B28: Irányító szervi támogatás | C28: 345557 | D28: 345557 | E28: =345557+506+6744 -> 352807 | F28: =E28/D28 -> 1.0209806
B29: Működési finanszírozási bevételek | C29: =SUM(C27:C28) -> 345557 | D29: =SUM(D27:D28) -> 345557 | E29: =SUM(E27:E28) -> 355703 | F29: =E29/D29 -> 1.0293613
B30: Előző év költségvetési maradványának igénybevétele
B31: Felhalmozási finanszírozási bevételek
B32: Bevételek mindösszesen | C32: =SUM(C24+C26+C29+C31) -> 345557 | D32: =SUM(D24+D26+D29+D31) -> 345557 | E32: =SUM(E24+E26+E29+E31) -> 355703 | F32: =E32/D32 -> 1.0293613
B33: Személyi juttatások | C33: 289452 | D33: 289452 | E33: =289452+135+5437 -> 295024 | F33: =E33/D33 -> 1.0192502
B34: Munkaadókat terhelő járulékok és szociális hozzájárulási adó | C34: 43392 | D34: 43392 | E34: =43392+1353+1307 -> 46052 | F34: =E34/D34 -> 1.0613016
B35: Dologi kiadások | C35: 7379 | D35: 7379 | E35: =7379+506+1408 -> 9293 | F35: =E35/D35 -> 1.2593847
B36: Ellátottak pénzbeli juttatásai
B37: Egyéb működési célú kiadások
B38: Működési költségvetési kiadások mindösszesen | C38: =SUM(C33:C37) -> 340223 | D38: =SUM(D33:D37) -> 340223 | E38: =SUM(E33:E37) -> 350369 | F38: =E38/D38 -> 1.0298216
B39: Beruházások (bútorok, berendezési tárgyak) | C39: 5334 | D39: 5334 | E39: 5334 | F39: =E39/D39 -> 1
B40: Felújítások
B41: Egyéb felhalmozási célú kiadások
B42: Felhalmozási költségvetési kiadások mindösszesen | C42: =SUM(C39:C41) -> 5334 | D42: =SUM(D39:D41) -> 5334 | E42: =SUM(E39:E41) -> 5334 | F42: =E42/D42 -> 1
B43: Kiadások mindösszesen | C43: =SUM(C38+C42) -> 345557 | D43: =SUM(D38+D42) -> 345557 | E43: =SUM(E38+E42) -> 355703 | F43: =E43/D43 -> 1.0293613
A44: 2309 | B44: Csudafa Óvoda /Óbester u. 9./
B45: Elvonások és befizetések bevételei
B46: Egyéb működési célú támogatások bevételei Áh-n belülről
B47: Működési célú támogatások Áh-n belülről összesen
...

Sheet 3 mell 1. pont
A1: 3. melléklet 1. pont
A2: A Polgármesteri Hivatal kiadásai 2026.
F3: (eFt-ban)
C4: 2026. évi előirányzat 2/2026. | D4: 2026. évi előirányzat 5/2026. | E4: 2026. évi előirányzat ../2026. | F4: Index 5./4.
A5: Sorsz. | B5: Kiadás megnevezése
A7: 1. | B7: 2. | C7: 3. | D7: 4. | E7: 5. | F7: 6.
A8: 3010 | B8: Üdülőhelyi szálláshely szolgáltatás | C8: =SUM(C18) -> 47250 | D8: =SUM(D18) -> 47250 | E8: =SUM(E18) -> 51390 | F8: =SUM(E8/D8) -> 1.087619
A9: 3011 | B9: Balatonszéplaki Üdülő
B10: Személyi juttatások | C10: 3000 | D10: 3000 | E10: 3000 | F10: =SUM(E10/D10) -> 1
B11: Munkaadókat terhelő jár. és szociális hozzájár.adó | C11: 450 | D11: 450 | E11: 450 | F11: =SUM(E11/D11) -> 1
B12: Dologi kiadások és egyéb folyó kiadások | C12: 16800 | D12: 16800 | E12: =16800+1717 -> 18517 | F12: =SUM(E12/D12) -> 1.1022024
B13: Ellátottak pénzbeli juttatásai
B14: Egyéb működési célú kiadások
B15: Beruházások | C15: 13000 | D15: 13000 | E15: =13000+2423 -> 15423 | F15: =SUM(E15/D15) -> 1.1863846
B16: Felújítások | C16: 14000 | D16: 14000 | E16: 14000 | F16: =SUM(E16/D16) -> 1
B17: Egyéb felhalmozási célú kiadások
B18: Költségvetési kiadások | C18: =SUM(C10:C17) -> 47250 | D18: =SUM(D10:D17) -> 47250 | E18: =SUM(E10:E17) -> 51390 | F18: =SUM(E18/D18) -> 1.087619
A19: 3020 | B19: Általános közszolgáltatások | C19: =SUM(C29+C69) -> 4891647 | D19: =SUM(D29+D69) -> 4891647 | E19: =SUM(E29+E69) -> 5228203 | F19: =SUM(E19/D19) -> 1.0688022
A20: 3021 | B20: Polgármesteri Hivatal igazgatási kiadásai
B21: Személyi juttatások | C21: 3279083 | D21: 3279083 | E21: =3279083+58111+42984 -> 3380178 | F21: =SUM(E21/D21) -> 1.0308303
B22: Munkaadókat terhelő jár. és szociális hozzájár.adó | C22: 447773 | D22: 447773 | E22: =447773+23738+12035 -> 483546 | F22: =SUM(E22/D22) -> 1.0798909
B23: Dologi kiadások és egyéb folyó kiadások | C23: 508800 | D23: 508800 | E23: =508800+41512+71641+16500 -> 638453 | F23: =SUM(E23/D23) -> 1.2548211
B24: Ellátottak pénzbeli juttatásai
B25: Egyéb működési célú kiadások
B26: Beruházások | C26: 90000 | D26: 90000 | E26: =90000+1067 -> 91067 | F26: =SUM(E26/D26) -> 1.0118556
B27: Felújítások | C27: 142100 | D27: 142100 | E27: =142100+13140 -> 155240 | F27: =SUM(E27/D27) -> 1.0924701
B28: Egyéb felhalmozási célú kiadások - Munkáltatói kölcsön | C28: 3000 | D28: 3000 | E28: 3000 | F28: =SUM(E28/D28) -> 1
B29: Költségvetési kiadások | C29: =SUM(C21:C28) -> 4470756 | D29: =SUM(D21:D28) -> 4470756 | E29: =SUM(E21:E28) -> 4751484 | F29: =SUM(E29/D29) -> 1.0627921
A30: 3023 | B30: Választás (központi támogatás terhére)
B31: Személyi juttatások | E31: 20500
B32: Munkaadókat terhelő jár. és szociális hozzájár.adó | E32: 3560
B33: Dologi kiadások és egyéb folyó kiadások | E33: 10290
B34: Ellátottak pénzbeli juttatásai
B35: Egyéb működési célú kiadások
B36: Beruházások
B37: Felújítások
B38: Egyéb felhalmozási célú kiadások - Munkáltatói kölcsön
B39: Költségvetési kiadások | C39: =SUM(C31:C38) -> 0 | D39: =SUM(D31:D38) -> 0 | E39: =SUM(E31:E38) -> 34350
A40: 3024 | B40: Választás (saját forrás terhére)
B41: Személyi juttatások | C41: 50000 | D41: 50000 | E41: =50000+4101 -> 54101 | F41: =SUM(E41/D41) -> 1.08202
...

Sheet 3 mell. 2. pont
A1: 3. melléklet 2. pont
A2: Az önkormányzat költségvetésében szereplő 2026. évi kiadások
G4: (eFt-ban)
C5: 2026. évi előirányzat 2/2026. | D5: 2026. évi előirányzat 5/2026. | E5: 2026. évi előirányzat ../2026. | F5: Index 5./4. | G5: Felhasználást és beszámolást koordináló
A6: Sorsz. | B6: Kiadás megnevezése | G6: bizottság
A8: 1. | B8: 2. | C8: 3. | D8: 4. | E8: 5. | F8: 6. | G8: 7.
A9: 3050 | B9: Egyéb kommunális feladatok | C9: =SUM(C19+C29+C39+C49+C59) -> 245000 | D9: =SUM(D19+D29+D39+D49+D59) -> 245000 | E9: =SUM(E19+E29+E39+E49+E59) -> 416597 | F9: =SUM(E9/D9) -> 1.7003959
A10: 3054 | B10: Közterületi növényvédelem
B11: Személyi juttatások
B12: Munkaadókat terhelő jár. és szociális hozzájár.adó
B13: Dologi kiadások és egyéb folyó kiadások | C13: 20000 | D13: 20000 | E13: 20000 | F13: =SUM(E13/D13) -> 1 | G13: Városfejlesztési Bizottság
B14: Ellátottak pénzbeli juttatásai | G14: (beszámolás)
B15: Egyéb működési célú kiadások
B16: Beruházások
B17: Felújítási kiadások
B18: Egyéb felhalmozási célú kiadások
B19: Költségvetési kiadások | C19: =SUM(C13:C18) -> 20000 | D19: =SUM(D13:D18) -> 20000 | E19: =SUM(E13:E18) -> 20000 | F19: =SUM(E19/D19) -> 1
A20: 3056 | B20: Közterületüzemeltetési egyéb feladatok
B21: Személyi juttatások
B22: Munkaadókat terhelő jár. és szociális hozzájár.adó
B23: Dologi kiadások és egyéb folyó kiadások | C23: 25000 | D23: 25000 | E23: =25000+3395 -> 28395 | F23: =SUM(E23/D23) -> 1.1358 | G23: Városfejlesztési Bizottság
B24: Ellátottak pénzbeli juttatásai | G24: (beszámolás)
B25: Egyéb működési célú kiadások
B26: Beruházások | E26: 2768
B27: Felújítási kiadások
B28: Egyéb felhalmozási célú kiadások
B29: Költségvetési kiadások | C29: =SUM(C23:C28) -> 25000 | D29: =SUM(D23:D28) -> 25000 | E29: =SUM(E23:E28) -> 31163 | F29: =SUM(E29/D29) -> 1.24652
A30: 3057 | B30: Fasorfenntartás
B31: Személyi juttatások
B32: Munkaadókat terhelő jár. és szociális hozzájár.adó
B33: Dologi kiadások és egyéb folyó kiadások | C33: 140000 | D33: 140000 | E33: =140000+144510 -> 284510 | F33: =SUM(E33/D33) -> 2.0322143 | G33: Városfejlesztési Bizottság
B34: Ellátottak pénzbeli juttatásai | G34: (beszámolás)
B35: Egyéb működési célú kiadások
B36: Beruházások
B37: Felújítási kiadások
B38: Egyéb felhalmozási célú kiadások
B39: Költségvetési kiadások | C39: =SUM(C33:C38) -> 140000 | D39: =SUM(D33:D38) -> 140000 | E39: =SUM(E33:E38) -> 284510 | F39: =SUM(E39/D39) -> 2.0322143
A40: 3058 | B40: Erdőgazdálkodás
B41: Személyi juttatások
B42: Munkaadókat terhelő jár. és szociális hozzájár.adó
...

Sheet 3 mell 3. pont
A1: 3. melléklet 3. pont
A2: Az önkormányzat költségvetésében szereplő támogatások 2026. évi kiadásai
G4: (eFt-ban)
C5: 2026. évi előirányzat 2/2026. | D5: 2026. évi előirányzat 5/2026. | E5: 2026. évi előirányzat ../2026. | F5: Index 5./4. | G5: Felhasználást és beszámolást koordináló
A6: Sorsz. | B6: Feladat megnevezése | G6: bizottság
A8: 1. | B8: 2. | C8: 3. | D8: 4. | E8: 5. | F8: 6. | G8: 7.
B9: Egyéb általános szolgáltatások
A10: 3911 | B10: Társasházak támogatása | C10: 27000 | D10: 27000 | E10: =27000+53 -> 27053 | F10: =SUM(E10/D10) -> 1.001963
A11: 3910 | B11: Összesen | C11: =SUM(C10:C10) -> 27000 | D11: =SUM(D10:D10) -> 27000 | E11: =SUM(E10:E10) -> 27053 | F11: =SUM(E11/D11) -> 1.001963
B12: Közrend és közbiztonság, közösségi szolgáltatások
A13: 3923 | B13: Polgárőr Egyesület támogatása | C13: 5000 | D13: 5000 | E13: 5000 | F13: =SUM(E13/D13) -> 1
A14: 3924 | B14: IX. kerületi Rendőrkapitányság támogatása | C14: 30000 | D14: 30000 | E14: =30000+750 -> 30750 | F14: =SUM(E14/D14) -> 1.025
A15: 3925 | B15: FEV IX. Zrt. támogatása | C15: 232410 | D15: 232410 | E15: 232410 | F15: =SUM(E15/D15) -> 1 | G15: Városfejlesztési Biz.,Gazdasági Biz. (beszámolás)
A16: 3926 | B16: Tűzoltóság támogtása | C16: 3000 | D16: 3000 | E16: =3000+2000 -> 5000 | F16: =SUM(E16/D16) -> 1.6666667
B17: ebből Egyéb működési célú kiadások | E17: 2000
A18: 3927 | B18: Faültetés támogatása | C18: 5000 | D18: 5000 | E18: 5000 | F18: =SUM(E18/D18) -> 1 | G18: Városfejlesztési Bizottság (beszámolás)
A19: 3928 | B19: Társasház felújítási pályázat | C19: =C21+C22+C23 -> 219000 | D19: =D21+D22+D23 -> 219000 | E19: =E21+E22+E23 -> 419706 | F19: =SUM(E19/D19) -> 1.9164658 | G19: Városfejlesztési Bizottság
B20: ebből:társasházak lépcsőházi kamerák támogatása | C20: =SUM(C21:C22) -> 19000 | D20: =SUM(D21:D22) -> 19000 | E20: =SUM(E21:E22) -> 19000 | F20: =SUM(E20/D20) -> 1
B21: Dologi kiadások | C21: 14000 | D21: 14000 | E21: 14000 | F21: =SUM(E21/D21) -> 1
B22: Beruházási kiadások | C22: 5000 | D22: 5000 | E22: 5000 | F22: =SUM(E22/D22) -> 1
B23: Egyéb felhalmozási célú kiadások | C23: 200000 | D23: 200000 | E23: =200000+200706 -> 400706 | F23: =SUM(E23/D23) -> 2.00353
A24: 3920 | B24: Összesen | C24: =C13+C14+C15+C16+C18+C19 -> 494410 | D24: =D13+D14+D15+D16+D18+D19 -> 494410 | E24: =E13+E14+E15+E16+E18+E19 -> 697866 | F24: =SUM(E24/D24) -> 1.4115127
B25: Oktatás
A26: 3931 | B26: Bursa Hungarica | C26: 2000 | D26: 2000 | E26: =2000+125 -> 2125 | F26: =SUM(E26/D26) -> 1.0625 | G26: Kulturális Bizottság (beszámolás)
A27: 3932 | B27: Deák Alapítvány | C27: 15000 | D27: 15000 | E27: 15000 | F27: =SUM(E27/D27) -> 1 | G27: Kulturális Bizottság (beszámolás)
A28: 3934 | B28: Tanoda támogatás | F28: =SUM(E28/D28) -> #DIV/0!
A30: 3930 | B30: Összesen | C30: =SUM(C26:C29) -> 17000 | D30: =SUM(D26:D29) -> 17000 | E30: =SUM(E26:E29) -> 17125 | F30: =SUM(E30/D30) -> 1.0073529
B31: Egészszégügy, szociális védelem
A32: 3941 | B32: FESZOFE kiemelkedően közhasznú Non-profit Kft működési tám. | C32: 1245480 | D32: 1245480 | E32: 1245480 | F32: =SUM(E32/D32) -> 1 | G32: Városfejl. Biz., Szoc. és Eügyi Biz., Gazdasági Biz. (beszámolás)
A33: 3943 | B33: Akadálymentesítési támogatás | C33: =SUM(C34:C36) -> 1000 | D33: =SUM(D34:D36) -> 1000 | E33: =SUM(E34:E36) -> 1000 | F33: =SUM(E33/D33) -> 1 | G33: Szociális és egészségügyi Bizottság (beszámolás)
B34: Személyi juttatás | C34: 442 | D34: 442 | E34: 442
B35: Munkaadókat terhelő járulékok | C35: 58 | D35: 58 | E35: 58
B36: Egyéb felhalmozási célú kiadások | C36: 500 | D36: 500 | E36: 500
A37: 3940 | B37: Összesen: | C37: =SUM(C32:C33) -> 1246480 | D37: =SUM(D32:D33) -> 1246480 | E37: =SUM(E32:E33) -> 1246480 | F37: =SUM(E37/D37) -> 1
B38: Szabadidő, sport, kultúra, vallás
A39: 3961 | B39: Zeneművészeti szervezetek támogatása | C39: 0 | D39: 0 | E39: 313826
A40: 3972 | B40: Kulturális tevékenység, egyházi és civil szerv.támog támogatása | C40: 50000 | D40: 50000 | E40: =E42+E43 -> 53259 | F40: =SUM(E40/D40) -> 1.06518 | G40: Kulturális Bizottság, Szociális és Egészségügyi Bizottság
B41: Dologi kiadások
B42: Egyéb működési célú kiadások | C42: 48000 | D42: 48000 | E42: =48000+3259 -> 51259
B43: Egyéb felhalmozási célú kiadások | C43: 2000 | D43: 2000 | E43: 2000
...

Sheet 4.mell.
A1: 4. melléklet
A2: 2026. évi felújítások (felújítási kiadások, egyéb felhalmozási célú kiadások és egyéb felújítási munkákhoz kapcsolódó kiadások)
G3: (eFt-ban)
C4: 2026. évi előirányzat 2/2026. | D4: 2026. évi előirányzat 5/2026. | E4: 2026. évi előirányzat ../2026. | F4: Index 5./4.
A5: Sorsz. | B5: Feladat megnevezése | G5: Felhasználást beszámolást koordináló
G6: bizottság
A7: 1. | B7: 2. | C7: 3. | D7: 4. | E7: 5. | F7: 6. | G7: 7.
B8: I. Önkormányzati felújítások
B9: Egyéb kommunális feladatok
A10: 4010 | B10: Ifjúmunkás utca 28-30 Sportpályák felújítása
A11: 4012 | B11: Haller park felújítás | C11: 230000 | D11: 230000 | E11: 230000 | F11: =SUM(E11/D11) -> 1 | G11: Városfejlesztési Bizottság (beszámolás)
A12: 4014 | B12: Játszóterek, műfüves és sportpályák, fitness eszközök, zöldf. felúj., | C12: 197932 | D12: 197932 | E12: 197932 | F12: =SUM(E12/D12) -> 1 | G12: Városfejlesztési Bizottság, József A. Városrészi Önk.
A13: 4015 | B13: Ifjúmunkás u. útburkolat felújítása
A14: 4016 | B14: Thaly passzázs közvilágítás | C14: 10000 | D14: 10000 | E14: 10000 | F14: =SUM(E14/D14) -> 1
A15: 4018 | B15: Utak felújítása, javítása | C15: 300000 | D15: 300000 | E15: 300000 | F15: =SUM(E15/D15) -> 1
A16: 4019 | B16: Járdák felújítása | C16: 120000 | D16: 120000 | E16: 120000 | F16: =SUM(E16/D16) -> 1
A17: 4021 | B17: Egyéb közterületek felújítása, fejlesztése | C17: 204732 | D17: 204732 | E17: 204732 | F17: =SUM(E17/D17) -> 1
B18: Dologi kiadások
B19: Beruházások
B20: Felújítási kiadások
A21: 4022 | B21: Kutyafuttatók felújítása | C21: 20000 | D21: 20000 | E21: 20000 | F21: =SUM(E21/D21) -> 1
A22: 4023 | B22: Lónyay u. 26 buszmegálló felújítása | C22: 17000 | D22: 17000 | E22: 17000 | F22: =SUM(E22/D22) -> 1
A23: 4010 | B23: Egyéb kommunális feladatok összesen | C23: =SUM(C11:C22) -> 1099664 | D23: =SUM(D11:D22) -> 1099664 | E23: =SUM(E11:E22) -> 1099664 | F23: =SUM(E23/D23) -> 1
B24: Önkormányzati vagyonnal való gazdálkodás - Ingatlanügyek
A25: 4114 | B25: Önkormányzati lakóházak tetőfelújítás | C25: 144000 | D25: 144000 | E25: 144000 | F25: =SUM(E25/D25) -> 1
A26: 4121 | B26: Felújításokkal kapcsolatos tervezések | C26: 179884 | D26: 179884 | E26: 179884 | F26: =SUM(E26/D26) -> 1 | G26: Városfejlesztési Biz, József A. Városr. Önk. (beszámolás)
B27: Dologi kiadások
B28: Beruházások
B29: Felújítási kiadások
A30: 4126 | B30: Önkormányzati lakások komfortosítása, lakások és helyiségek felújítása | C30: 252175 | D30: 252175 | E30: 252175 | F30: =SUM(E30/D30) -> 1
B31: Dologi kiadások
B32: Felújítási kiadások
A33: 4153 | B33: Tartószerkezeti statikai vizsgálatok | C33: 25000 | D33: 25000 | E33: 25000 | F33: =SUM(E33/D33) -> 1
A34: 4154 | B34: Tartószerkezeti statikai felújítások | C34: 462527 | D34: 462527 | E34: 462527 | F34: =SUM(E34/D34) -> 1
A35: 4155 | B35: Balázs Béla utca 27/B lakóépület felújítása | C35: 30451 | D35: 30451 | E35: 30451 | F35: =SUM(E35/D35) -> 1
A36: 4156 | B36: Állagmegőrző felújítások | C36: 188000 | D36: 188000 | E36: 188000 | F36: =SUM(E36/D36) -> 1
A37: 4158 | B37: Gát u. 23-25. tervezés | C37: 2071 | D37: 2071 | E37: 2071 | F37: =SUM(E37/D37) -> 1
A38: 4159 | B38: Marhagödör és Vágó utcai felújítás | C38: 492222 | D38: 492222 | E38: 492222 | F38: =SUM(E38/D38) -> 1
A39: 4160 | B39: Márton utca 8. Lakóház felújítás | C39: 1950655 | D39: 1950655 | E39: =1950655+100000 -> 2050655 | F39: =SUM(E39/D39) -> 1.0512648
A40: 4161 | B40: Ügyfélszolgálati Iroda felújítás
...

Sheet 5.mell. 
A1: 5. melléklet
A2: 2026. évi beruházási, fejlesztési kiadások
G4: (eFt-ban)
C5: 2026. évi előirányzat 2/2026. | D5: 2026. évi előirányzat 5/2026. | E5: 2026. évi előirányzat ../2026. | F5: Index 5./4. | G5: Felhasználást és beszámolást koordináló
A6: Sorsz. | B6: Feladat megnevezése | G6: bizottság
A8: 1. | B8: 2. | C8: 3. | D8: 4. | E8: 5. | F8: 6. | G8: 7.
B9: I. Önkormányzati beruházások összesen
B10: Egyéb kommunális feladatok
A11: 5002 | B11: Ifjúmunkás utca 32. Fitnesz park | C11: 24607 | D11: 24607 | E11: 24607 | F11: =SUM(E11/D11) -> 1
A12: 5004 | B12: MÁV csatornázás | C12: 50000 | D12: 50000 | E12: 50000 | F12: =SUM(E12/D12) -> 1
A13: 5005 | B13: Közlekedésbiztonsági fejlesztés | C13: 51179 | D13: 51179 | E13: 51179 | F13: =SUM(E13/D13) -> 1
A14: 5008 | B14: Tinódi parkba illemhelyiség
A15: 5010 | B15: Neon Park | C15: 20000 | D15: 20000 | E15: 20000 | F15: =SUM(E15/D15) -> 1
A16: 5012 | B16: Belső-Ferencváros akadálymentesítés | C16: 208284 | D16: 208284 | E16: 208284 | F16: =SUM(E16/D16) -> 1
A17: 5013 | B17: Zöldfelületi kataszter, fakataszter elkészítése | C17: 1258 | D17: 1258 | E17: 1258 | F17: =SUM(E17/D17) -> 1 | G17: Városfejlesztési Biz., József A. Városrészi Önk. (beszámolás)
B18: Dologi kiadások
A19: 5014 | B19: Faültetés | C19: 71502 | D19: 71502 | E19: 71502 | F19: =SUM(E19/D19) -> 1 | G19: Városfejlesztési Biz., József A. Városrészi Önk. (beszámolás)
A20: 5015 | B20: Kerékpáros infr. tervezés, kiépítés, fejlesztés, okosbicikli tárolók | C20: 16192 | D20: 16192 | E20: 16192 | F20: =SUM(E20/D20) -> 1 | G20: Városfejlesztési Biz., József A. Városrészi Önk. (beszámolás)
B21: Dologi kiadások
B22: Beruházások
A23: 5016 | B23: Közterületi takarítógépek beszerzése | C23: 60000 | D23: 60000 | E23: 60000 | F23: =SUM(E23/D23) -> 1 | G23: Városfejlesztési Bizottság
A24: 5019 | B24: Pöttyös utcai metró felszíni rendezés | C24: 30508 | D24: 30508 | E24: 30508 | F24: =SUM(E24/D24) -> 1
B25: Dologi kiadások
B26: Beruházások
A27: 5010 | B27: Összesen: | C27: =SUM(C11:C26) -> 533530 | D27: =SUM(D11:D26) -> 533530 | E27: =SUM(E11:E26) -> 533530 | F27: =SUM(E27/D27) -> 1
B28: Önkormányzati vagyonnal való gazdálkodás
A29: 5023 | B29: Ecseri úti metró megálló felszíni rendezése | C29: 916601 | D29: 916601 | E29: 916601 | F29: =SUM(E29/D29) -> 1
B30: Dologi kiadások
B31: Beruházások
A32: 5026 | B32: Új önkormányzati bérház építés-tervezés | C32: 150000 | D32: 150000 | E32: 150000
A33: 5020 | B33: Összesen: | C33: =+C29+C32 -> 1066601 | D33: =+D29+D32 -> 1066601 | E33: =+E29+E32 -> 1066601 | F33: =SUM(E33/D33) -> 1
B34: Közrend, közbiztonság
A35: 5033 | B35: Térfigyelő rendszer fejlesztése | C35: 73302 | D35: 73302 | E35: 73302 | F35: =SUM(E35/D35) -> 1 | G35: Városfejlesztési Biz., József A. Városrészi Önk.
B36: Dologi kiadások
B37: Beruházások
A38: 5034 | B38: Okososzlop telepítése | E38: 10000
A39: 5030 | B39: Összesen: | C39: =SUM(C35) -> 73302 | D39: =SUM(D35) -> 73302 | E39: =SUM(E38,E35) -> 83302 | F39: =SUM(E39/D39) -> 1.1364219
B40: Egészségügy, szoc.,szabadidő, sport, kultúra, oktatás, vallás
A41: 5051 | B41: Egészséges utcák - Viola utca | C41: 69767 | D41: 69767 | E41: 69767 | F41: =SUM(E41/D41) -> 1
A42: 5052 | B42: Egészséges utcák - Sobieski utca | C42: 62704 | D42: 62704 | E42: 62704 | F42: =SUM(E42/D42) -> 1
...

Sheet 6.mell. 
A1: 6.melléklet
A3: Az önkormányzat költségvetésében szereplő 2026. évi tartalékok
E6: (eFt-ban)
A7: Sorsz. | B7: Megnevezés | C7: 2026. évi előirányzat 2/2026. | D7: 2026. évi előirányzat 5/2026. | E7: 2026. évi előirányzat ../2026.
A10: 1. | B10: 2. | C10: 3. | D10: 4. | E10: 5.
A12: 6110 | B12: Általános tartalék - egyéb működési célú kiadás | C12: 350000 | D12: 350000 | E12: =350000+427404+816776-749324-10000-6780-100000-296208 -> 431868
A14: 6120 | B14: Céltartalék - egyéb működés célú kiadás | C14: =SUM(C16+C20) -> 609413 | D14: =SUM(D16+D20) -> 609413 | E14: =SUM(E16+E20) -> 609413
B16: ebből: Működési célú céltartalék | C16: =SUM(C17) -> 0 | D16: =SUM(D17) -> 0 | E16: =SUM(E17) -> 0
B20: ebből: Felhalmozási célú céltartalék | C20: =SUM(C21:C25) -> 609413 | D20: =SUM(D21:D25) -> 609413 | E20: =SUM(E21:E25) -> 609413
A21: 6135 | B21: Parkoló Alap
A22: 6141 | B22: AVICO Riverbay telekátalkítási megállapodás
A23: 6142 | B23: Fejlesztési céltartalék | C23: 409413 | D23: 409413 | E23: 409413
A24: 6143 | B24: Lónyay Property célbefizetés | C24: 200000 | D24: 200000 | E24: 200000
A26: 6100 | B26: Mindösszesen | C26: =SUM(C16+C20+C12) -> 959413 | D26: =SUM(D16+D20+D12) -> 959413 | E26: =SUM(E16+E20+E12) -> 1041281

Sheet 7.mell.
B1: 7. melléklet
B3: Többéves kihatással járó kötelezettségek
B5: További kötelezettségek | H5: (eFt-ban)
B7: Megnevezés | D7: 2026 | E7: 2027 | F7: 2028 | G7: 2029 | H7: 2030
B8: VIII. kerület Józsefváros Önkormányzata ellátási szerződés | D8: 5000 | E8: 5250 | F8: 5407.5 | G8: 5569.725 | H8: 5736.8168
B9: Küldetés Egyesület ellátási szerződés | D9: 880 | E9: 924 | F9: 951.72 | G9: 980.2716 | H9: 1009.6797
B10: Utcai Szociális Munka – Menhely Alapítvány | D10: 1540 | E10: 1617 | F10: 1665.51 | G10: 1715.4753 | H10: 1766.9396
B11: Támogató Szolgálat – Motiváció Mozgássérülteket Segítő Alapítvány | D11: 300 | E11: 315 | F11: 324.45 | G11: 334.1835 | H11: 344.209
B12: Férőhely fenntartási díj Magyar Vöröskereszt | D12: 4633 | E12: 4864.65 | F12: 5010.5895 | G12: 5160.9072 | H12: 5315.7344
B13: Pszichiátriai betegek nappali ellátása Moravcsik Alapítvány | D13: 9600 | E13: 10080 | F13: 10382.4 | G13: 10693.872 | H13: 11014.688
B14: Fogyatékos személyek nappali ellátása Gond-Viselés Kht. | D14: 2756 | E14: 2893.8 | F14: 2980.614 | G14: 3070.0324 | H14: 3162.1334
B15: Kék Pont Drogkonzultációs Központ és Drogambulancia Alapítvány | D15: 3000 | E15: 3150 | F15: 3244.5 | G15: 3341.835 | H15: 3442.0901
B16: SOS Krízis Alapítvány | D16: 1500 | E16: 1575 | F16: 1622.25 | G16: 1670.9175 | H16: 1721.045
B17: Fogyatékos személyek nappali ellátása (gyermekek) Újbuda Önkrom. | D17: 9000 | E17: 9450 | F17: 9733.5 | G17: 10025.505 | H17: 10326.27
B18: Kifli, túró rudi, tej beszerzés iskolák részére | D18: 25000 | E18: 26250 | F18: 27037.5 | G18: 27848.625 | H18: 28684.084
B19: Fővárosi Szabó Ervin könyvtár | D19: 1000 | E19: 1000 | F19: 1000 | G19: 1000 | H19: 1000
B20: Konkáv Köztes Átmenetek Nonprofit Kft. | D20: 15000 | E20: 15000 | F20: 15000
B21: Jelzőrendszeres házi segítségnyújtás | D21: 5000 | E21: 4000
B22: Forti Core Switchek (2026-ban premium support) | D22: 660 | E22: 670 | F22: 690 | G22: 710 | H22: 710
B23: Anydesk licencek | D23: 601 | E23: 650 | F23: 700 | G23: 750 | H23: 750
B24: C1 cafetéria rendszer | D24: 1016 | E24: 2000 | F24: 2000 | G24: 2000 | H24: 2000
B25: Céginfó online szolgáltatás | D25: 1300 | E25: 1300 | F25: 1300 | G25: 1300 | H25: 1300
B26: CT-Ecostat rendszertámogatás | D26: 6096 | E26: 3150 | F26: 3150 | G26: 0 | H26: 0
B27: Végpontvédelem biztosítása | D27: 4623 | E27: 4700 | F27: 4800 | G27: 4900 | H27: 4900
B28: Tűzfalak licencelése | D28: 6200 | E28: 0 | F28: 0 | G28: 6400 | H28: 6400
B29: Honlap készítés www.ferencvaros.hu címre | D29: 3556 | E29: 4000 | F29: 4100 | G29: 4200 | H29: 4200
B30: Térinformatikai rendszer biztosítása (KAPU) | D30: 4800 | E30: 5000 | F30: 5200 | G30: 5400 | H30: 5400
B31: Mapinfo Pro szoftver előfizetés | D31: 800 | E31: 900 | F31: 1000 | G31: 1100 | H31: 1100
B32: Maxi archiváló csomag | D32: 150 | E32: 160 | F32: 170 | G32: 180 | H32: 180
B33: Microsoft 365 Business Basic előfizetés | D33: 501 | E33: 550 | F33: 600 | G33: 650 | H33: 650
... B77: Közterület-felügyeleti Iroda honlapjának üzemeltetése | D77: 800 | E77: 840 | F77: 882 | G77: 926 | H77: 972
B78: Tisztítószer beszerzés | D78: 9795 | E78: 1000
B79: Hivatali szállítás (taxi) | D79: 2500 | E79: 2300
B80: Üzemanyagkártya szerződés | D80: 12000 | E80: 12000 | F80: 12000 | G80: 12000 | H80: 12000
B81: Villamos energia | D81: 35847 | E81: 37639.35 | F81: 39521.317
B82: Gázdíj | D82: 40000 | E82: 42000 | F82: 44100
B83: Térfelügyeleti kamararendszer kameráinak karbantartása (156 db +7 db) | D83: 5800 | E83: 11592
B84: Praktiker | D84: 3000 | E84: 3000
B85: Hivatali parkolás bérlés | D85: 20360 | E85: 21072.6 | F85: 21704.778
B86: Épület és vagyon biztosítás | D86: 11218 | E86: 11778.9 | F86: 12367.845
...

Sheet 8.mell. 
A1: 8. melléklet
A3: Az Európai Unió-s forrásokkal támogatott fejlesztések tervezett 2026. évi adatairól
J6: (eFt-ban)
A7: Sorsz. | B7: Megnevezés | D7: Tervezett költségvetési adatok | I7: 2026. évi előirányzat 2/2026. | J7: 2026. évi előirányzat .../2026.
A9: 1. | B9: CLAP Gyermekek helyi ügyekben való részvétele | D9: Bevétel | E9: Támogatás államháztartáson kívülről -működési
E10: Támogatás államháztartáson kívülről -felhalmozási
D11: Kiadások | E11: Személyi juttatások | I11: 2076 | J11: 2076
E12: Munkaadókat terhelő járulékok és szocho. | I12: 270 | J12: 270
E13: Dologi kiadások | I13: 578 | J13: 578
E14: Egyéb működési célú kiadások
E15: Beruházási kiadások
E16: Felújítási kiadások
E17: ebből önkormányzati hozzájárulás
A18: 2. | B18: Egészséges utcák - TOP_PLUSZ-4.1.1-23-BP2-2024-00003 (Angyal utca) | D18: Bevétel | E18: Támogatás államháztartáson belülről -működési
E19: Támogatás államháztartáson belülről -felhalmozási | I19: 28551 | J19: 28551
D20: Kiadások | E20: Személyi juttatások
E21: Munkaadókat terhelő járulékok és szocho.
E22: Dologi kiadások
E23: Egyéb működési célú kiadások
E24: Beruházási kiadások | I24: 28551 | J24: 28551
E25: Felújítási kiadások
E26: ebből önkormányzati hozzájárulás
A27: 3. | B27: Egészséges utcák - TOP_PLUSZ-4.1.1-23-BP2-2024-00004 (Sobieski) | D27: Bevétel | E27: Támogatás államháztartáson belülről -működési
E28: Támogatás államháztartáson belülről -felhalmozási | I28: 62704 | J28: 62704
D29: Kiadások | E29: Személyi juttatások
E30: Munkaadókat terhelő járulékok és szocho.
E31: Dologi kiadások
E32: Egyéb működési célú kiadások
E33: Beruházási kiadások | I33: 62704 | J33: 62704
E34: Felújítási kiadások
E35: ebből önkormányzati hozzájárulás
A36: 4. | B36: Egészséges utcák - TOP_PLUSZ-4.1.1-23-BP2-2024-00005 (Ipar utca) | D36: Bevétel | E36: Támogatás államháztartáson belülről -működési
E37: Támogatás államháztartáson belülről -felhalmozási | I37: 52136 | J37: 52136
D38: Kiadások | E38: Személyi juttatások
E39: Munkaadókat terhelő járulékok és szocho.
E40: Dologi kiadások
E41: Egyéb működési célú kiadások
E42: Beruházási kiadások | I42: 52136 | J42: 52136
E43: Felújítási kiadások
E44: ebből önkormányzati hozzájárulás
...

Sheet 9.mell.
B2: 9. melléklet
B4: 2026. évi Polgármesteri Hivatal és Intézményi engedélyezett létszámadatok
J6: (Fő)
A7: Ssz. | B7: Intézmény megnevezése (Polgármesteri Hivatalnál Irodánként) | E7: Engedélye-zett létszám összesen 2026. év | F7: Engedélyezett létszám
F8: Szakmai létszám | H8: Egyéb létszám | J8: Közfoglalkoz-tatottak létszáma
F9: Teljes munkaidős | G9: Részmun-kaidős | H9: Teljes munkaidős | I9: Részmun-kaidős
B11: Polgármesteri Hivatal összesen
A13: 1. | B13: POLGÁRMESTERI KABINET | E13: =SUM(F13+G13+H13+I13) -> 16 | F13: 12 | H13: 4
A14: 2. | B14: JEGYZŐ | E14: =SUM(F14+G14+H14+I14) -> 1 | F14: 1
A15: 3. | B15: ALJEGYZŐK | E15: =SUM(F15+G15+H15+I15) -> 2 | F15: 2
A16: 4. | B16: JEGYZŐI KABINET | E16: =SUM(F16+G16+H16+I16) -> 72.5 | F16: 48 | G16: 2.6 | H16: 20 | I16: 1.9
A17: 5. | B17: FŐÉPÍTÉSZI CSOPORT | E17: =SUM(F17+G17+H17+I17) -> 7 | F17: 7
A18: 6. | B18: GAZDASÁGI IRODA | E18: =SUM(F18+G18+H18+I18) -> 30 | F18: 27 | G18: 1 | H18: 2
A19: 7. | B19: HATÓSÁGI IRODA | E19: =SUM(F19+G19+H19+I19) -> 60 | F19: 53 | G19: 3 | H19: 4
A20: 8. | B20: HUMÁNSZOLGÁLTATÁSI IRODA | E20: =SUM(F20+G20+H20+I20) -> 21 | F20: 19 | G20: 1 | H20: 1
A21: 9. | B21: VAGYONGAZDÁLKODÁSI IRODA | E21: =SUM(F21+G21+H21+I21) -> 21 | F21: 20 | G21: 1
A22: 10. | B22: VÁROSÜZEMELTETÉSI IRODA | E22: =SUM(F22+G22+H22+I22) -> 18 | F22: 18
A23: 11. | B23: KÖZTERÜLET-FELÜGYELET | E23: =SUM(F23+G23+H23+I23) -> 55 | F23: 44 | H23: 11
B24: Mindösszesen | E24: =SUM(E13:E23) -> 303.5 | F24: =SUM(F13:F23) -> 251 | G24: =SUM(G13:G23) -> 8.6 | H24: =SUM(H13:H23) -> 42 | I24: =SUM(I13:I23) -> 1.9
A27: 15. | B27: Csicsergő Óvoda | E27: =F27+G27+H27+I27 -> 32 | F27: 32
A29: 16. | B29: Csudafa Óvoda | E29: =F29+G29+H29+I29 -> 31 | F29: 31
A31: 17. | B31: Epres Óvoda | E31: =F31+G31+H31+I31 -> 16 | F31: 16
A33: 18. | B33: Kerekerdő Óvoda | E33: =F33+G33+H33+I33 -> 69 | F33: 69
A35: 19. | B35: Kicsi Bocs Óvoda | E35: =F35+G35+H35+I35 -> 32 | F35: 32
A37: 20. | B37: Liliom Óvoda | E37: =F37+G37+H37+I37 -> 25 | F37: 25
A39: 21. | B39: Méhecske Óvoda | E39: =F39+G39+H39+I39 -> 16 | F39: 16
A41: 22. | B41: Napfény Óvoda | E41: =F41+G41+H41+I41 -> 17 | F41: 17
A43: 23. | B43: Ugrifüles Óvoda | E43: =F43+G43+H43+I43 -> 16 | F43: 16
A45: 24. | B45: Ferencvárosi Intézmény Üzemeltetés Központ | E45: =F45+G45+H45+I45 -> 166 | F45: 166
A47: 25. | B47: Ferencvárosi Egyesített Bölcsödék | E47: =F47+G47+H47+I47 -> 117 | F47: 69 | G47: 1 | H47: 47
A49: 26. | B49: FESZGYI | E49: =F49+G49+H49+I49 -> 158 | F49: 134 | H49: 24
A51: 27. | B51: FMK | E51: =F51+G51+H51+I51 -> 27 | F51: 27
A53: 28. | B53: Pinceszínház | E53: =F53+G53+H53+I53 -> 15 | F53: 15
A55: 29. | B55: Ferencvárosi Médiaszolgáltató | E55: 12 | F55: 12
A57: 30. | B57: Ferencvárosi Egészségügyi Szolgálat | E57: 243 | F57: 114 | G57: 95 | H57: 24 | I57: 10
B59: Köznevelési, szociális, kulturális, egészségügyi intézmények összesen | E59: =SUM(E27:E58) -> 992 | F59: =SUM(F27:F58) -> 791 | G59: =SUM(G27:G58) -> 96 | H59: =SUM(H27:H58) -> 95 | I59: =SUM(I27:I58) -> 10
B61: Mindösszesen: | E61: =SUM(E59+E24) -> 1295.5 | F61: =SUM(F59+F24) -> 1042 | G61: =SUM(G59+G24) -> 104.6 | H61: =SUM(H59+H24) -> 137 | I61: =SUM(I59+I24) -> 11.9 | J61: =SUM(J59+J24) -> 0

Sheet 10.mell 
A2: 10. melléklet
A3: 2026. évi közvetett támogatások
I7: (eFt-ban)
A8: Sorsz. | B8: A támogatás jellege | F8: Adókedvezmény | H8: Egyéb kedvezmény
F9: jogcím | G9: összeg | H9: jogcím | I9: összeg
A10: 1. | B10: Építményadó | F10: elengedés | G10: 200 | H10: részletfizetés | I10: 550000
A11: 2. | B11: Telekadó | F11: elengedés | G11: 150 | H11: részletfizetés | I11: 100000
A12: 3. | B12: Ellátottak térítési díja gyermekétkeztetés | H12: méltányosság | I12: 100
A13: 4. | B13: Ellátottak térítési díja személyes gondoskodás | H13: méltányosság | I13: 8500
A14: 5. | B14: Helyiség bérleti díj (nettó) | H14: közérdekű bérbeadás | I14: 126905

Sheet 11.mell
A3: 11. melléklet
B4: A helyi önkormányzat kötelező feladatai ellátásának költségvetési forrásai és kiadásai
A5: 2026. év
N7: (eFt-ban)
B8: Kötelező feladatok (Mötv. 23. § (5) bekezdés alapján) | C8: 2026. évi előirányzat …./2026. | D8: Költségvetési bevételi előirányzat | E8: Önkormányzatok működési támogatása, elvonások és befizetések | F8: Közhatalmi bevételek | G8: Saját bevétel | H8: Támogatás Áht-n belülről | J8: Átvett pénzeszköz | L8: Előző évi mar. igénybev. | M8: Felhalm. Bev. | N8: Hitelfel- vétel, kölcsön visszat. , tévi megel. Visszaf.
G9: Működési bevételek | H9: Műk. Célú | I9: Felhal. Célú | J9: Műk. Célú | K9: Felhalm. Célú
A10: 1. | B10: Helyi közutak, közterek és parkok kezelése, fejlesztése és üzemeltetése | C10: =SUM(C11:C40) -> 3782340 | D10: =SUM(E10:N10) -> 3782340 | E10: 981006 | F10: 289065 | G10: 249901 | L10: =SUM(L11:L40) -> 280949 | M10: 200000 | N10: 1781419
B11: 3054 Kerületi növényvédelem | C11: ='3 mell. 2. pont'!E19 -> 20000
B12: 3056 Közterületüzemeltetési egyéb feladatok | C12: ='3 mell. 2. pont'!E29 -> 31163 | L12: 6163
B13: 3057 Fasorfenntartás | C13: ='3 mell. 2. pont'!E39 -> 284510 | L13: 144510
B14: 3058 Erdőgazdálkodás | C14: ='3 mell. 2. pont'!E49 -> 19438 | L14: 11843
B15: 3061 Közutak üzemeltetése | C15: ='3 mell. 2. pont'!E70 -> 6279 | L15: 3279
B16: 3071 Köztisztasági feladatok | C16: ='3 mell. 2. pont'!E80 -> 50746 | L16: 18341
B17: 3112 Játszóterek karbantartása | C17: ='3 mell. 2. pont'!E113 -> 75000 | L17: 37135
B18: 3205 Környezetvédelem | C18: ='3 mell. 2. pont'!E319 -> 117576 | L18: 25682
B19: 3216 FESZOFE Nonprofit Kft | C19: ='3 mell. 2. pont'!E404 -> 437833 | L19: 33996
B20: 4010 Ifjúmunkás utca 28-30 Sportpályák felújítása | C20: =SUM('4.mell.'!E10) -> 0
B21: 4012 Haller park | C21: ='4.mell.'!E11 -> 230000
B22: 4014 Játszóterek, műfüves és sportpályák, fitness eszközök, zöldf.felúj., | C22: ='4.mell.'!E12 -> 197932
B23: 4016 Thaly passzázs közvilágítás | C23: ='4.mell.'!E14 -> 10000
B24: 4018 Utak javítása, felújítása | C24: ='4.mell.'!E15 -> 300000
B25: 4019 Járdák felújítása | C25: ='4.mell.'!E16 -> 120000
B26: 4021 Egyéb közterületek felújítása, fejlesztése | C26: ='4.mell.'!E17 -> 204732
B27: 4022 kutyafuttatóf felújítása | C27: =SUM('4.mell.'!E21) -> 20000
B28: 4023 Lónyay u. 26 buszmegálló felújítása | C28: ='4.mell.'!E22 -> 17000
B29: 5005 Közlekedésbiztonsági fejlesztés | C29: ='5.mell. '!E13 -> 51179
B30: 5002 Ifjúmunkás utca 32. Fitnesz park | C30: ='5.mell. '!E11 -> 24607
B31: 5004 MÁV csatornázás | C31: ='5.mell. '!E12 -> 50000
B32: 5012 Belső-Ferencváros akadálymentesítés | C32: =SUM('5.mell. '!E16) -> 208284
B33: 5013 Zöldfelületi kataszter, fakataszter elkészítése | C33: ='5.mell. '!E17 -> 1258
B34: 5014 Faültetés | C34: ='5.mell. '!E19 -> 71502
B35: 5015 Kerékpáros infrastruktúra tervezés, kiépítés, fejlesztés | C35: ='5.mell. '!E20 -> 16192
B36: 5016 Közterületi takarítógépek beszerzése | C36: =SUM('5.mell. '!E23) -> 60000
B37: 5019 Pöttyös utca metrófelszín | C37: ='5.mell. '!E24 -> 30508
B38: 5023 Ecseri úti metró megálló felszíni rendezés | C38: ='5.mell. '!E29 -> 916601
B39: 5034 Okososzlop telepítése | C39: 10000
B40: 6143 Lónyay Property | C40: ='6.mell. '!E24 -> 200000
A41: 2. | B41: Közterületek használatára vonatkozó szabályok és díjak megáll. | C41: =SUM(C42:C44) -> 451759 | D41: =SUM(E41:N41) -> 451759 | F41: 224745 | K41: 15000 | L41: =SUM(L42:L44) -> 212014
B42: 3911 Társasházak támogatása | C42: ='3 mell 3. pont'!E10 -> 27053 | L42: 53
B43: 3927 Faültetés támogatása | C43: ='3 mell 3. pont'!E18 -> 5000
...

Sheet 12.mell
A1: 12. melléklet
B2: A helyi önkormányzat önként vállalt feladatai ellátásának költségvetési forrásai és kiadásai
B3: 2026. év
M4: (eFt-ban)
B5: Önként vállalt feladatok | C5: 2026. évi előirányzat …./2026. | D5: Költségvetési bevételi előirányzat | E5: Közhatalmi bevételek | F5: Működési bevételek | G5: Támogatás Áht-n belülről | I5: Átvett pénzeszköz | K5: Előző évi marad. Igénybev. | L5: Felhalmozási bevételek | M5: Kölcsön visszatérülés/Működ.finansz. Bevétel
G6: Működési célú | H6: Felhalmozási célú | I6: Működési célú | J6: Felhalmozási célú
A7: 2986 | B7: Ferencvárosi Pinceszínház | C7: ='2.mell'!E656 -> 295715 | D7: =SUM(E7:M7) -> 295715 | E7: 241279 | F7: 40560 | K7: 13876
A8: 2975 | B8: Ferencvárosi Intézményüzemeltetési Központ | C8: 186092 | D8: =SUM(E8:M8) -> 186092 | E8: 144182 | F8: 41910
A9: 2850 | B9: Ferencvárosi Egyesített Bölcsöde | C9: 7970 | D9: =SUM(E9:M9) -> 7970 | F9: 7970
A10: 2987 | B10: Ferencvárosi Egészségügyi Szolgálat | C10: 2929020 | D10: =SUM(E10:M10) -> 2929020 | E10: 879800 | F10: 89992 | G10: 1959228
A11: 2988 | B11: Ferencvárosi Médiaszolgáltató | C11: =SUM('2.mell'!E693) -> 169131 | D11: =SUM(E11:M11) -> 169131 | F11: 169131
A12: 3011 | B12: Balatonszéplaki Üdülő | C12: ='3 mell 1. pont'!E18 -> 51390 | D12: =SUM(E12:M12) -> 51390 | F12: 47250 | K12: 4140
A13: 3059 | B13: Ferencvárosi Klímastratégia végrehatása | C13: ='3 mell. 2. pont'!E59 -> 61486 | D13: =SUM(E13:M13) -> 61486 | F13: 50000 | K13: 11486
A14: 3141 | B14: Oktatási támogatás | C14: ='3 mell. 2. pont'!E205 -> 17000 | D14: =SUM(E14:M14) -> 17000 | F14: 17000
A15: 3148 | B15: Diákok látogatása Holocaust emlékközpontban | C15: ='3 mell. 2. pont'!E265 -> 1984 | D15: =SUM(E15:M15) -> 1984 | F15: 1000 | K15: 984
A16: 3204 | B16: Térfigyelő rendszer karbantartásának, üzemeltetése | C16: ='3 mell. 2. pont'!E309 -> 45321 | D16: =SUM(E16:M16) -> 45321 | F16: 35000 | K16: 10321
A17: 3206 | B17: Részvételi költségvetés | C17: ='3 mell. 2. pont'!E329 -> 22482 | D17: =SUM(E17:M17) -> 22482 | F17: 20000 | K17: 2482
A18: 3207 | B18: Ferenc busz működtetése | C18: ='3 mell. 2. pont'!E339 -> 43698 | D18: =SUM(E18:M18) -> 43698 | F18: 43575 | K18: 123
A19: 3209 | B19: Polgármesteri tisztséggel összefüggő egyéb feladatok | C19: ='3 mell. 2. pont'!E359 -> 5000 | D19: =SUM(E19:M19) -> 5000 | F19: 5000
A20: 3217 | B20: Médiacég | C20: ='3 mell. 2. pont'!E416 -> 104427 | D20: =SUM(E20:M20) -> 104427 | F20: 88900 | K20: 15527
A21: 3221 | B21: CLAP Gyermekek helyi ügyekben való részvétele | C21: ='3 mell. 2. pont'!E434 -> 2924 | D21: =SUM(E21:M21) -> 2924 | F21: 2924
A22: 3227 | B22: NEXT LEVEL Parking pályázat | C22: ='3 mell. 2. pont'!E454 -> 21029 | D22: =SUM(E22:M22) -> 21029 | F22: 2425 | I22: 13775 | K22: 4829
A23: 3228 | B23: Fedett, zárható kerékpártárolók társasházak, lakótelepek környékén | C23: ='3 mell. 2. pont'!E464 -> 1016 | D23: =SUM(E23:M23) -> 1016 | F23: 1016
A24: 3230 | B24: DPT 2025-6 Drogos pályázat | C24: =SUM('3 mell. 2. pont'!E484) -> 2583 | D24: =SUM(E24:M24) -> 2583 | K24: 2583
A25: 3231 | B25: Testvértelepülési programok támogatása | C25: =SUM('3 mell. 2. pont'!E494) -> 1400 | D25: =SUM(E25:M25) -> 1400 | K25: 1400
A26: 3304 | B26: Krízis Alap-ból kifizetés | C26: ='3 mell. 2. pont'!E515 -> 0 | D26: =SUM(E26:M26) -> 0 | F26: 0
A27: 3306 | B27: Gyermeknevelési támogatás | C27: ='3 mell. 2. pont'!E525 -> 40005 | D27: =SUM(E27:M27) -> 40005 | F27: 40000 | K27: 5
A28: 3307 | B28: Védőoltás támogatása | C28: ='3 mell. 2. pont'!E535 -> 2500 | D28: =SUM(E28:M28) -> 2500 | F28: 2500
A29: 3308 | B29: CT vizsgálat | C29: ='3 mell. 2. pont'!E545 -> 16791 | D29: =SUM(E29:M29) -> 16791 | F29: 10000 | K29: 6791
A30: 3309 | B30: Lakhatáshoz kapcsolódó rendkívüli támogatás | C30: 0 | D30: =SUM(E30:M30) -> 0 | F30: 0
A31: 3313 | B31: Jövedelempótló rendszeres támogatás | C31: ='3 mell. 2. pont'!E585 -> 13075 | D31: =SUM(E31:M31) -> 13075 | F31: 13000 | K31: 75
A32: 3323 | B32: Születési és életkezdési támogatás | C32: =SUM('3 mell. 2. pont'!E615) -> 12000 | D32: =SUM(E32:M32) -> 12000 | F32: 12000
A33: 3325 | B33: Ferencvárosi 65+ támogatás | C33: ='3 mell. 2. pont'!E625 -> 10000 | D33: =SUM(E33:M33) -> 10000 | F33: 10000
A34: 3340 | B34: Jelzőrendszeres házi segítségnyújtás | C34: ='3 mell. 2. pont'!E635 -> 11983 | D34: =SUM(E34:M34) -> 11983 | F34: 9000 | K34: 2983
A35: 3352 | B35: Kifli, túró rudi, tej beszerzés | C35: ='3 mell. 2. pont'!E745 -> 38469 | D35: =SUM(E35:M35) -> 38469 | F35: 25000 | K35: 13469
A36: 3343 | B36: ÉFOÉSZ ellátási szerződés | C36: ='3 mell. 2. pont'!E665 -> 13500 | D36: =SUM(E36:M36) -> 13500 | F36: 13500
A37: 3353 | B37: SOS Krízis Alapítvány | C37: ='3 mell. 2. pont'!E755 -> 2912 | D37: =SUM(E37:M37) -> 2912 | F37: 1500 | K37: 1412
A38: 3355 | B38: Idősügyi Koncepció | C38: ='3 mell. 2. pont'!E765 -> 34730 | D38: =SUM(E38:M38) -> 34730 | F38: 25000 | K38: 9730
A39: 3356 | B39: Közfoglalkoztatottak pályázat támogatásának önrésze, kapcsolódó egyéb kiadások támogatása | C39: 0 | D39: =SUM(E39:M39) -> 0
A40: 3411 | B40: Jégpálya - BP együttműködés | C40: ='3 mell. 2. pont'!E787 -> 25000 | D40: =SUM(E40:M40) -> 25000 | F40: 25000
...

Sheet 13.mell
B3: 13. melléklet
B4: A helyi önkormányzat államigazgatási feladatai
B5: 2026. év
G7: (eFt-ban)
B8: Államigazgatási feladatok (Mötv. 18. § alapján) | C8: 2026. évi előirányzat .../2026. | D8: Költségvetési bevételi előirányzat | E8: A helyi önkormányzatok, helyi nemzetiségi önkormányzatok általános működéséhez és ágazati feladataihoz kapcsolódó támogatások | F8: A központi költségvetésből származó egyéb költségvetési támogatások | G8: Közhatalmi bevétel
B10: 3021 Polgármesteri Hivatal Igazgatási kiadásai 23 fő | C10: 789860 | D10: 789860 | G10: 789860
B12: Mindösszesen | C12: =SUM(C10:C11) -> 789860 | D12: =SUM(D10:D11) -> 789860 | E12: =SUM(E10:E11) -> 0 | G12: =SUM(G10:G11) -> 789860

Sheet 14.mell
A1: 14. melléklet
A2: 2026. évi előirányzat felhasználási ütemterv
O3: (eFt-ban)
A4: Megnevezés | C4: I. | D4: II. | E4: III. | F4: IV. | G4: V. | H4: VI. | I4: VII. | J4: VIII. | K4: IX. | L4: X. | M4: XI. | N4: XII. | O4: Összesen
A5: Bevételek
